BEGIN:VCALENDAR
VERSION:2.0
PRODID:-//Balsam Lake Lodge - ECPv6.15.20//NONSGML v1.0//EN
CALSCALE:GREGORIAN
METHOD:PUBLISH
X-WR-CALNAME:Balsam Lake Lodge
X-ORIGINAL-URL:https://balsamlakelodge.com
X-WR-CALDESC:Events for Balsam Lake Lodge
REFRESH-INTERVAL;VALUE=DURATION:PT1H
X-Robots-Tag:noindex
X-PUBLISHED-TTL:PT1H
BEGIN:VTIMEZONE
TZID:America/Chicago
BEGIN:DAYLIGHT
TZOFFSETFROM:-0600
TZOFFSETTO:-0500
TZNAME:CDT
DTSTART:20240310T080000
END:DAYLIGHT
BEGIN:STANDARD
TZOFFSETFROM:-0500
TZOFFSETTO:-0600
TZNAME:CST
DTSTART:20241103T070000
END:STANDARD
BEGIN:DAYLIGHT
TZOFFSETFROM:-0600
TZOFFSETTO:-0500
TZNAME:CDT
DTSTART:20250309T080000
END:DAYLIGHT
BEGIN:STANDARD
TZOFFSETFROM:-0500
TZOFFSETTO:-0600
TZNAME:CST
DTSTART:20251102T070000
END:STANDARD
BEGIN:DAYLIGHT
TZOFFSETFROM:-0600
TZOFFSETTO:-0500
TZNAME:CDT
DTSTART:20260308T080000
END:DAYLIGHT
BEGIN:STANDARD
TZOFFSETFROM:-0500
TZOFFSETTO:-0600
TZNAME:CST
DTSTART:20261101T070000
END:STANDARD
END:VTIMEZONE
BEGIN:VEVENT
DTSTART;TZID=America/Chicago:20250825T180000
DTEND;TZID=America/Chicago:20250825T200000
DTSTAMP:20260419T184252
CREATED:20250311T172607Z
LAST-MODIFIED:20250311T172607Z
UID:10004408-1756144800-1756152000@balsamlakelodge.com
SUMMARY:Monday Night Bingo
DESCRIPTION:
URL:https://balsamlakelodge.com/events-2/monday-night-bingo/2025-08-25/
LOCATION:Balsam Lake Lodge Event Venue\, 264 Cty Rd I\, Balsam Lake\, WI\, 54810\, United States
CATEGORIES:Bingo
END:VEVENT
BEGIN:VEVENT
DTSTART;TZID=America/Chicago:20250824T180000
DTEND;TZID=America/Chicago:20250824T200000
DTSTAMP:20260419T184252
CREATED:20250801T124018Z
LAST-MODIFIED:20250807T150813Z
UID:10004740-1756058400-1756065600@balsamlakelodge.com
SUMMARY:Beer Pairing Dinner
DESCRIPTION:Book Your Beer Pairing Dinner with Surly Event With Balsam Lake Lodge & Restaurant on Resy
URL:https://balsamlakelodge.com/events-2/beer-pairing-dinner/
LOCATION:Balsam Lake Lodge Event Venue\, 264 Cty Rd I\, Balsam Lake\, WI\, 54810\, United States
END:VEVENT
BEGIN:VEVENT
DTSTART;TZID=America/Chicago:20250824T080000
DTEND;TZID=America/Chicago:20250824T113000
DTSTAMP:20260419T184252
CREATED:20250407T141743Z
LAST-MODIFIED:20250407T141745Z
UID:10001366-1756022400-1756035000@balsamlakelodge.com
SUMMARY:Breakfast & Bloody Mary Bar
DESCRIPTION:
URL:https://balsamlakelodge.com/events-2/breakfast-bloody-mary-bar-2-2/2025-08-24/
LOCATION:Balsam Lake Lodge Event Venue\, 264 Cty Rd I\, Balsam Lake\, WI\, 54810\, United States
END:VEVENT
BEGIN:VEVENT
DTSTART;TZID=America/Chicago:20250823T080000
DTEND;TZID=America/Chicago:20250823T113000
DTSTAMP:20260419T184252
CREATED:20250407T141743Z
LAST-MODIFIED:20250407T141745Z
UID:10001365-1755936000-1755948600@balsamlakelodge.com
SUMMARY:Breakfast & Bloody Mary Bar
DESCRIPTION:
URL:https://balsamlakelodge.com/events-2/breakfast-bloody-mary-bar-2-2/2025-08-23/
LOCATION:Balsam Lake Lodge Event Venue\, 264 Cty Rd I\, Balsam Lake\, WI\, 54810\, United States
END:VEVENT
BEGIN:VEVENT
DTSTART;TZID=America/Chicago:20250822T190000
DTEND;TZID=America/Chicago:20250822T220000
DTSTAMP:20260419T184252
CREATED:20250424T222416Z
LAST-MODIFIED:20250425T231828Z
UID:10004729-1755889200-1755900000@balsamlakelodge.com
SUMMARY:Live Music Fridays -Hofft\, 7–10 PM
DESCRIPTION:
URL:https://balsamlakelodge.com/events-2/hofft-7-10pm/
LOCATION:Balsam Lake Lodge Event Venue\, 264 Cty Rd I\, Balsam Lake\, WI\, 54810\, United States
END:VEVENT
BEGIN:VEVENT
DTSTART;TZID=America/Chicago:20250818T180000
DTEND;TZID=America/Chicago:20250818T200000
DTSTAMP:20260419T184252
CREATED:20250311T172607Z
LAST-MODIFIED:20250311T172607Z
UID:10004407-1755540000-1755547200@balsamlakelodge.com
SUMMARY:Monday Night Bingo
DESCRIPTION:
URL:https://balsamlakelodge.com/events-2/monday-night-bingo/2025-08-18/
LOCATION:Balsam Lake Lodge Event Venue\, 264 Cty Rd I\, Balsam Lake\, WI\, 54810\, United States
CATEGORIES:Bingo
END:VEVENT
BEGIN:VEVENT
DTSTART;TZID=America/Chicago:20250817T080000
DTEND;TZID=America/Chicago:20250817T113000
DTSTAMP:20260419T184252
CREATED:20250407T141743Z
LAST-MODIFIED:20250407T141745Z
UID:10001364-1755417600-1755430200@balsamlakelodge.com
SUMMARY:Breakfast & Bloody Mary Bar
DESCRIPTION:
URL:https://balsamlakelodge.com/events-2/breakfast-bloody-mary-bar-2-2/2025-08-17/
LOCATION:Balsam Lake Lodge Event Venue\, 264 Cty Rd I\, Balsam Lake\, WI\, 54810\, United States
END:VEVENT
BEGIN:VEVENT
DTSTART;TZID=America/Chicago:20250816T080000
DTEND;TZID=America/Chicago:20250816T113000
DTSTAMP:20260419T184252
CREATED:20250407T141743Z
LAST-MODIFIED:20250407T141745Z
UID:10001363-1755331200-1755343800@balsamlakelodge.com
SUMMARY:Breakfast & Bloody Mary Bar
DESCRIPTION:
URL:https://balsamlakelodge.com/events-2/breakfast-bloody-mary-bar-2-2/2025-08-16/
LOCATION:Balsam Lake Lodge Event Venue\, 264 Cty Rd I\, Balsam Lake\, WI\, 54810\, United States
END:VEVENT
BEGIN:VEVENT
DTSTART;TZID=America/Chicago:20250815T190000
DTEND;TZID=America/Chicago:20250815T220000
DTSTAMP:20260419T184252
CREATED:20250424T222336Z
LAST-MODIFIED:20250616T133943Z
UID:10004728-1755284400-1755295200@balsamlakelodge.com
SUMMARY:Live Music Fridays -Austin Hamack\, 7–10 PM
DESCRIPTION:
URL:https://balsamlakelodge.com/events-2/austin-hamack-7-10pm/
LOCATION:Balsam Lake Lodge Event Venue\, 264 Cty Rd I\, Balsam Lake\, WI\, 54810\, United States
END:VEVENT
BEGIN:VEVENT
DTSTART;TZID=America/Chicago:20250811T180000
DTEND;TZID=America/Chicago:20250811T200000
DTSTAMP:20260419T184252
CREATED:20250311T172607Z
LAST-MODIFIED:20250311T172607Z
UID:10004406-1754935200-1754942400@balsamlakelodge.com
SUMMARY:Monday Night Bingo
DESCRIPTION:
URL:https://balsamlakelodge.com/events-2/monday-night-bingo/2025-08-11/
LOCATION:Balsam Lake Lodge Event Venue\, 264 Cty Rd I\, Balsam Lake\, WI\, 54810\, United States
CATEGORIES:Bingo
END:VEVENT
BEGIN:VEVENT
DTSTART;TZID=America/Chicago:20250810T080000
DTEND;TZID=America/Chicago:20250810T113000
DTSTAMP:20260419T184252
CREATED:20250407T141743Z
LAST-MODIFIED:20250407T141745Z
UID:10001362-1754812800-1754825400@balsamlakelodge.com
SUMMARY:Breakfast & Bloody Mary Bar
DESCRIPTION:
URL:https://balsamlakelodge.com/events-2/breakfast-bloody-mary-bar-2-2/2025-08-10/
LOCATION:Balsam Lake Lodge Event Venue\, 264 Cty Rd I\, Balsam Lake\, WI\, 54810\, United States
END:VEVENT
BEGIN:VEVENT
DTSTART;TZID=America/Chicago:20250809T080000
DTEND;TZID=America/Chicago:20250809T113000
DTSTAMP:20260419T184252
CREATED:20250407T141743Z
LAST-MODIFIED:20250407T141745Z
UID:10001361-1754726400-1754739000@balsamlakelodge.com
SUMMARY:Breakfast & Bloody Mary Bar
DESCRIPTION:
URL:https://balsamlakelodge.com/events-2/breakfast-bloody-mary-bar-2-2/2025-08-09/
LOCATION:Balsam Lake Lodge Event Venue\, 264 Cty Rd I\, Balsam Lake\, WI\, 54810\, United States
END:VEVENT
BEGIN:VEVENT
DTSTART;TZID=America/Chicago:20250808T190000
DTEND;TZID=America/Chicago:20250808T220000
DTSTAMP:20260419T184252
CREATED:20250424T222301Z
LAST-MODIFIED:20250425T231812Z
UID:10004727-1754679600-1754690400@balsamlakelodge.com
SUMMARY:Live Music Fridays -Web and Jay\, 7–10 PM
DESCRIPTION:
URL:https://balsamlakelodge.com/events-2/web-and-jay-7-10pm/
LOCATION:Balsam Lake Lodge Event Venue\, 264 Cty Rd I\, Balsam Lake\, WI\, 54810\, United States
END:VEVENT
BEGIN:VEVENT
DTSTART;TZID=America/Chicago:20250804T180000
DTEND;TZID=America/Chicago:20250804T200000
DTSTAMP:20260419T184252
CREATED:20250311T172607Z
LAST-MODIFIED:20250311T172607Z
UID:10004405-1754330400-1754337600@balsamlakelodge.com
SUMMARY:Monday Night Bingo
DESCRIPTION:
URL:https://balsamlakelodge.com/events-2/monday-night-bingo/2025-08-04/
LOCATION:Balsam Lake Lodge Event Venue\, 264 Cty Rd I\, Balsam Lake\, WI\, 54810\, United States
CATEGORIES:Bingo
END:VEVENT
BEGIN:VEVENT
DTSTART;TZID=America/Chicago:20250803T080000
DTEND;TZID=America/Chicago:20250803T113000
DTSTAMP:20260419T184252
CREATED:20250407T141743Z
LAST-MODIFIED:20250407T141745Z
UID:10001360-1754208000-1754220600@balsamlakelodge.com
SUMMARY:Breakfast & Bloody Mary Bar
DESCRIPTION:
URL:https://balsamlakelodge.com/events-2/breakfast-bloody-mary-bar-2-2/2025-08-03/
LOCATION:Balsam Lake Lodge Event Venue\, 264 Cty Rd I\, Balsam Lake\, WI\, 54810\, United States
END:VEVENT
BEGIN:VEVENT
DTSTART;TZID=America/Chicago:20250802T120000
DTEND;TZID=America/Chicago:20250802T140000
DTSTAMP:20260419T184252
CREATED:20250812T174017Z
LAST-MODIFIED:20250812T174017Z
UID:10004741-1754136000-1754143200@balsamlakelodge.com
SUMMARY:Charity Meat Raffle
DESCRIPTION:
URL:https://balsamlakelodge.com/events-2/charity-meat-raffle-3/
LOCATION:Balsam Lake Lodge Event Venue\, 264 Cty Rd I\, Balsam Lake\, WI\, 54810\, United States
END:VEVENT
BEGIN:VEVENT
DTSTART;TZID=America/Chicago:20250802T080000
DTEND;TZID=America/Chicago:20250802T113000
DTSTAMP:20260419T184252
CREATED:20250407T141743Z
LAST-MODIFIED:20250407T141745Z
UID:10001359-1754121600-1754134200@balsamlakelodge.com
SUMMARY:Breakfast & Bloody Mary Bar
DESCRIPTION:
URL:https://balsamlakelodge.com/events-2/breakfast-bloody-mary-bar-2-2/2025-08-02/
LOCATION:Balsam Lake Lodge Event Venue\, 264 Cty Rd I\, Balsam Lake\, WI\, 54810\, United States
END:VEVENT
BEGIN:VEVENT
DTSTART;TZID=America/Chicago:20250801T190000
DTEND;TZID=America/Chicago:20250801T220000
DTSTAMP:20260419T184252
CREATED:20250424T222226Z
LAST-MODIFIED:20250425T231802Z
UID:10004726-1754074800-1754085600@balsamlakelodge.com
SUMMARY:Live Music Fridays - Nici Peper\, 7–10 PM
DESCRIPTION:
URL:https://balsamlakelodge.com/events-2/nici-peper-7-10pm/
LOCATION:Balsam Lake Lodge Event Venue\, 264 Cty Rd I\, Balsam Lake\, WI\, 54810\, United States
END:VEVENT
BEGIN:VEVENT
DTSTART;TZID=America/Chicago:20250728T180000
DTEND;TZID=America/Chicago:20250728T200000
DTSTAMP:20260419T184252
CREATED:20250311T172607Z
LAST-MODIFIED:20250311T172607Z
UID:10004404-1753725600-1753732800@balsamlakelodge.com
SUMMARY:Monday Night Bingo
DESCRIPTION:
URL:https://balsamlakelodge.com/events-2/monday-night-bingo/2025-07-28/
LOCATION:Balsam Lake Lodge Event Venue\, 264 Cty Rd I\, Balsam Lake\, WI\, 54810\, United States
CATEGORIES:Bingo
END:VEVENT
BEGIN:VEVENT
DTSTART;TZID=America/Chicago:20250727T080000
DTEND;TZID=America/Chicago:20250727T113000
DTSTAMP:20260419T184252
CREATED:20250407T141743Z
LAST-MODIFIED:20250407T141745Z
UID:10001358-1753603200-1753615800@balsamlakelodge.com
SUMMARY:Breakfast & Bloody Mary Bar
DESCRIPTION:
URL:https://balsamlakelodge.com/events-2/breakfast-bloody-mary-bar-2-2/2025-07-27/
LOCATION:Balsam Lake Lodge Event Venue\, 264 Cty Rd I\, Balsam Lake\, WI\, 54810\, United States
END:VEVENT
BEGIN:VEVENT
DTSTART;TZID=America/Chicago:20250726T080000
DTEND;TZID=America/Chicago:20250726T113000
DTSTAMP:20260419T184252
CREATED:20250407T141743Z
LAST-MODIFIED:20250407T141745Z
UID:10001357-1753516800-1753529400@balsamlakelodge.com
SUMMARY:Breakfast & Bloody Mary Bar
DESCRIPTION:
URL:https://balsamlakelodge.com/events-2/breakfast-bloody-mary-bar-2-2/2025-07-26/
LOCATION:Balsam Lake Lodge Event Venue\, 264 Cty Rd I\, Balsam Lake\, WI\, 54810\, United States
END:VEVENT
BEGIN:VEVENT
DTSTART;TZID=America/Chicago:20250725T190000
DTEND;TZID=America/Chicago:20250725T220000
DTSTAMP:20260419T184252
CREATED:20250402T003039Z
LAST-MODIFIED:20250402T003039Z
UID:10004722-1753470000-1753480800@balsamlakelodge.com
SUMMARY:Preston Gunderson
DESCRIPTION:
URL:https://balsamlakelodge.com/events-2/preston-gunderson/
LOCATION:Balsam Lake Lodge Event Venue\, 264 Cty Rd I\, Balsam Lake\, WI\, 54810\, United States
END:VEVENT
BEGIN:VEVENT
DTSTART;TZID=America/Chicago:20250721T180000
DTEND;TZID=America/Chicago:20250721T200000
DTSTAMP:20260419T184252
CREATED:20250311T172607Z
LAST-MODIFIED:20250311T172607Z
UID:10004403-1753120800-1753128000@balsamlakelodge.com
SUMMARY:Monday Night Bingo
DESCRIPTION:
URL:https://balsamlakelodge.com/events-2/monday-night-bingo/2025-07-21/
LOCATION:Balsam Lake Lodge Event Venue\, 264 Cty Rd I\, Balsam Lake\, WI\, 54810\, United States
CATEGORIES:Bingo
END:VEVENT
BEGIN:VEVENT
DTSTART;TZID=America/Chicago:20250720T080000
DTEND;TZID=America/Chicago:20250720T113000
DTSTAMP:20260419T184252
CREATED:20250407T141743Z
LAST-MODIFIED:20250407T141745Z
UID:10001356-1752998400-1753011000@balsamlakelodge.com
SUMMARY:Breakfast & Bloody Mary Bar
DESCRIPTION:
URL:https://balsamlakelodge.com/events-2/breakfast-bloody-mary-bar-2-2/2025-07-20/
LOCATION:Balsam Lake Lodge Event Venue\, 264 Cty Rd I\, Balsam Lake\, WI\, 54810\, United States
END:VEVENT
BEGIN:VEVENT
DTSTART;TZID=America/Chicago:20250719T080000
DTEND;TZID=America/Chicago:20250719T113000
DTSTAMP:20260419T184252
CREATED:20250407T141743Z
LAST-MODIFIED:20250407T141745Z
UID:10001355-1752912000-1752924600@balsamlakelodge.com
SUMMARY:Breakfast & Bloody Mary Bar
DESCRIPTION:
URL:https://balsamlakelodge.com/events-2/breakfast-bloody-mary-bar-2-2/2025-07-19/
LOCATION:Balsam Lake Lodge Event Venue\, 264 Cty Rd I\, Balsam Lake\, WI\, 54810\, United States
END:VEVENT
BEGIN:VEVENT
DTSTART;TZID=America/Chicago:20250718T190000
DTEND;TZID=America/Chicago:20250718T220000
DTSTAMP:20260419T184252
CREATED:20250402T003018Z
LAST-MODIFIED:20250402T003018Z
UID:10004721-1752865200-1752876000@balsamlakelodge.com
SUMMARY:Razz Acoustic
DESCRIPTION:
URL:https://balsamlakelodge.com/events-2/razz-acoustic-2/
LOCATION:Balsam Lake Lodge Event Venue\, 264 Cty Rd I\, Balsam Lake\, WI\, 54810\, United States
END:VEVENT
BEGIN:VEVENT
DTSTART;TZID=America/Chicago:20250714T180000
DTEND;TZID=America/Chicago:20250714T200000
DTSTAMP:20260419T184252
CREATED:20250311T172607Z
LAST-MODIFIED:20250311T172607Z
UID:10004402-1752516000-1752523200@balsamlakelodge.com
SUMMARY:Monday Night Bingo
DESCRIPTION:
URL:https://balsamlakelodge.com/events-2/monday-night-bingo/2025-07-14/
LOCATION:Balsam Lake Lodge Event Venue\, 264 Cty Rd I\, Balsam Lake\, WI\, 54810\, United States
CATEGORIES:Bingo
END:VEVENT
BEGIN:VEVENT
DTSTART;TZID=America/Chicago:20250713T080000
DTEND;TZID=America/Chicago:20250713T113000
DTSTAMP:20260419T184252
CREATED:20250407T141743Z
LAST-MODIFIED:20250407T141745Z
UID:10001354-1752393600-1752406200@balsamlakelodge.com
SUMMARY:Breakfast & Bloody Mary Bar
DESCRIPTION:
URL:https://balsamlakelodge.com/events-2/breakfast-bloody-mary-bar-2-2/2025-07-13/
LOCATION:Balsam Lake Lodge Event Venue\, 264 Cty Rd I\, Balsam Lake\, WI\, 54810\, United States
END:VEVENT
BEGIN:VEVENT
DTSTART;TZID=America/Chicago:20250712T080000
DTEND;TZID=America/Chicago:20250712T113000
DTSTAMP:20260419T184252
CREATED:20250407T141743Z
LAST-MODIFIED:20250407T141745Z
UID:10001353-1752307200-1752319800@balsamlakelodge.com
SUMMARY:Breakfast & Bloody Mary Bar
DESCRIPTION:
URL:https://balsamlakelodge.com/events-2/breakfast-bloody-mary-bar-2-2/2025-07-12/
LOCATION:Balsam Lake Lodge Event Venue\, 264 Cty Rd I\, Balsam Lake\, WI\, 54810\, United States
END:VEVENT
BEGIN:VEVENT
DTSTART;TZID=America/Chicago:20250711T190000
DTEND;TZID=America/Chicago:20250711T220000
DTSTAMP:20260419T184252
CREATED:20250402T002957Z
LAST-MODIFIED:20250402T002957Z
UID:10004720-1752260400-1752271200@balsamlakelodge.com
SUMMARY:Hofft
DESCRIPTION:
URL:https://balsamlakelodge.com/events-2/hofft/
LOCATION:Balsam Lake Lodge Event Venue\, 264 Cty Rd I\, Balsam Lake\, WI\, 54810\, United States
END:VEVENT
END:VCALENDAR