BEGIN:VCALENDAR
VERSION:2.0
PRODID:-//Balsam Lake Lodge - ECPv6.15.20//NONSGML v1.0//EN
CALSCALE:GREGORIAN
METHOD:PUBLISH
X-WR-CALNAME:Balsam Lake Lodge
X-ORIGINAL-URL:https://balsamlakelodge.com
X-WR-CALDESC:Events for Balsam Lake Lodge
REFRESH-INTERVAL;VALUE=DURATION:PT1H
X-Robots-Tag:noindex
X-PUBLISHED-TTL:PT1H
BEGIN:VTIMEZONE
TZID:America/Chicago
BEGIN:DAYLIGHT
TZOFFSETFROM:-0600
TZOFFSETTO:-0500
TZNAME:CDT
DTSTART:20250309T080000
END:DAYLIGHT
BEGIN:STANDARD
TZOFFSETFROM:-0500
TZOFFSETTO:-0600
TZNAME:CST
DTSTART:20251102T070000
END:STANDARD
BEGIN:DAYLIGHT
TZOFFSETFROM:-0600
TZOFFSETTO:-0500
TZNAME:CDT
DTSTART:20260308T080000
END:DAYLIGHT
BEGIN:STANDARD
TZOFFSETFROM:-0500
TZOFFSETTO:-0600
TZNAME:CST
DTSTART:20261101T070000
END:STANDARD
BEGIN:DAYLIGHT
TZOFFSETFROM:-0600
TZOFFSETTO:-0500
TZNAME:CDT
DTSTART:20270314T080000
END:DAYLIGHT
BEGIN:STANDARD
TZOFFSETFROM:-0500
TZOFFSETTO:-0600
TZNAME:CST
DTSTART:20271107T070000
END:STANDARD
END:VTIMEZONE
BEGIN:VEVENT
DTSTART;TZID=America/Chicago:20260514T183000
DTEND;TZID=America/Chicago:20260514T193000
DTSTAMP:20260419T080440
CREATED:20251209T085612Z
LAST-MODIFIED:20251209T085612Z
UID:10004837-1778783400-1778787000@balsamlakelodge.com
SUMMARY:Eagle Brook Church Viewing Service
DESCRIPTION:
URL:https://balsamlakelodge.com/events-2/eagle-brook-church-viewing-service/2026-05-14/
LOCATION:Balsam Lake Lodge Event Venue\, 264 Cty Rd I\, Balsam Lake\, WI\, 54810\, United States
END:VEVENT
BEGIN:VEVENT
DTSTART;TZID=America/Chicago:20260515T190000
DTEND;TZID=America/Chicago:20260515T220000
DTSTAMP:20260419T080440
CREATED:20260318T163714Z
LAST-MODIFIED:20260318T163714Z
UID:10005155-1778871600-1778882400@balsamlakelodge.com
SUMMARY:Live Music Fridays- Roger Lee
DESCRIPTION:
URL:https://balsamlakelodge.com/events-2/live-music-fridays-roger-lee/
LOCATION:Balsam Lake Lodge Event Venue\, 264 Cty Rd I\, Balsam Lake\, WI\, 54810\, United States
END:VEVENT
BEGIN:VEVENT
DTSTART;TZID=America/Chicago:20260516T080000
DTEND;TZID=America/Chicago:20260516T113000
DTSTAMP:20260419T080440
CREATED:20250407T141743Z
LAST-MODIFIED:20250407T141745Z
UID:10001441-1778918400-1778931000@balsamlakelodge.com
SUMMARY:Breakfast & Bloody Mary Bar
DESCRIPTION:
URL:https://balsamlakelodge.com/events-2/breakfast-bloody-mary-bar-2-2/2026-05-16/
LOCATION:Balsam Lake Lodge Event Venue\, 264 Cty Rd I\, Balsam Lake\, WI\, 54810\, United States
END:VEVENT
BEGIN:VEVENT
DTSTART;TZID=America/Chicago:20260517T080000
DTEND;TZID=America/Chicago:20260517T113000
DTSTAMP:20260419T080440
CREATED:20250407T141743Z
LAST-MODIFIED:20250407T141745Z
UID:10001442-1779004800-1779017400@balsamlakelodge.com
SUMMARY:Breakfast & Bloody Mary Bar
DESCRIPTION:
URL:https://balsamlakelodge.com/events-2/breakfast-bloody-mary-bar-2-2/2026-05-17/
LOCATION:Balsam Lake Lodge Event Venue\, 264 Cty Rd I\, Balsam Lake\, WI\, 54810\, United States
END:VEVENT
BEGIN:VEVENT
DTSTART;TZID=America/Chicago:20260518T180000
DTEND;TZID=America/Chicago:20260518T200000
DTSTAMP:20260419T080440
CREATED:20250311T172607Z
LAST-MODIFIED:20250311T172607Z
UID:10004446-1779127200-1779134400@balsamlakelodge.com
SUMMARY:Monday Night Bingo
DESCRIPTION:
URL:https://balsamlakelodge.com/events-2/monday-night-bingo/2026-05-18/
LOCATION:Balsam Lake Lodge Event Venue\, 264 Cty Rd I\, Balsam Lake\, WI\, 54810\, United States
CATEGORIES:Bingo
END:VEVENT
BEGIN:VEVENT
DTSTART;TZID=America/Chicago:20260521T183000
DTEND;TZID=America/Chicago:20260521T193000
DTSTAMP:20260419T080440
CREATED:20251209T085612Z
LAST-MODIFIED:20251209T085612Z
UID:10004838-1779388200-1779391800@balsamlakelodge.com
SUMMARY:Eagle Brook Church Viewing Service
DESCRIPTION:
URL:https://balsamlakelodge.com/events-2/eagle-brook-church-viewing-service/2026-05-21/
LOCATION:Balsam Lake Lodge Event Venue\, 264 Cty Rd I\, Balsam Lake\, WI\, 54810\, United States
END:VEVENT
BEGIN:VEVENT
DTSTART;TZID=America/Chicago:20260522T190000
DTEND;TZID=America/Chicago:20260522T220000
DTSTAMP:20260419T080440
CREATED:20260318T164017Z
LAST-MODIFIED:20260318T164017Z
UID:10005156-1779476400-1779487200@balsamlakelodge.com
SUMMARY:Live Music - Chrome Wheels Band
DESCRIPTION:
URL:https://balsamlakelodge.com/events-2/live-music-chrome-wheels-band/
LOCATION:Balsam Lake Lodge Event Venue\, 264 Cty Rd I\, Balsam Lake\, WI\, 54810\, United States
END:VEVENT
BEGIN:VEVENT
DTSTART;TZID=America/Chicago:20260523T080000
DTEND;TZID=America/Chicago:20260523T113000
DTSTAMP:20260419T080440
CREATED:20250407T141743Z
LAST-MODIFIED:20250407T141745Z
UID:10001443-1779523200-1779535800@balsamlakelodge.com
SUMMARY:Breakfast & Bloody Mary Bar
DESCRIPTION:
URL:https://balsamlakelodge.com/events-2/breakfast-bloody-mary-bar-2-2/2026-05-23/
LOCATION:Balsam Lake Lodge Event Venue\, 264 Cty Rd I\, Balsam Lake\, WI\, 54810\, United States
END:VEVENT
BEGIN:VEVENT
DTSTART;TZID=America/Chicago:20260523T190000
DTEND;TZID=America/Chicago:20260523T220000
DTSTAMP:20260419T080440
CREATED:20260318T164113Z
LAST-MODIFIED:20260318T164113Z
UID:10005157-1779562800-1779573600@balsamlakelodge.com
SUMMARY:Live Music - The Dweebs
DESCRIPTION:
URL:https://balsamlakelodge.com/events-2/live-music-the-dweebs/
LOCATION:Balsam Lake Lodge Event Venue\, 264 Cty Rd I\, Balsam Lake\, WI\, 54810\, United States
END:VEVENT
BEGIN:VEVENT
DTSTART;TZID=America/Chicago:20260524T080000
DTEND;TZID=America/Chicago:20260524T113000
DTSTAMP:20260419T080440
CREATED:20250407T141743Z
LAST-MODIFIED:20250407T141745Z
UID:10001444-1779609600-1779622200@balsamlakelodge.com
SUMMARY:Breakfast & Bloody Mary Bar
DESCRIPTION:
URL:https://balsamlakelodge.com/events-2/breakfast-bloody-mary-bar-2-2/2026-05-24/
LOCATION:Balsam Lake Lodge Event Venue\, 264 Cty Rd I\, Balsam Lake\, WI\, 54810\, United States
END:VEVENT
BEGIN:VEVENT
DTSTART;TZID=America/Chicago:20260524T190000
DTEND;TZID=America/Chicago:20260524T220000
DTSTAMP:20260419T080440
CREATED:20260318T164758Z
LAST-MODIFIED:20260318T164758Z
UID:10005158-1779649200-1779660000@balsamlakelodge.com
SUMMARY:Live Music - 70s Magic Sunshine Band
DESCRIPTION:
URL:https://balsamlakelodge.com/events-2/live-music-70s-magic-sunshine-band/
LOCATION:Balsam Lake Lodge Event Venue\, 264 Cty Rd I\, Balsam Lake\, WI\, 54810\, United States
END:VEVENT
BEGIN:VEVENT
DTSTART;TZID=America/Chicago:20260525T150000
DTEND;TZID=America/Chicago:20260525T180000
DTSTAMP:20260419T080440
CREATED:20260318T164951Z
LAST-MODIFIED:20260318T164951Z
UID:10005159-1779721200-1779732000@balsamlakelodge.com
SUMMARY:Live Music - Todd Epley
DESCRIPTION:
URL:https://balsamlakelodge.com/events-2/live-music-todd-epley-2/
LOCATION:Balsam Lake Lodge Event Venue\, 264 Cty Rd I\, Balsam Lake\, WI\, 54810\, United States
END:VEVENT
BEGIN:VEVENT
DTSTART;TZID=America/Chicago:20260525T180000
DTEND;TZID=America/Chicago:20260525T200000
DTSTAMP:20260419T080440
CREATED:20250311T172607Z
LAST-MODIFIED:20250311T172607Z
UID:10004447-1779732000-1779739200@balsamlakelodge.com
SUMMARY:Monday Night Bingo
DESCRIPTION:
URL:https://balsamlakelodge.com/events-2/monday-night-bingo/2026-05-25/
LOCATION:Balsam Lake Lodge Event Venue\, 264 Cty Rd I\, Balsam Lake\, WI\, 54810\, United States
CATEGORIES:Bingo
END:VEVENT
BEGIN:VEVENT
DTSTART;TZID=America/Chicago:20260528T183000
DTEND;TZID=America/Chicago:20260528T193000
DTSTAMP:20260419T080440
CREATED:20251209T085612Z
LAST-MODIFIED:20251209T085612Z
UID:10004839-1779993000-1779996600@balsamlakelodge.com
SUMMARY:Eagle Brook Church Viewing Service
DESCRIPTION:
URL:https://balsamlakelodge.com/events-2/eagle-brook-church-viewing-service/2026-05-28/
LOCATION:Balsam Lake Lodge Event Venue\, 264 Cty Rd I\, Balsam Lake\, WI\, 54810\, United States
END:VEVENT
BEGIN:VEVENT
DTSTART;TZID=America/Chicago:20260529T190000
DTEND;TZID=America/Chicago:20260529T220000
DTSTAMP:20260419T080440
CREATED:20260318T165222Z
LAST-MODIFIED:20260318T165222Z
UID:10005160-1780081200-1780092000@balsamlakelodge.com
SUMMARY:Live Music Fridays - Allison Dyg
DESCRIPTION:
URL:https://balsamlakelodge.com/events-2/live-music-fridays-allison-dyg-4/
LOCATION:Balsam Lake Lodge Event Venue\, 264 Cty Rd I\, Balsam Lake\, WI\, 54810\, United States
END:VEVENT
BEGIN:VEVENT
DTSTART;TZID=America/Chicago:20260530T080000
DTEND;TZID=America/Chicago:20260530T113000
DTSTAMP:20260419T080440
CREATED:20250407T141743Z
LAST-MODIFIED:20250407T141745Z
UID:10001445-1780128000-1780140600@balsamlakelodge.com
SUMMARY:Breakfast & Bloody Mary Bar
DESCRIPTION:
URL:https://balsamlakelodge.com/events-2/breakfast-bloody-mary-bar-2-2/2026-05-30/
LOCATION:Balsam Lake Lodge Event Venue\, 264 Cty Rd I\, Balsam Lake\, WI\, 54810\, United States
END:VEVENT
BEGIN:VEVENT
DTSTART;TZID=America/Chicago:20260531T080000
DTEND;TZID=America/Chicago:20260531T113000
DTSTAMP:20260419T080440
CREATED:20250407T141743Z
LAST-MODIFIED:20250407T141745Z
UID:10001446-1780214400-1780227000@balsamlakelodge.com
SUMMARY:Breakfast & Bloody Mary Bar
DESCRIPTION:
URL:https://balsamlakelodge.com/events-2/breakfast-bloody-mary-bar-2-2/2026-05-31/
LOCATION:Balsam Lake Lodge Event Venue\, 264 Cty Rd I\, Balsam Lake\, WI\, 54810\, United States
END:VEVENT
BEGIN:VEVENT
DTSTART;TZID=America/Chicago:20260601T180000
DTEND;TZID=America/Chicago:20260601T200000
DTSTAMP:20260419T080440
CREATED:20250311T172607Z
LAST-MODIFIED:20250311T172607Z
UID:10004448-1780336800-1780344000@balsamlakelodge.com
SUMMARY:Monday Night Bingo
DESCRIPTION:
URL:https://balsamlakelodge.com/events-2/monday-night-bingo/2026-06-01/
LOCATION:Balsam Lake Lodge Event Venue\, 264 Cty Rd I\, Balsam Lake\, WI\, 54810\, United States
CATEGORIES:Bingo
END:VEVENT
BEGIN:VEVENT
DTSTART;TZID=America/Chicago:20260604T183000
DTEND;TZID=America/Chicago:20260604T193000
DTSTAMP:20260419T080440
CREATED:20251209T085612Z
LAST-MODIFIED:20251209T085612Z
UID:10004840-1780597800-1780601400@balsamlakelodge.com
SUMMARY:Eagle Brook Church Viewing Service
DESCRIPTION:
URL:https://balsamlakelodge.com/events-2/eagle-brook-church-viewing-service/2026-06-04/
LOCATION:Balsam Lake Lodge Event Venue\, 264 Cty Rd I\, Balsam Lake\, WI\, 54810\, United States
END:VEVENT
BEGIN:VEVENT
DTSTART;TZID=America/Chicago:20260606T080000
DTEND;TZID=America/Chicago:20260606T113000
DTSTAMP:20260419T080440
CREATED:20250407T141743Z
LAST-MODIFIED:20250407T141745Z
UID:10001447-1780732800-1780745400@balsamlakelodge.com
SUMMARY:Breakfast & Bloody Mary Bar
DESCRIPTION:
URL:https://balsamlakelodge.com/events-2/breakfast-bloody-mary-bar-2-2/2026-06-06/
LOCATION:Balsam Lake Lodge Event Venue\, 264 Cty Rd I\, Balsam Lake\, WI\, 54810\, United States
END:VEVENT
BEGIN:VEVENT
DTSTART;TZID=America/Chicago:20260607T080000
DTEND;TZID=America/Chicago:20260607T113000
DTSTAMP:20260419T080440
CREATED:20250407T141743Z
LAST-MODIFIED:20250407T141745Z
UID:10001448-1780819200-1780831800@balsamlakelodge.com
SUMMARY:Breakfast & Bloody Mary Bar
DESCRIPTION:
URL:https://balsamlakelodge.com/events-2/breakfast-bloody-mary-bar-2-2/2026-06-07/
LOCATION:Balsam Lake Lodge Event Venue\, 264 Cty Rd I\, Balsam Lake\, WI\, 54810\, United States
END:VEVENT
BEGIN:VEVENT
DTSTART;TZID=America/Chicago:20260608T180000
DTEND;TZID=America/Chicago:20260608T200000
DTSTAMP:20260419T080440
CREATED:20250311T172607Z
LAST-MODIFIED:20250311T172607Z
UID:10004449-1780941600-1780948800@balsamlakelodge.com
SUMMARY:Monday Night Bingo
DESCRIPTION:
URL:https://balsamlakelodge.com/events-2/monday-night-bingo/2026-06-08/
LOCATION:Balsam Lake Lodge Event Venue\, 264 Cty Rd I\, Balsam Lake\, WI\, 54810\, United States
CATEGORIES:Bingo
END:VEVENT
BEGIN:VEVENT
DTSTART;TZID=America/Chicago:20260611T183000
DTEND;TZID=America/Chicago:20260611T193000
DTSTAMP:20260419T080440
CREATED:20251209T085612Z
LAST-MODIFIED:20251209T085612Z
UID:10004841-1781202600-1781206200@balsamlakelodge.com
SUMMARY:Eagle Brook Church Viewing Service
DESCRIPTION:
URL:https://balsamlakelodge.com/events-2/eagle-brook-church-viewing-service/2026-06-11/
LOCATION:Balsam Lake Lodge Event Venue\, 264 Cty Rd I\, Balsam Lake\, WI\, 54810\, United States
END:VEVENT
BEGIN:VEVENT
DTSTART;TZID=America/Chicago:20260613T080000
DTEND;TZID=America/Chicago:20260613T113000
DTSTAMP:20260419T080440
CREATED:20250407T141743Z
LAST-MODIFIED:20250407T141745Z
UID:10001449-1781337600-1781350200@balsamlakelodge.com
SUMMARY:Breakfast & Bloody Mary Bar
DESCRIPTION:
URL:https://balsamlakelodge.com/events-2/breakfast-bloody-mary-bar-2-2/2026-06-13/
LOCATION:Balsam Lake Lodge Event Venue\, 264 Cty Rd I\, Balsam Lake\, WI\, 54810\, United States
END:VEVENT
BEGIN:VEVENT
DTSTART;TZID=America/Chicago:20260614T080000
DTEND;TZID=America/Chicago:20260614T113000
DTSTAMP:20260419T080440
CREATED:20250407T141743Z
LAST-MODIFIED:20250407T141745Z
UID:10001450-1781424000-1781436600@balsamlakelodge.com
SUMMARY:Breakfast & Bloody Mary Bar
DESCRIPTION:
URL:https://balsamlakelodge.com/events-2/breakfast-bloody-mary-bar-2-2/2026-06-14/
LOCATION:Balsam Lake Lodge Event Venue\, 264 Cty Rd I\, Balsam Lake\, WI\, 54810\, United States
END:VEVENT
BEGIN:VEVENT
DTSTART;TZID=America/Chicago:20260615T180000
DTEND;TZID=America/Chicago:20260615T200000
DTSTAMP:20260419T080440
CREATED:20250311T172607Z
LAST-MODIFIED:20250311T172607Z
UID:10004450-1781546400-1781553600@balsamlakelodge.com
SUMMARY:Monday Night Bingo
DESCRIPTION:
URL:https://balsamlakelodge.com/events-2/monday-night-bingo/2026-06-15/
LOCATION:Balsam Lake Lodge Event Venue\, 264 Cty Rd I\, Balsam Lake\, WI\, 54810\, United States
CATEGORIES:Bingo
END:VEVENT
BEGIN:VEVENT
DTSTART;TZID=America/Chicago:20260618T183000
DTEND;TZID=America/Chicago:20260618T193000
DTSTAMP:20260419T080440
CREATED:20251209T085612Z
LAST-MODIFIED:20251209T085612Z
UID:10004842-1781807400-1781811000@balsamlakelodge.com
SUMMARY:Eagle Brook Church Viewing Service
DESCRIPTION:
URL:https://balsamlakelodge.com/events-2/eagle-brook-church-viewing-service/2026-06-18/
LOCATION:Balsam Lake Lodge Event Venue\, 264 Cty Rd I\, Balsam Lake\, WI\, 54810\, United States
END:VEVENT
BEGIN:VEVENT
DTSTART;TZID=America/Chicago:20260620T080000
DTEND;TZID=America/Chicago:20260620T113000
DTSTAMP:20260419T080440
CREATED:20250407T141743Z
LAST-MODIFIED:20250407T141745Z
UID:10001451-1781942400-1781955000@balsamlakelodge.com
SUMMARY:Breakfast & Bloody Mary Bar
DESCRIPTION:
URL:https://balsamlakelodge.com/events-2/breakfast-bloody-mary-bar-2-2/2026-06-20/
LOCATION:Balsam Lake Lodge Event Venue\, 264 Cty Rd I\, Balsam Lake\, WI\, 54810\, United States
END:VEVENT
BEGIN:VEVENT
DTSTART;TZID=America/Chicago:20260621T080000
DTEND;TZID=America/Chicago:20260621T113000
DTSTAMP:20260419T080440
CREATED:20250407T141743Z
LAST-MODIFIED:20250407T141745Z
UID:10001452-1782028800-1782041400@balsamlakelodge.com
SUMMARY:Breakfast & Bloody Mary Bar
DESCRIPTION:
URL:https://balsamlakelodge.com/events-2/breakfast-bloody-mary-bar-2-2/2026-06-21/
LOCATION:Balsam Lake Lodge Event Venue\, 264 Cty Rd I\, Balsam Lake\, WI\, 54810\, United States
END:VEVENT
BEGIN:VEVENT
DTSTART;TZID=America/Chicago:20260622T180000
DTEND;TZID=America/Chicago:20260622T200000
DTSTAMP:20260419T080440
CREATED:20250311T172607Z
LAST-MODIFIED:20250311T172607Z
UID:10004451-1782151200-1782158400@balsamlakelodge.com
SUMMARY:Monday Night Bingo
DESCRIPTION:
URL:https://balsamlakelodge.com/events-2/monday-night-bingo/2026-06-22/
LOCATION:Balsam Lake Lodge Event Venue\, 264 Cty Rd I\, Balsam Lake\, WI\, 54810\, United States
CATEGORIES:Bingo
END:VEVENT
END:VCALENDAR