BEGIN:VCALENDAR
VERSION:2.0
PRODID:-//Balsam Lake Lodge - ECPv6.15.20//NONSGML v1.0//EN
CALSCALE:GREGORIAN
METHOD:PUBLISH
X-ORIGINAL-URL:https://balsamlakelodge.com
X-WR-CALDESC:Events for Balsam Lake Lodge
REFRESH-INTERVAL;VALUE=DURATION:PT1H
X-Robots-Tag:noindex
X-PUBLISHED-TTL:PT1H
BEGIN:VTIMEZONE
TZID:America/Chicago
BEGIN:DAYLIGHT
TZOFFSETFROM:-0600
TZOFFSETTO:-0500
TZNAME:CDT
DTSTART:20260308T080000
END:DAYLIGHT
BEGIN:STANDARD
TZOFFSETFROM:-0500
TZOFFSETTO:-0600
TZNAME:CST
DTSTART:20261101T070000
END:STANDARD
BEGIN:DAYLIGHT
TZOFFSETFROM:-0600
TZOFFSETTO:-0500
TZNAME:CDT
DTSTART:20270314T080000
END:DAYLIGHT
BEGIN:STANDARD
TZOFFSETFROM:-0500
TZOFFSETTO:-0600
TZNAME:CST
DTSTART:20271107T070000
END:STANDARD
BEGIN:DAYLIGHT
TZOFFSETFROM:-0600
TZOFFSETTO:-0500
TZNAME:CDT
DTSTART:20280312T080000
END:DAYLIGHT
BEGIN:STANDARD
TZOFFSETFROM:-0500
TZOFFSETTO:-0600
TZNAME:CST
DTSTART:20281105T070000
END:STANDARD
END:VTIMEZONE
BEGIN:VEVENT
DTSTART;TZID=America/Chicago:20270405T180000
DTEND;TZID=America/Chicago:20270405T200000
DTSTAMP:20260420T010607
CREATED:20250311T172607Z
LAST-MODIFIED:20250311T172607Z
UID:10004492-1806948000-1806955200@balsamlakelodge.com
SUMMARY:Monday Night Bingo
DESCRIPTION:
URL:https://balsamlakelodge.com/events-2/monday-night-bingo/2027-04-05/
LOCATION:Balsam Lake Lodge Event Venue\, 264 Cty Rd I\, Balsam Lake\, WI\, 54810\, United States
CATEGORIES:Bingo
END:VEVENT
BEGIN:VEVENT
DTSTART;TZID=America/Chicago:20270408T183000
DTEND;TZID=America/Chicago:20270408T193000
DTSTAMP:20260420T010607
CREATED:20251209T085612Z
LAST-MODIFIED:20251209T085612Z
UID:10004884-1807209000-1807212600@balsamlakelodge.com
SUMMARY:Eagle Brook Church Viewing Service
DESCRIPTION:
URL:https://balsamlakelodge.com/events-2/eagle-brook-church-viewing-service/2027-04-08/
LOCATION:Balsam Lake Lodge Event Venue\, 264 Cty Rd I\, Balsam Lake\, WI\, 54810\, United States
END:VEVENT
BEGIN:VEVENT
DTSTART;TZID=America/Chicago:20270410T080000
DTEND;TZID=America/Chicago:20270410T113000
DTSTAMP:20260420T010607
CREATED:20250407T141743Z
LAST-MODIFIED:20250407T141745Z
UID:10001535-1807344000-1807356600@balsamlakelodge.com
SUMMARY:Breakfast & Bloody Mary Bar
DESCRIPTION:
URL:https://balsamlakelodge.com/events-2/breakfast-bloody-mary-bar-2-2/2027-04-10/
LOCATION:Balsam Lake Lodge Event Venue\, 264 Cty Rd I\, Balsam Lake\, WI\, 54810\, United States
END:VEVENT
BEGIN:VEVENT
DTSTART;TZID=America/Chicago:20270411T080000
DTEND;TZID=America/Chicago:20270411T113000
DTSTAMP:20260420T010607
CREATED:20250407T141743Z
LAST-MODIFIED:20250407T141745Z
UID:10001536-1807430400-1807443000@balsamlakelodge.com
SUMMARY:Breakfast & Bloody Mary Bar
DESCRIPTION:
URL:https://balsamlakelodge.com/events-2/breakfast-bloody-mary-bar-2-2/2027-04-11/
LOCATION:Balsam Lake Lodge Event Venue\, 264 Cty Rd I\, Balsam Lake\, WI\, 54810\, United States
END:VEVENT
BEGIN:VEVENT
DTSTART;TZID=America/Chicago:20270412T180000
DTEND;TZID=America/Chicago:20270412T200000
DTSTAMP:20260420T010607
CREATED:20250311T172607Z
LAST-MODIFIED:20250311T172607Z
UID:10004493-1807552800-1807560000@balsamlakelodge.com
SUMMARY:Monday Night Bingo
DESCRIPTION:
URL:https://balsamlakelodge.com/events-2/monday-night-bingo/2027-04-12/
LOCATION:Balsam Lake Lodge Event Venue\, 264 Cty Rd I\, Balsam Lake\, WI\, 54810\, United States
CATEGORIES:Bingo
END:VEVENT
BEGIN:VEVENT
DTSTART;TZID=America/Chicago:20270415T183000
DTEND;TZID=America/Chicago:20270415T193000
DTSTAMP:20260420T010607
CREATED:20251209T085612Z
LAST-MODIFIED:20251209T085612Z
UID:10004885-1807813800-1807817400@balsamlakelodge.com
SUMMARY:Eagle Brook Church Viewing Service
DESCRIPTION:
URL:https://balsamlakelodge.com/events-2/eagle-brook-church-viewing-service/2027-04-15/
LOCATION:Balsam Lake Lodge Event Venue\, 264 Cty Rd I\, Balsam Lake\, WI\, 54810\, United States
END:VEVENT
BEGIN:VEVENT
DTSTART;TZID=America/Chicago:20270417T080000
DTEND;TZID=America/Chicago:20270417T113000
DTSTAMP:20260420T010607
CREATED:20250407T141743Z
LAST-MODIFIED:20250407T141745Z
UID:10001537-1807948800-1807961400@balsamlakelodge.com
SUMMARY:Breakfast & Bloody Mary Bar
DESCRIPTION:
URL:https://balsamlakelodge.com/events-2/breakfast-bloody-mary-bar-2-2/2027-04-17/
LOCATION:Balsam Lake Lodge Event Venue\, 264 Cty Rd I\, Balsam Lake\, WI\, 54810\, United States
END:VEVENT
BEGIN:VEVENT
DTSTART;TZID=America/Chicago:20270418T080000
DTEND;TZID=America/Chicago:20270418T113000
DTSTAMP:20260420T010607
CREATED:20250407T141743Z
LAST-MODIFIED:20250407T141745Z
UID:10001538-1808035200-1808047800@balsamlakelodge.com
SUMMARY:Breakfast & Bloody Mary Bar
DESCRIPTION:
URL:https://balsamlakelodge.com/events-2/breakfast-bloody-mary-bar-2-2/2027-04-18/
LOCATION:Balsam Lake Lodge Event Venue\, 264 Cty Rd I\, Balsam Lake\, WI\, 54810\, United States
END:VEVENT
BEGIN:VEVENT
DTSTART;TZID=America/Chicago:20270419T180000
DTEND;TZID=America/Chicago:20270419T200000
DTSTAMP:20260420T010607
CREATED:20250311T172607Z
LAST-MODIFIED:20250311T172607Z
UID:10004494-1808157600-1808164800@balsamlakelodge.com
SUMMARY:Monday Night Bingo
DESCRIPTION:
URL:https://balsamlakelodge.com/events-2/monday-night-bingo/2027-04-19/
LOCATION:Balsam Lake Lodge Event Venue\, 264 Cty Rd I\, Balsam Lake\, WI\, 54810\, United States
CATEGORIES:Bingo
END:VEVENT
BEGIN:VEVENT
DTSTART;TZID=America/Chicago:20270422T183000
DTEND;TZID=America/Chicago:20270422T193000
DTSTAMP:20260420T010607
CREATED:20251209T085612Z
LAST-MODIFIED:20251209T085612Z
UID:10004886-1808418600-1808422200@balsamlakelodge.com
SUMMARY:Eagle Brook Church Viewing Service
DESCRIPTION:
URL:https://balsamlakelodge.com/events-2/eagle-brook-church-viewing-service/2027-04-22/
LOCATION:Balsam Lake Lodge Event Venue\, 264 Cty Rd I\, Balsam Lake\, WI\, 54810\, United States
END:VEVENT
BEGIN:VEVENT
DTSTART;TZID=America/Chicago:20270424T080000
DTEND;TZID=America/Chicago:20270424T113000
DTSTAMP:20260420T010607
CREATED:20250407T141743Z
LAST-MODIFIED:20250407T141745Z
UID:10001539-1808553600-1808566200@balsamlakelodge.com
SUMMARY:Breakfast & Bloody Mary Bar
DESCRIPTION:
URL:https://balsamlakelodge.com/events-2/breakfast-bloody-mary-bar-2-2/2027-04-24/
LOCATION:Balsam Lake Lodge Event Venue\, 264 Cty Rd I\, Balsam Lake\, WI\, 54810\, United States
END:VEVENT
BEGIN:VEVENT
DTSTART;TZID=America/Chicago:20270425T080000
DTEND;TZID=America/Chicago:20270425T113000
DTSTAMP:20260420T010607
CREATED:20250407T141743Z
LAST-MODIFIED:20250407T141745Z
UID:10001540-1808640000-1808652600@balsamlakelodge.com
SUMMARY:Breakfast & Bloody Mary Bar
DESCRIPTION:
URL:https://balsamlakelodge.com/events-2/breakfast-bloody-mary-bar-2-2/2027-04-25/
LOCATION:Balsam Lake Lodge Event Venue\, 264 Cty Rd I\, Balsam Lake\, WI\, 54810\, United States
END:VEVENT
BEGIN:VEVENT
DTSTART;TZID=America/Chicago:20270426T180000
DTEND;TZID=America/Chicago:20270426T200000
DTSTAMP:20260420T010607
CREATED:20250311T172607Z
LAST-MODIFIED:20250311T172607Z
UID:10004495-1808762400-1808769600@balsamlakelodge.com
SUMMARY:Monday Night Bingo
DESCRIPTION:
URL:https://balsamlakelodge.com/events-2/monday-night-bingo/2027-04-26/
LOCATION:Balsam Lake Lodge Event Venue\, 264 Cty Rd I\, Balsam Lake\, WI\, 54810\, United States
CATEGORIES:Bingo
END:VEVENT
BEGIN:VEVENT
DTSTART;TZID=America/Chicago:20270429T183000
DTEND;TZID=America/Chicago:20270429T193000
DTSTAMP:20260420T010607
CREATED:20251209T085612Z
LAST-MODIFIED:20251209T085612Z
UID:10004887-1809023400-1809027000@balsamlakelodge.com
SUMMARY:Eagle Brook Church Viewing Service
DESCRIPTION:
URL:https://balsamlakelodge.com/events-2/eagle-brook-church-viewing-service/2027-04-29/
LOCATION:Balsam Lake Lodge Event Venue\, 264 Cty Rd I\, Balsam Lake\, WI\, 54810\, United States
END:VEVENT
BEGIN:VEVENT
DTSTART;TZID=America/Chicago:20270501T080000
DTEND;TZID=America/Chicago:20270501T113000
DTSTAMP:20260420T010607
CREATED:20250407T141743Z
LAST-MODIFIED:20250407T141745Z
UID:10001541-1809158400-1809171000@balsamlakelodge.com
SUMMARY:Breakfast & Bloody Mary Bar
DESCRIPTION:
URL:https://balsamlakelodge.com/events-2/breakfast-bloody-mary-bar-2-2/2027-05-01/
LOCATION:Balsam Lake Lodge Event Venue\, 264 Cty Rd I\, Balsam Lake\, WI\, 54810\, United States
END:VEVENT
BEGIN:VEVENT
DTSTART;TZID=America/Chicago:20270502T080000
DTEND;TZID=America/Chicago:20270502T113000
DTSTAMP:20260420T010607
CREATED:20250407T141743Z
LAST-MODIFIED:20250407T141745Z
UID:10001542-1809244800-1809257400@balsamlakelodge.com
SUMMARY:Breakfast & Bloody Mary Bar
DESCRIPTION:
URL:https://balsamlakelodge.com/events-2/breakfast-bloody-mary-bar-2-2/2027-05-02/
LOCATION:Balsam Lake Lodge Event Venue\, 264 Cty Rd I\, Balsam Lake\, WI\, 54810\, United States
END:VEVENT
BEGIN:VEVENT
DTSTART;TZID=America/Chicago:20270503T180000
DTEND;TZID=America/Chicago:20270503T200000
DTSTAMP:20260420T010607
CREATED:20250311T172607Z
LAST-MODIFIED:20250311T172607Z
UID:10004496-1809367200-1809374400@balsamlakelodge.com
SUMMARY:Monday Night Bingo
DESCRIPTION:
URL:https://balsamlakelodge.com/events-2/monday-night-bingo/2027-05-03/
LOCATION:Balsam Lake Lodge Event Venue\, 264 Cty Rd I\, Balsam Lake\, WI\, 54810\, United States
CATEGORIES:Bingo
END:VEVENT
BEGIN:VEVENT
DTSTART;TZID=America/Chicago:20270506T183000
DTEND;TZID=America/Chicago:20270506T193000
DTSTAMP:20260420T010607
CREATED:20251209T085612Z
LAST-MODIFIED:20251209T085612Z
UID:10004888-1809628200-1809631800@balsamlakelodge.com
SUMMARY:Eagle Brook Church Viewing Service
DESCRIPTION:
URL:https://balsamlakelodge.com/events-2/eagle-brook-church-viewing-service/2027-05-06/
LOCATION:Balsam Lake Lodge Event Venue\, 264 Cty Rd I\, Balsam Lake\, WI\, 54810\, United States
END:VEVENT
BEGIN:VEVENT
DTSTART;TZID=America/Chicago:20270508T080000
DTEND;TZID=America/Chicago:20270508T113000
DTSTAMP:20260420T010607
CREATED:20250407T141743Z
LAST-MODIFIED:20250407T141745Z
UID:10001543-1809763200-1809775800@balsamlakelodge.com
SUMMARY:Breakfast & Bloody Mary Bar
DESCRIPTION:
URL:https://balsamlakelodge.com/events-2/breakfast-bloody-mary-bar-2-2/2027-05-08/
LOCATION:Balsam Lake Lodge Event Venue\, 264 Cty Rd I\, Balsam Lake\, WI\, 54810\, United States
END:VEVENT
BEGIN:VEVENT
DTSTART;TZID=America/Chicago:20270509T080000
DTEND;TZID=America/Chicago:20270509T113000
DTSTAMP:20260420T010607
CREATED:20250407T141743Z
LAST-MODIFIED:20250407T141745Z
UID:10001544-1809849600-1809862200@balsamlakelodge.com
SUMMARY:Breakfast & Bloody Mary Bar
DESCRIPTION:
URL:https://balsamlakelodge.com/events-2/breakfast-bloody-mary-bar-2-2/2027-05-09/
LOCATION:Balsam Lake Lodge Event Venue\, 264 Cty Rd I\, Balsam Lake\, WI\, 54810\, United States
END:VEVENT
BEGIN:VEVENT
DTSTART;TZID=America/Chicago:20270510T180000
DTEND;TZID=America/Chicago:20270510T200000
DTSTAMP:20260420T010607
CREATED:20250311T172607Z
LAST-MODIFIED:20250311T172607Z
UID:10004497-1809972000-1809979200@balsamlakelodge.com
SUMMARY:Monday Night Bingo
DESCRIPTION:
URL:https://balsamlakelodge.com/events-2/monday-night-bingo/2027-05-10/
LOCATION:Balsam Lake Lodge Event Venue\, 264 Cty Rd I\, Balsam Lake\, WI\, 54810\, United States
CATEGORIES:Bingo
END:VEVENT
BEGIN:VEVENT
DTSTART;TZID=America/Chicago:20270513T183000
DTEND;TZID=America/Chicago:20270513T193000
DTSTAMP:20260420T010607
CREATED:20251209T085612Z
LAST-MODIFIED:20251209T085612Z
UID:10004889-1810233000-1810236600@balsamlakelodge.com
SUMMARY:Eagle Brook Church Viewing Service
DESCRIPTION:
URL:https://balsamlakelodge.com/events-2/eagle-brook-church-viewing-service/2027-05-13/
LOCATION:Balsam Lake Lodge Event Venue\, 264 Cty Rd I\, Balsam Lake\, WI\, 54810\, United States
END:VEVENT
BEGIN:VEVENT
DTSTART;TZID=America/Chicago:20270515T080000
DTEND;TZID=America/Chicago:20270515T113000
DTSTAMP:20260420T010607
CREATED:20250407T141743Z
LAST-MODIFIED:20250407T141745Z
UID:10001545-1810368000-1810380600@balsamlakelodge.com
SUMMARY:Breakfast & Bloody Mary Bar
DESCRIPTION:
URL:https://balsamlakelodge.com/events-2/breakfast-bloody-mary-bar-2-2/2027-05-15/
LOCATION:Balsam Lake Lodge Event Venue\, 264 Cty Rd I\, Balsam Lake\, WI\, 54810\, United States
END:VEVENT
BEGIN:VEVENT
DTSTART;TZID=America/Chicago:20270516T080000
DTEND;TZID=America/Chicago:20270516T113000
DTSTAMP:20260420T010607
CREATED:20250407T141743Z
LAST-MODIFIED:20250407T141745Z
UID:10001546-1810454400-1810467000@balsamlakelodge.com
SUMMARY:Breakfast & Bloody Mary Bar
DESCRIPTION:
URL:https://balsamlakelodge.com/events-2/breakfast-bloody-mary-bar-2-2/2027-05-16/
LOCATION:Balsam Lake Lodge Event Venue\, 264 Cty Rd I\, Balsam Lake\, WI\, 54810\, United States
END:VEVENT
BEGIN:VEVENT
DTSTART;TZID=America/Chicago:20270517T180000
DTEND;TZID=America/Chicago:20270517T200000
DTSTAMP:20260420T010607
CREATED:20250311T172607Z
LAST-MODIFIED:20250311T172607Z
UID:10004498-1810576800-1810584000@balsamlakelodge.com
SUMMARY:Monday Night Bingo
DESCRIPTION:
URL:https://balsamlakelodge.com/events-2/monday-night-bingo/2027-05-17/
LOCATION:Balsam Lake Lodge Event Venue\, 264 Cty Rd I\, Balsam Lake\, WI\, 54810\, United States
CATEGORIES:Bingo
END:VEVENT
BEGIN:VEVENT
DTSTART;TZID=America/Chicago:20270520T183000
DTEND;TZID=America/Chicago:20270520T193000
DTSTAMP:20260420T010607
CREATED:20251209T085612Z
LAST-MODIFIED:20251209T085612Z
UID:10004890-1810837800-1810841400@balsamlakelodge.com
SUMMARY:Eagle Brook Church Viewing Service
DESCRIPTION:
URL:https://balsamlakelodge.com/events-2/eagle-brook-church-viewing-service/2027-05-20/
LOCATION:Balsam Lake Lodge Event Venue\, 264 Cty Rd I\, Balsam Lake\, WI\, 54810\, United States
END:VEVENT
BEGIN:VEVENT
DTSTART;TZID=America/Chicago:20270522T080000
DTEND;TZID=America/Chicago:20270522T113000
DTSTAMP:20260420T010607
CREATED:20250407T141743Z
LAST-MODIFIED:20250407T141745Z
UID:10001547-1810972800-1810985400@balsamlakelodge.com
SUMMARY:Breakfast & Bloody Mary Bar
DESCRIPTION:
URL:https://balsamlakelodge.com/events-2/breakfast-bloody-mary-bar-2-2/2027-05-22/
LOCATION:Balsam Lake Lodge Event Venue\, 264 Cty Rd I\, Balsam Lake\, WI\, 54810\, United States
END:VEVENT
BEGIN:VEVENT
DTSTART;TZID=America/Chicago:20270523T080000
DTEND;TZID=America/Chicago:20270523T113000
DTSTAMP:20260420T010607
CREATED:20250407T141743Z
LAST-MODIFIED:20250407T141745Z
UID:10001548-1811059200-1811071800@balsamlakelodge.com
SUMMARY:Breakfast & Bloody Mary Bar
DESCRIPTION:
URL:https://balsamlakelodge.com/events-2/breakfast-bloody-mary-bar-2-2/2027-05-23/
LOCATION:Balsam Lake Lodge Event Venue\, 264 Cty Rd I\, Balsam Lake\, WI\, 54810\, United States
END:VEVENT
BEGIN:VEVENT
DTSTART;TZID=America/Chicago:20270524T180000
DTEND;TZID=America/Chicago:20270524T200000
DTSTAMP:20260420T010607
CREATED:20250311T172607Z
LAST-MODIFIED:20250311T172607Z
UID:10004499-1811181600-1811188800@balsamlakelodge.com
SUMMARY:Monday Night Bingo
DESCRIPTION:
URL:https://balsamlakelodge.com/events-2/monday-night-bingo/2027-05-24/
LOCATION:Balsam Lake Lodge Event Venue\, 264 Cty Rd I\, Balsam Lake\, WI\, 54810\, United States
CATEGORIES:Bingo
END:VEVENT
BEGIN:VEVENT
DTSTART;TZID=America/Chicago:20270527T183000
DTEND;TZID=America/Chicago:20270527T193000
DTSTAMP:20260420T010607
CREATED:20251209T085612Z
LAST-MODIFIED:20251209T085612Z
UID:10004891-1811442600-1811446200@balsamlakelodge.com
SUMMARY:Eagle Brook Church Viewing Service
DESCRIPTION:
URL:https://balsamlakelodge.com/events-2/eagle-brook-church-viewing-service/2027-05-27/
LOCATION:Balsam Lake Lodge Event Venue\, 264 Cty Rd I\, Balsam Lake\, WI\, 54810\, United States
END:VEVENT
END:VCALENDAR