BEGIN:VCALENDAR
VERSION:2.0
PRODID:-//Balsam Lake Lodge - ECPv6.15.20//NONSGML v1.0//EN
CALSCALE:GREGORIAN
METHOD:PUBLISH
X-WR-CALNAME:Balsam Lake Lodge
X-ORIGINAL-URL:https://balsamlakelodge.com
X-WR-CALDESC:Events for Balsam Lake Lodge
REFRESH-INTERVAL;VALUE=DURATION:PT1H
X-Robots-Tag:noindex
X-PUBLISHED-TTL:PT1H
BEGIN:VTIMEZONE
TZID:America/Chicago
BEGIN:DAYLIGHT
TZOFFSETFROM:-0600
TZOFFSETTO:-0500
TZNAME:CDT
DTSTART:20270314T080000
END:DAYLIGHT
BEGIN:STANDARD
TZOFFSETFROM:-0500
TZOFFSETTO:-0600
TZNAME:CST
DTSTART:20271107T070000
END:STANDARD
BEGIN:DAYLIGHT
TZOFFSETFROM:-0600
TZOFFSETTO:-0500
TZNAME:CDT
DTSTART:20280312T080000
END:DAYLIGHT
BEGIN:STANDARD
TZOFFSETFROM:-0500
TZOFFSETTO:-0600
TZNAME:CST
DTSTART:20281105T070000
END:STANDARD
BEGIN:DAYLIGHT
TZOFFSETFROM:-0600
TZOFFSETTO:-0500
TZNAME:CDT
DTSTART:20290311T080000
END:DAYLIGHT
BEGIN:STANDARD
TZOFFSETFROM:-0500
TZOFFSETTO:-0600
TZNAME:CST
DTSTART:20291104T070000
END:STANDARD
END:VTIMEZONE
BEGIN:VEVENT
DTSTART;TZID=America/Chicago:20280129T080000
DTEND;TZID=America/Chicago:20280129T113000
DTSTAMP:20260421T002135
CREATED:20250407T141743Z
LAST-MODIFIED:20250407T141745Z
UID:10001619-1832745600-1832758200@balsamlakelodge.com
SUMMARY:Breakfast & Bloody Mary Bar
DESCRIPTION:
URL:https://balsamlakelodge.com/events-2/breakfast-bloody-mary-bar-2-2/2028-01-29/
LOCATION:Balsam Lake Lodge Event Venue\, 264 Cty Rd I\, Balsam Lake\, WI\, 54810\, United States
END:VEVENT
BEGIN:VEVENT
DTSTART;TZID=America/Chicago:20280130T080000
DTEND;TZID=America/Chicago:20280130T113000
DTSTAMP:20260421T002135
CREATED:20250407T141743Z
LAST-MODIFIED:20250407T141745Z
UID:10001620-1832832000-1832844600@balsamlakelodge.com
SUMMARY:Breakfast & Bloody Mary Bar
DESCRIPTION:
URL:https://balsamlakelodge.com/events-2/breakfast-bloody-mary-bar-2-2/2028-01-30/
LOCATION:Balsam Lake Lodge Event Venue\, 264 Cty Rd I\, Balsam Lake\, WI\, 54810\, United States
END:VEVENT
BEGIN:VEVENT
DTSTART;TZID=America/Chicago:20280131T180000
DTEND;TZID=America/Chicago:20280131T200000
DTSTAMP:20260421T002135
CREATED:20250311T172607Z
LAST-MODIFIED:20250311T172607Z
UID:10004535-1832954400-1832961600@balsamlakelodge.com
SUMMARY:Monday Night Bingo
DESCRIPTION:
URL:https://balsamlakelodge.com/events-2/monday-night-bingo/2028-01-31/
LOCATION:Balsam Lake Lodge Event Venue\, 264 Cty Rd I\, Balsam Lake\, WI\, 54810\, United States
CATEGORIES:Bingo
END:VEVENT
BEGIN:VEVENT
DTSTART;TZID=America/Chicago:20280203T183000
DTEND;TZID=America/Chicago:20280203T193000
DTSTAMP:20260421T002135
CREATED:20251209T085612Z
LAST-MODIFIED:20251209T085612Z
UID:10004927-1833215400-1833219000@balsamlakelodge.com
SUMMARY:Eagle Brook Church Viewing Service
DESCRIPTION:
URL:https://balsamlakelodge.com/events-2/eagle-brook-church-viewing-service/2028-02-03/
LOCATION:Balsam Lake Lodge Event Venue\, 264 Cty Rd I\, Balsam Lake\, WI\, 54810\, United States
END:VEVENT
BEGIN:VEVENT
DTSTART;TZID=America/Chicago:20280205T080000
DTEND;TZID=America/Chicago:20280205T113000
DTSTAMP:20260421T002135
CREATED:20250407T141743Z
LAST-MODIFIED:20250407T141745Z
UID:10001621-1833350400-1833363000@balsamlakelodge.com
SUMMARY:Breakfast & Bloody Mary Bar
DESCRIPTION:
URL:https://balsamlakelodge.com/events-2/breakfast-bloody-mary-bar-2-2/2028-02-05/
LOCATION:Balsam Lake Lodge Event Venue\, 264 Cty Rd I\, Balsam Lake\, WI\, 54810\, United States
END:VEVENT
BEGIN:VEVENT
DTSTART;TZID=America/Chicago:20280206T080000
DTEND;TZID=America/Chicago:20280206T113000
DTSTAMP:20260421T002135
CREATED:20250407T141743Z
LAST-MODIFIED:20250407T141745Z
UID:10001622-1833436800-1833449400@balsamlakelodge.com
SUMMARY:Breakfast & Bloody Mary Bar
DESCRIPTION:
URL:https://balsamlakelodge.com/events-2/breakfast-bloody-mary-bar-2-2/2028-02-06/
LOCATION:Balsam Lake Lodge Event Venue\, 264 Cty Rd I\, Balsam Lake\, WI\, 54810\, United States
END:VEVENT
BEGIN:VEVENT
DTSTART;TZID=America/Chicago:20280207T180000
DTEND;TZID=America/Chicago:20280207T200000
DTSTAMP:20260421T002135
CREATED:20250311T172607Z
LAST-MODIFIED:20250311T172607Z
UID:10004536-1833559200-1833566400@balsamlakelodge.com
SUMMARY:Monday Night Bingo
DESCRIPTION:
URL:https://balsamlakelodge.com/events-2/monday-night-bingo/2028-02-07/
LOCATION:Balsam Lake Lodge Event Venue\, 264 Cty Rd I\, Balsam Lake\, WI\, 54810\, United States
CATEGORIES:Bingo
END:VEVENT
BEGIN:VEVENT
DTSTART;TZID=America/Chicago:20280210T183000
DTEND;TZID=America/Chicago:20280210T193000
DTSTAMP:20260421T002135
CREATED:20251209T085612Z
LAST-MODIFIED:20251209T085612Z
UID:10004928-1833820200-1833823800@balsamlakelodge.com
SUMMARY:Eagle Brook Church Viewing Service
DESCRIPTION:
URL:https://balsamlakelodge.com/events-2/eagle-brook-church-viewing-service/2028-02-10/
LOCATION:Balsam Lake Lodge Event Venue\, 264 Cty Rd I\, Balsam Lake\, WI\, 54810\, United States
END:VEVENT
BEGIN:VEVENT
DTSTART;TZID=America/Chicago:20280212T080000
DTEND;TZID=America/Chicago:20280212T113000
DTSTAMP:20260421T002135
CREATED:20250407T141743Z
LAST-MODIFIED:20250407T141745Z
UID:10001623-1833955200-1833967800@balsamlakelodge.com
SUMMARY:Breakfast & Bloody Mary Bar
DESCRIPTION:
URL:https://balsamlakelodge.com/events-2/breakfast-bloody-mary-bar-2-2/2028-02-12/
LOCATION:Balsam Lake Lodge Event Venue\, 264 Cty Rd I\, Balsam Lake\, WI\, 54810\, United States
END:VEVENT
BEGIN:VEVENT
DTSTART;TZID=America/Chicago:20280213T080000
DTEND;TZID=America/Chicago:20280213T113000
DTSTAMP:20260421T002135
CREATED:20250407T141743Z
LAST-MODIFIED:20250407T141745Z
UID:10001624-1834041600-1834054200@balsamlakelodge.com
SUMMARY:Breakfast & Bloody Mary Bar
DESCRIPTION:
URL:https://balsamlakelodge.com/events-2/breakfast-bloody-mary-bar-2-2/2028-02-13/
LOCATION:Balsam Lake Lodge Event Venue\, 264 Cty Rd I\, Balsam Lake\, WI\, 54810\, United States
END:VEVENT
BEGIN:VEVENT
DTSTART;TZID=America/Chicago:20280214T180000
DTEND;TZID=America/Chicago:20280214T200000
DTSTAMP:20260421T002135
CREATED:20250311T172607Z
LAST-MODIFIED:20250311T172607Z
UID:10004537-1834164000-1834171200@balsamlakelodge.com
SUMMARY:Monday Night Bingo
DESCRIPTION:
URL:https://balsamlakelodge.com/events-2/monday-night-bingo/2028-02-14/
LOCATION:Balsam Lake Lodge Event Venue\, 264 Cty Rd I\, Balsam Lake\, WI\, 54810\, United States
CATEGORIES:Bingo
END:VEVENT
BEGIN:VEVENT
DTSTART;TZID=America/Chicago:20280217T183000
DTEND;TZID=America/Chicago:20280217T193000
DTSTAMP:20260421T002135
CREATED:20251209T085612Z
LAST-MODIFIED:20251209T085612Z
UID:10004929-1834425000-1834428600@balsamlakelodge.com
SUMMARY:Eagle Brook Church Viewing Service
DESCRIPTION:
URL:https://balsamlakelodge.com/events-2/eagle-brook-church-viewing-service/2028-02-17/
LOCATION:Balsam Lake Lodge Event Venue\, 264 Cty Rd I\, Balsam Lake\, WI\, 54810\, United States
END:VEVENT
BEGIN:VEVENT
DTSTART;TZID=America/Chicago:20280219T080000
DTEND;TZID=America/Chicago:20280219T113000
DTSTAMP:20260421T002135
CREATED:20250407T141743Z
LAST-MODIFIED:20250407T141745Z
UID:10001625-1834560000-1834572600@balsamlakelodge.com
SUMMARY:Breakfast & Bloody Mary Bar
DESCRIPTION:
URL:https://balsamlakelodge.com/events-2/breakfast-bloody-mary-bar-2-2/2028-02-19/
LOCATION:Balsam Lake Lodge Event Venue\, 264 Cty Rd I\, Balsam Lake\, WI\, 54810\, United States
END:VEVENT
BEGIN:VEVENT
DTSTART;TZID=America/Chicago:20280220T080000
DTEND;TZID=America/Chicago:20280220T113000
DTSTAMP:20260421T002135
CREATED:20250407T141743Z
LAST-MODIFIED:20250407T141745Z
UID:10001626-1834646400-1834659000@balsamlakelodge.com
SUMMARY:Breakfast & Bloody Mary Bar
DESCRIPTION:
URL:https://balsamlakelodge.com/events-2/breakfast-bloody-mary-bar-2-2/2028-02-20/
LOCATION:Balsam Lake Lodge Event Venue\, 264 Cty Rd I\, Balsam Lake\, WI\, 54810\, United States
END:VEVENT
BEGIN:VEVENT
DTSTART;TZID=America/Chicago:20280221T180000
DTEND;TZID=America/Chicago:20280221T200000
DTSTAMP:20260421T002135
CREATED:20250311T172607Z
LAST-MODIFIED:20250311T172607Z
UID:10004538-1834768800-1834776000@balsamlakelodge.com
SUMMARY:Monday Night Bingo
DESCRIPTION:
URL:https://balsamlakelodge.com/events-2/monday-night-bingo/2028-02-21/
LOCATION:Balsam Lake Lodge Event Venue\, 264 Cty Rd I\, Balsam Lake\, WI\, 54810\, United States
CATEGORIES:Bingo
END:VEVENT
BEGIN:VEVENT
DTSTART;TZID=America/Chicago:20280224T183000
DTEND;TZID=America/Chicago:20280224T193000
DTSTAMP:20260421T002135
CREATED:20251209T085612Z
LAST-MODIFIED:20251209T085612Z
UID:10004930-1835029800-1835033400@balsamlakelodge.com
SUMMARY:Eagle Brook Church Viewing Service
DESCRIPTION:
URL:https://balsamlakelodge.com/events-2/eagle-brook-church-viewing-service/2028-02-24/
LOCATION:Balsam Lake Lodge Event Venue\, 264 Cty Rd I\, Balsam Lake\, WI\, 54810\, United States
END:VEVENT
BEGIN:VEVENT
DTSTART;TZID=America/Chicago:20280226T080000
DTEND;TZID=America/Chicago:20280226T113000
DTSTAMP:20260421T002135
CREATED:20250407T141743Z
LAST-MODIFIED:20250407T141745Z
UID:10001627-1835164800-1835177400@balsamlakelodge.com
SUMMARY:Breakfast & Bloody Mary Bar
DESCRIPTION:
URL:https://balsamlakelodge.com/events-2/breakfast-bloody-mary-bar-2-2/2028-02-26/
LOCATION:Balsam Lake Lodge Event Venue\, 264 Cty Rd I\, Balsam Lake\, WI\, 54810\, United States
END:VEVENT
BEGIN:VEVENT
DTSTART;TZID=America/Chicago:20280227T080000
DTEND;TZID=America/Chicago:20280227T113000
DTSTAMP:20260421T002135
CREATED:20250407T141743Z
LAST-MODIFIED:20250407T141745Z
UID:10001628-1835251200-1835263800@balsamlakelodge.com
SUMMARY:Breakfast & Bloody Mary Bar
DESCRIPTION:
URL:https://balsamlakelodge.com/events-2/breakfast-bloody-mary-bar-2-2/2028-02-27/
LOCATION:Balsam Lake Lodge Event Venue\, 264 Cty Rd I\, Balsam Lake\, WI\, 54810\, United States
END:VEVENT
BEGIN:VEVENT
DTSTART;TZID=America/Chicago:20280228T180000
DTEND;TZID=America/Chicago:20280228T200000
DTSTAMP:20260421T002135
CREATED:20250311T172607Z
LAST-MODIFIED:20250311T172607Z
UID:10004539-1835373600-1835380800@balsamlakelodge.com
SUMMARY:Monday Night Bingo
DESCRIPTION:
URL:https://balsamlakelodge.com/events-2/monday-night-bingo/2028-02-28/
LOCATION:Balsam Lake Lodge Event Venue\, 264 Cty Rd I\, Balsam Lake\, WI\, 54810\, United States
CATEGORIES:Bingo
END:VEVENT
BEGIN:VEVENT
DTSTART;TZID=America/Chicago:20280302T183000
DTEND;TZID=America/Chicago:20280302T193000
DTSTAMP:20260421T002135
CREATED:20251209T085612Z
LAST-MODIFIED:20251209T085612Z
UID:10004931-1835634600-1835638200@balsamlakelodge.com
SUMMARY:Eagle Brook Church Viewing Service
DESCRIPTION:
URL:https://balsamlakelodge.com/events-2/eagle-brook-church-viewing-service/2028-03-02/
LOCATION:Balsam Lake Lodge Event Venue\, 264 Cty Rd I\, Balsam Lake\, WI\, 54810\, United States
END:VEVENT
BEGIN:VEVENT
DTSTART;TZID=America/Chicago:20280304T080000
DTEND;TZID=America/Chicago:20280304T113000
DTSTAMP:20260421T002135
CREATED:20250407T141743Z
LAST-MODIFIED:20250407T141745Z
UID:10001629-1835769600-1835782200@balsamlakelodge.com
SUMMARY:Breakfast & Bloody Mary Bar
DESCRIPTION:
URL:https://balsamlakelodge.com/events-2/breakfast-bloody-mary-bar-2-2/2028-03-04/
LOCATION:Balsam Lake Lodge Event Venue\, 264 Cty Rd I\, Balsam Lake\, WI\, 54810\, United States
END:VEVENT
BEGIN:VEVENT
DTSTART;TZID=America/Chicago:20280305T080000
DTEND;TZID=America/Chicago:20280305T113000
DTSTAMP:20260421T002135
CREATED:20250407T141743Z
LAST-MODIFIED:20250407T141745Z
UID:10001630-1835856000-1835868600@balsamlakelodge.com
SUMMARY:Breakfast & Bloody Mary Bar
DESCRIPTION:
URL:https://balsamlakelodge.com/events-2/breakfast-bloody-mary-bar-2-2/2028-03-05/
LOCATION:Balsam Lake Lodge Event Venue\, 264 Cty Rd I\, Balsam Lake\, WI\, 54810\, United States
END:VEVENT
BEGIN:VEVENT
DTSTART;TZID=America/Chicago:20280306T180000
DTEND;TZID=America/Chicago:20280306T200000
DTSTAMP:20260421T002135
CREATED:20250311T172607Z
LAST-MODIFIED:20250311T172607Z
UID:10004540-1835978400-1835985600@balsamlakelodge.com
SUMMARY:Monday Night Bingo
DESCRIPTION:
URL:https://balsamlakelodge.com/events-2/monday-night-bingo/2028-03-06/
LOCATION:Balsam Lake Lodge Event Venue\, 264 Cty Rd I\, Balsam Lake\, WI\, 54810\, United States
CATEGORIES:Bingo
END:VEVENT
BEGIN:VEVENT
DTSTART;TZID=America/Chicago:20280309T183000
DTEND;TZID=America/Chicago:20280309T193000
DTSTAMP:20260421T002135
CREATED:20251209T085612Z
LAST-MODIFIED:20251209T085612Z
UID:10004932-1836239400-1836243000@balsamlakelodge.com
SUMMARY:Eagle Brook Church Viewing Service
DESCRIPTION:
URL:https://balsamlakelodge.com/events-2/eagle-brook-church-viewing-service/2028-03-09/
LOCATION:Balsam Lake Lodge Event Venue\, 264 Cty Rd I\, Balsam Lake\, WI\, 54810\, United States
END:VEVENT
BEGIN:VEVENT
DTSTART;TZID=America/Chicago:20280311T080000
DTEND;TZID=America/Chicago:20280311T113000
DTSTAMP:20260421T002135
CREATED:20250407T141743Z
LAST-MODIFIED:20250407T141745Z
UID:10001631-1836374400-1836387000@balsamlakelodge.com
SUMMARY:Breakfast & Bloody Mary Bar
DESCRIPTION:
URL:https://balsamlakelodge.com/events-2/breakfast-bloody-mary-bar-2-2/2028-03-11/
LOCATION:Balsam Lake Lodge Event Venue\, 264 Cty Rd I\, Balsam Lake\, WI\, 54810\, United States
END:VEVENT
BEGIN:VEVENT
DTSTART;TZID=America/Chicago:20280312T080000
DTEND;TZID=America/Chicago:20280312T113000
DTSTAMP:20260421T002135
CREATED:20250407T141743Z
LAST-MODIFIED:20250407T141745Z
UID:10001632-1836460800-1836473400@balsamlakelodge.com
SUMMARY:Breakfast & Bloody Mary Bar
DESCRIPTION:
URL:https://balsamlakelodge.com/events-2/breakfast-bloody-mary-bar-2-2/2028-03-12/
LOCATION:Balsam Lake Lodge Event Venue\, 264 Cty Rd I\, Balsam Lake\, WI\, 54810\, United States
END:VEVENT
BEGIN:VEVENT
DTSTART;TZID=America/Chicago:20280313T180000
DTEND;TZID=America/Chicago:20280313T200000
DTSTAMP:20260421T002135
CREATED:20250311T172607Z
LAST-MODIFIED:20250311T172607Z
UID:10004541-1836583200-1836590400@balsamlakelodge.com
SUMMARY:Monday Night Bingo
DESCRIPTION:
URL:https://balsamlakelodge.com/events-2/monday-night-bingo/2028-03-13/
LOCATION:Balsam Lake Lodge Event Venue\, 264 Cty Rd I\, Balsam Lake\, WI\, 54810\, United States
CATEGORIES:Bingo
END:VEVENT
BEGIN:VEVENT
DTSTART;TZID=America/Chicago:20280316T183000
DTEND;TZID=America/Chicago:20280316T193000
DTSTAMP:20260421T002135
CREATED:20251209T085612Z
LAST-MODIFIED:20251209T085612Z
UID:10004933-1836844200-1836847800@balsamlakelodge.com
SUMMARY:Eagle Brook Church Viewing Service
DESCRIPTION:
URL:https://balsamlakelodge.com/events-2/eagle-brook-church-viewing-service/2028-03-16/
LOCATION:Balsam Lake Lodge Event Venue\, 264 Cty Rd I\, Balsam Lake\, WI\, 54810\, United States
END:VEVENT
BEGIN:VEVENT
DTSTART;TZID=America/Chicago:20280318T080000
DTEND;TZID=America/Chicago:20280318T113000
DTSTAMP:20260421T002135
CREATED:20250407T141743Z
LAST-MODIFIED:20250407T141745Z
UID:10001633-1836979200-1836991800@balsamlakelodge.com
SUMMARY:Breakfast & Bloody Mary Bar
DESCRIPTION:
URL:https://balsamlakelodge.com/events-2/breakfast-bloody-mary-bar-2-2/2028-03-18/
LOCATION:Balsam Lake Lodge Event Venue\, 264 Cty Rd I\, Balsam Lake\, WI\, 54810\, United States
END:VEVENT
BEGIN:VEVENT
DTSTART;TZID=America/Chicago:20280319T080000
DTEND;TZID=America/Chicago:20280319T113000
DTSTAMP:20260421T002135
CREATED:20250407T141743Z
LAST-MODIFIED:20250407T141745Z
UID:10001634-1837065600-1837078200@balsamlakelodge.com
SUMMARY:Breakfast & Bloody Mary Bar
DESCRIPTION:
URL:https://balsamlakelodge.com/events-2/breakfast-bloody-mary-bar-2-2/2028-03-19/
LOCATION:Balsam Lake Lodge Event Venue\, 264 Cty Rd I\, Balsam Lake\, WI\, 54810\, United States
END:VEVENT
END:VCALENDAR