BEGIN:VCALENDAR
VERSION:2.0
PRODID:-//Balsam Lake Lodge - ECPv6.15.20//NONSGML v1.0//EN
CALSCALE:GREGORIAN
METHOD:PUBLISH
X-ORIGINAL-URL:https://balsamlakelodge.com
X-WR-CALDESC:Events for Balsam Lake Lodge
REFRESH-INTERVAL;VALUE=DURATION:PT1H
X-Robots-Tag:noindex
X-PUBLISHED-TTL:PT1H
BEGIN:VTIMEZONE
TZID:America/Chicago
BEGIN:DAYLIGHT
TZOFFSETFROM:-0600
TZOFFSETTO:-0500
TZNAME:CDT
DTSTART:20260308T080000
END:DAYLIGHT
BEGIN:STANDARD
TZOFFSETFROM:-0500
TZOFFSETTO:-0600
TZNAME:CST
DTSTART:20261101T070000
END:STANDARD
BEGIN:DAYLIGHT
TZOFFSETFROM:-0600
TZOFFSETTO:-0500
TZNAME:CDT
DTSTART:20270314T080000
END:DAYLIGHT
BEGIN:STANDARD
TZOFFSETFROM:-0500
TZOFFSETTO:-0600
TZNAME:CST
DTSTART:20271107T070000
END:STANDARD
BEGIN:DAYLIGHT
TZOFFSETFROM:-0600
TZOFFSETTO:-0500
TZNAME:CDT
DTSTART:20280312T080000
END:DAYLIGHT
BEGIN:STANDARD
TZOFFSETFROM:-0500
TZOFFSETTO:-0600
TZNAME:CST
DTSTART:20281105T070000
END:STANDARD
END:VTIMEZONE
BEGIN:VEVENT
DTSTART;TZID=America/Chicago:20270815T080000
DTEND;TZID=America/Chicago:20270815T113000
DTSTAMP:20260420T025300
CREATED:20250407T141743Z
LAST-MODIFIED:20250407T141745Z
UID:10001572-1818316800-1818329400@balsamlakelodge.com
SUMMARY:Breakfast & Bloody Mary Bar
DESCRIPTION:
URL:https://balsamlakelodge.com/events-2/breakfast-bloody-mary-bar-2-2/2027-08-15/
LOCATION:Balsam Lake Lodge Event Venue\, 264 Cty Rd I\, Balsam Lake\, WI\, 54810\, United States
END:VEVENT
BEGIN:VEVENT
DTSTART;TZID=America/Chicago:20270816T180000
DTEND;TZID=America/Chicago:20270816T200000
DTSTAMP:20260420T025300
CREATED:20250311T172607Z
LAST-MODIFIED:20250311T172607Z
UID:10004511-1818439200-1818446400@balsamlakelodge.com
SUMMARY:Monday Night Bingo
DESCRIPTION:
URL:https://balsamlakelodge.com/events-2/monday-night-bingo/2027-08-16/
LOCATION:Balsam Lake Lodge Event Venue\, 264 Cty Rd I\, Balsam Lake\, WI\, 54810\, United States
CATEGORIES:Bingo
END:VEVENT
BEGIN:VEVENT
DTSTART;TZID=America/Chicago:20270819T183000
DTEND;TZID=America/Chicago:20270819T193000
DTSTAMP:20260420T025300
CREATED:20251209T085612Z
LAST-MODIFIED:20251209T085612Z
UID:10004903-1818700200-1818703800@balsamlakelodge.com
SUMMARY:Eagle Brook Church Viewing Service
DESCRIPTION:
URL:https://balsamlakelodge.com/events-2/eagle-brook-church-viewing-service/2027-08-19/
LOCATION:Balsam Lake Lodge Event Venue\, 264 Cty Rd I\, Balsam Lake\, WI\, 54810\, United States
END:VEVENT
BEGIN:VEVENT
DTSTART;TZID=America/Chicago:20270821T080000
DTEND;TZID=America/Chicago:20270821T113000
DTSTAMP:20260420T025300
CREATED:20250407T141743Z
LAST-MODIFIED:20250407T141745Z
UID:10001573-1818835200-1818847800@balsamlakelodge.com
SUMMARY:Breakfast & Bloody Mary Bar
DESCRIPTION:
URL:https://balsamlakelodge.com/events-2/breakfast-bloody-mary-bar-2-2/2027-08-21/
LOCATION:Balsam Lake Lodge Event Venue\, 264 Cty Rd I\, Balsam Lake\, WI\, 54810\, United States
END:VEVENT
BEGIN:VEVENT
DTSTART;TZID=America/Chicago:20270822T080000
DTEND;TZID=America/Chicago:20270822T113000
DTSTAMP:20260420T025300
CREATED:20250407T141743Z
LAST-MODIFIED:20250407T141745Z
UID:10001574-1818921600-1818934200@balsamlakelodge.com
SUMMARY:Breakfast & Bloody Mary Bar
DESCRIPTION:
URL:https://balsamlakelodge.com/events-2/breakfast-bloody-mary-bar-2-2/2027-08-22/
LOCATION:Balsam Lake Lodge Event Venue\, 264 Cty Rd I\, Balsam Lake\, WI\, 54810\, United States
END:VEVENT
BEGIN:VEVENT
DTSTART;TZID=America/Chicago:20270823T180000
DTEND;TZID=America/Chicago:20270823T200000
DTSTAMP:20260420T025300
CREATED:20250311T172607Z
LAST-MODIFIED:20250311T172607Z
UID:10004512-1819044000-1819051200@balsamlakelodge.com
SUMMARY:Monday Night Bingo
DESCRIPTION:
URL:https://balsamlakelodge.com/events-2/monday-night-bingo/2027-08-23/
LOCATION:Balsam Lake Lodge Event Venue\, 264 Cty Rd I\, Balsam Lake\, WI\, 54810\, United States
CATEGORIES:Bingo
END:VEVENT
BEGIN:VEVENT
DTSTART;TZID=America/Chicago:20270826T183000
DTEND;TZID=America/Chicago:20270826T193000
DTSTAMP:20260420T025300
CREATED:20251209T085612Z
LAST-MODIFIED:20251209T085612Z
UID:10004904-1819305000-1819308600@balsamlakelodge.com
SUMMARY:Eagle Brook Church Viewing Service
DESCRIPTION:
URL:https://balsamlakelodge.com/events-2/eagle-brook-church-viewing-service/2027-08-26/
LOCATION:Balsam Lake Lodge Event Venue\, 264 Cty Rd I\, Balsam Lake\, WI\, 54810\, United States
END:VEVENT
BEGIN:VEVENT
DTSTART;TZID=America/Chicago:20270828T080000
DTEND;TZID=America/Chicago:20270828T113000
DTSTAMP:20260420T025300
CREATED:20250407T141743Z
LAST-MODIFIED:20250407T141745Z
UID:10001575-1819440000-1819452600@balsamlakelodge.com
SUMMARY:Breakfast & Bloody Mary Bar
DESCRIPTION:
URL:https://balsamlakelodge.com/events-2/breakfast-bloody-mary-bar-2-2/2027-08-28/
LOCATION:Balsam Lake Lodge Event Venue\, 264 Cty Rd I\, Balsam Lake\, WI\, 54810\, United States
END:VEVENT
BEGIN:VEVENT
DTSTART;TZID=America/Chicago:20270829T080000
DTEND;TZID=America/Chicago:20270829T113000
DTSTAMP:20260420T025300
CREATED:20250407T141743Z
LAST-MODIFIED:20250407T141745Z
UID:10001576-1819526400-1819539000@balsamlakelodge.com
SUMMARY:Breakfast & Bloody Mary Bar
DESCRIPTION:
URL:https://balsamlakelodge.com/events-2/breakfast-bloody-mary-bar-2-2/2027-08-29/
LOCATION:Balsam Lake Lodge Event Venue\, 264 Cty Rd I\, Balsam Lake\, WI\, 54810\, United States
END:VEVENT
BEGIN:VEVENT
DTSTART;TZID=America/Chicago:20270830T180000
DTEND;TZID=America/Chicago:20270830T200000
DTSTAMP:20260420T025300
CREATED:20250311T172607Z
LAST-MODIFIED:20250311T172607Z
UID:10004513-1819648800-1819656000@balsamlakelodge.com
SUMMARY:Monday Night Bingo
DESCRIPTION:
URL:https://balsamlakelodge.com/events-2/monday-night-bingo/2027-08-30/
LOCATION:Balsam Lake Lodge Event Venue\, 264 Cty Rd I\, Balsam Lake\, WI\, 54810\, United States
CATEGORIES:Bingo
END:VEVENT
BEGIN:VEVENT
DTSTART;TZID=America/Chicago:20270902T183000
DTEND;TZID=America/Chicago:20270902T193000
DTSTAMP:20260420T025300
CREATED:20251209T085612Z
LAST-MODIFIED:20251209T085612Z
UID:10004905-1819909800-1819913400@balsamlakelodge.com
SUMMARY:Eagle Brook Church Viewing Service
DESCRIPTION:
URL:https://balsamlakelodge.com/events-2/eagle-brook-church-viewing-service/2027-09-02/
LOCATION:Balsam Lake Lodge Event Venue\, 264 Cty Rd I\, Balsam Lake\, WI\, 54810\, United States
END:VEVENT
BEGIN:VEVENT
DTSTART;TZID=America/Chicago:20270904T080000
DTEND;TZID=America/Chicago:20270904T113000
DTSTAMP:20260420T025300
CREATED:20250407T141743Z
LAST-MODIFIED:20250407T141745Z
UID:10001577-1820044800-1820057400@balsamlakelodge.com
SUMMARY:Breakfast & Bloody Mary Bar
DESCRIPTION:
URL:https://balsamlakelodge.com/events-2/breakfast-bloody-mary-bar-2-2/2027-09-04/
LOCATION:Balsam Lake Lodge Event Venue\, 264 Cty Rd I\, Balsam Lake\, WI\, 54810\, United States
END:VEVENT
BEGIN:VEVENT
DTSTART;TZID=America/Chicago:20270905T080000
DTEND;TZID=America/Chicago:20270905T113000
DTSTAMP:20260420T025300
CREATED:20250407T141743Z
LAST-MODIFIED:20250407T141745Z
UID:10001578-1820131200-1820143800@balsamlakelodge.com
SUMMARY:Breakfast & Bloody Mary Bar
DESCRIPTION:
URL:https://balsamlakelodge.com/events-2/breakfast-bloody-mary-bar-2-2/2027-09-05/
LOCATION:Balsam Lake Lodge Event Venue\, 264 Cty Rd I\, Balsam Lake\, WI\, 54810\, United States
END:VEVENT
BEGIN:VEVENT
DTSTART;TZID=America/Chicago:20270906T180000
DTEND;TZID=America/Chicago:20270906T200000
DTSTAMP:20260420T025300
CREATED:20250311T172607Z
LAST-MODIFIED:20250311T172607Z
UID:10004514-1820253600-1820260800@balsamlakelodge.com
SUMMARY:Monday Night Bingo
DESCRIPTION:
URL:https://balsamlakelodge.com/events-2/monday-night-bingo/2027-09-06/
LOCATION:Balsam Lake Lodge Event Venue\, 264 Cty Rd I\, Balsam Lake\, WI\, 54810\, United States
CATEGORIES:Bingo
END:VEVENT
BEGIN:VEVENT
DTSTART;TZID=America/Chicago:20270909T183000
DTEND;TZID=America/Chicago:20270909T193000
DTSTAMP:20260420T025300
CREATED:20251209T085612Z
LAST-MODIFIED:20251209T085612Z
UID:10004906-1820514600-1820518200@balsamlakelodge.com
SUMMARY:Eagle Brook Church Viewing Service
DESCRIPTION:
URL:https://balsamlakelodge.com/events-2/eagle-brook-church-viewing-service/2027-09-09/
LOCATION:Balsam Lake Lodge Event Venue\, 264 Cty Rd I\, Balsam Lake\, WI\, 54810\, United States
END:VEVENT
BEGIN:VEVENT
DTSTART;TZID=America/Chicago:20270911T080000
DTEND;TZID=America/Chicago:20270911T113000
DTSTAMP:20260420T025300
CREATED:20250407T141743Z
LAST-MODIFIED:20250407T141745Z
UID:10001579-1820649600-1820662200@balsamlakelodge.com
SUMMARY:Breakfast & Bloody Mary Bar
DESCRIPTION:
URL:https://balsamlakelodge.com/events-2/breakfast-bloody-mary-bar-2-2/2027-09-11/
LOCATION:Balsam Lake Lodge Event Venue\, 264 Cty Rd I\, Balsam Lake\, WI\, 54810\, United States
END:VEVENT
BEGIN:VEVENT
DTSTART;TZID=America/Chicago:20270912T080000
DTEND;TZID=America/Chicago:20270912T113000
DTSTAMP:20260420T025300
CREATED:20250407T141743Z
LAST-MODIFIED:20250407T141745Z
UID:10001580-1820736000-1820748600@balsamlakelodge.com
SUMMARY:Breakfast & Bloody Mary Bar
DESCRIPTION:
URL:https://balsamlakelodge.com/events-2/breakfast-bloody-mary-bar-2-2/2027-09-12/
LOCATION:Balsam Lake Lodge Event Venue\, 264 Cty Rd I\, Balsam Lake\, WI\, 54810\, United States
END:VEVENT
BEGIN:VEVENT
DTSTART;TZID=America/Chicago:20270913T180000
DTEND;TZID=America/Chicago:20270913T200000
DTSTAMP:20260420T025300
CREATED:20250311T172607Z
LAST-MODIFIED:20250311T172607Z
UID:10004515-1820858400-1820865600@balsamlakelodge.com
SUMMARY:Monday Night Bingo
DESCRIPTION:
URL:https://balsamlakelodge.com/events-2/monday-night-bingo/2027-09-13/
LOCATION:Balsam Lake Lodge Event Venue\, 264 Cty Rd I\, Balsam Lake\, WI\, 54810\, United States
CATEGORIES:Bingo
END:VEVENT
BEGIN:VEVENT
DTSTART;TZID=America/Chicago:20270916T183000
DTEND;TZID=America/Chicago:20270916T193000
DTSTAMP:20260420T025300
CREATED:20251209T085612Z
LAST-MODIFIED:20251209T085612Z
UID:10004907-1821119400-1821123000@balsamlakelodge.com
SUMMARY:Eagle Brook Church Viewing Service
DESCRIPTION:
URL:https://balsamlakelodge.com/events-2/eagle-brook-church-viewing-service/2027-09-16/
LOCATION:Balsam Lake Lodge Event Venue\, 264 Cty Rd I\, Balsam Lake\, WI\, 54810\, United States
END:VEVENT
BEGIN:VEVENT
DTSTART;TZID=America/Chicago:20270918T080000
DTEND;TZID=America/Chicago:20270918T113000
DTSTAMP:20260420T025300
CREATED:20250407T141743Z
LAST-MODIFIED:20250407T141745Z
UID:10001581-1821254400-1821267000@balsamlakelodge.com
SUMMARY:Breakfast & Bloody Mary Bar
DESCRIPTION:
URL:https://balsamlakelodge.com/events-2/breakfast-bloody-mary-bar-2-2/2027-09-18/
LOCATION:Balsam Lake Lodge Event Venue\, 264 Cty Rd I\, Balsam Lake\, WI\, 54810\, United States
END:VEVENT
BEGIN:VEVENT
DTSTART;TZID=America/Chicago:20270919T080000
DTEND;TZID=America/Chicago:20270919T113000
DTSTAMP:20260420T025300
CREATED:20250407T141743Z
LAST-MODIFIED:20250407T141745Z
UID:10001582-1821340800-1821353400@balsamlakelodge.com
SUMMARY:Breakfast & Bloody Mary Bar
DESCRIPTION:
URL:https://balsamlakelodge.com/events-2/breakfast-bloody-mary-bar-2-2/2027-09-19/
LOCATION:Balsam Lake Lodge Event Venue\, 264 Cty Rd I\, Balsam Lake\, WI\, 54810\, United States
END:VEVENT
BEGIN:VEVENT
DTSTART;TZID=America/Chicago:20270920T180000
DTEND;TZID=America/Chicago:20270920T200000
DTSTAMP:20260420T025300
CREATED:20250311T172607Z
LAST-MODIFIED:20250311T172607Z
UID:10004516-1821463200-1821470400@balsamlakelodge.com
SUMMARY:Monday Night Bingo
DESCRIPTION:
URL:https://balsamlakelodge.com/events-2/monday-night-bingo/2027-09-20/
LOCATION:Balsam Lake Lodge Event Venue\, 264 Cty Rd I\, Balsam Lake\, WI\, 54810\, United States
CATEGORIES:Bingo
END:VEVENT
BEGIN:VEVENT
DTSTART;TZID=America/Chicago:20270923T183000
DTEND;TZID=America/Chicago:20270923T193000
DTSTAMP:20260420T025300
CREATED:20251209T085612Z
LAST-MODIFIED:20251209T085612Z
UID:10004908-1821724200-1821727800@balsamlakelodge.com
SUMMARY:Eagle Brook Church Viewing Service
DESCRIPTION:
URL:https://balsamlakelodge.com/events-2/eagle-brook-church-viewing-service/2027-09-23/
LOCATION:Balsam Lake Lodge Event Venue\, 264 Cty Rd I\, Balsam Lake\, WI\, 54810\, United States
END:VEVENT
BEGIN:VEVENT
DTSTART;TZID=America/Chicago:20270925T080000
DTEND;TZID=America/Chicago:20270925T113000
DTSTAMP:20260420T025300
CREATED:20250407T141743Z
LAST-MODIFIED:20250407T141745Z
UID:10001583-1821859200-1821871800@balsamlakelodge.com
SUMMARY:Breakfast & Bloody Mary Bar
DESCRIPTION:
URL:https://balsamlakelodge.com/events-2/breakfast-bloody-mary-bar-2-2/2027-09-25/
LOCATION:Balsam Lake Lodge Event Venue\, 264 Cty Rd I\, Balsam Lake\, WI\, 54810\, United States
END:VEVENT
BEGIN:VEVENT
DTSTART;TZID=America/Chicago:20270926T080000
DTEND;TZID=America/Chicago:20270926T113000
DTSTAMP:20260420T025300
CREATED:20250407T141743Z
LAST-MODIFIED:20250407T141745Z
UID:10001584-1821945600-1821958200@balsamlakelodge.com
SUMMARY:Breakfast & Bloody Mary Bar
DESCRIPTION:
URL:https://balsamlakelodge.com/events-2/breakfast-bloody-mary-bar-2-2/2027-09-26/
LOCATION:Balsam Lake Lodge Event Venue\, 264 Cty Rd I\, Balsam Lake\, WI\, 54810\, United States
END:VEVENT
BEGIN:VEVENT
DTSTART;TZID=America/Chicago:20270927T180000
DTEND;TZID=America/Chicago:20270927T200000
DTSTAMP:20260420T025300
CREATED:20250311T172607Z
LAST-MODIFIED:20250311T172607Z
UID:10004517-1822068000-1822075200@balsamlakelodge.com
SUMMARY:Monday Night Bingo
DESCRIPTION:
URL:https://balsamlakelodge.com/events-2/monday-night-bingo/2027-09-27/
LOCATION:Balsam Lake Lodge Event Venue\, 264 Cty Rd I\, Balsam Lake\, WI\, 54810\, United States
CATEGORIES:Bingo
END:VEVENT
BEGIN:VEVENT
DTSTART;TZID=America/Chicago:20270930T183000
DTEND;TZID=America/Chicago:20270930T193000
DTSTAMP:20260420T025300
CREATED:20251209T085612Z
LAST-MODIFIED:20251209T085612Z
UID:10004909-1822329000-1822332600@balsamlakelodge.com
SUMMARY:Eagle Brook Church Viewing Service
DESCRIPTION:
URL:https://balsamlakelodge.com/events-2/eagle-brook-church-viewing-service/2027-09-30/
LOCATION:Balsam Lake Lodge Event Venue\, 264 Cty Rd I\, Balsam Lake\, WI\, 54810\, United States
END:VEVENT
BEGIN:VEVENT
DTSTART;TZID=America/Chicago:20271002T080000
DTEND;TZID=America/Chicago:20271002T113000
DTSTAMP:20260420T025300
CREATED:20250407T141743Z
LAST-MODIFIED:20250407T141745Z
UID:10001585-1822464000-1822476600@balsamlakelodge.com
SUMMARY:Breakfast & Bloody Mary Bar
DESCRIPTION:
URL:https://balsamlakelodge.com/events-2/breakfast-bloody-mary-bar-2-2/2027-10-02/
LOCATION:Balsam Lake Lodge Event Venue\, 264 Cty Rd I\, Balsam Lake\, WI\, 54810\, United States
END:VEVENT
BEGIN:VEVENT
DTSTART;TZID=America/Chicago:20271003T080000
DTEND;TZID=America/Chicago:20271003T113000
DTSTAMP:20260420T025300
CREATED:20250407T141743Z
LAST-MODIFIED:20250407T141745Z
UID:10001586-1822550400-1822563000@balsamlakelodge.com
SUMMARY:Breakfast & Bloody Mary Bar
DESCRIPTION:
URL:https://balsamlakelodge.com/events-2/breakfast-bloody-mary-bar-2-2/2027-10-03/
LOCATION:Balsam Lake Lodge Event Venue\, 264 Cty Rd I\, Balsam Lake\, WI\, 54810\, United States
END:VEVENT
BEGIN:VEVENT
DTSTART;TZID=America/Chicago:20271004T180000
DTEND;TZID=America/Chicago:20271004T200000
DTSTAMP:20260420T025300
CREATED:20250311T172607Z
LAST-MODIFIED:20250311T172607Z
UID:10004518-1822672800-1822680000@balsamlakelodge.com
SUMMARY:Monday Night Bingo
DESCRIPTION:
URL:https://balsamlakelodge.com/events-2/monday-night-bingo/2027-10-04/
LOCATION:Balsam Lake Lodge Event Venue\, 264 Cty Rd I\, Balsam Lake\, WI\, 54810\, United States
CATEGORIES:Bingo
END:VEVENT
END:VCALENDAR