BEGIN:VCALENDAR
VERSION:2.0
PRODID:-//Balsam Lake Lodge - ECPv6.15.20//NONSGML v1.0//EN
CALSCALE:GREGORIAN
METHOD:PUBLISH
X-WR-CALNAME:Balsam Lake Lodge
X-ORIGINAL-URL:https://balsamlakelodge.com
X-WR-CALDESC:Events for Balsam Lake Lodge
REFRESH-INTERVAL;VALUE=DURATION:PT1H
X-Robots-Tag:noindex
X-PUBLISHED-TTL:PT1H
BEGIN:VTIMEZONE
TZID:America/Chicago
BEGIN:DAYLIGHT
TZOFFSETFROM:-0600
TZOFFSETTO:-0500
TZNAME:CDT
DTSTART:20280312T080000
END:DAYLIGHT
BEGIN:STANDARD
TZOFFSETFROM:-0500
TZOFFSETTO:-0600
TZNAME:CST
DTSTART:20281105T070000
END:STANDARD
BEGIN:DAYLIGHT
TZOFFSETFROM:-0600
TZOFFSETTO:-0500
TZNAME:CDT
DTSTART:20290311T080000
END:DAYLIGHT
BEGIN:STANDARD
TZOFFSETFROM:-0500
TZOFFSETTO:-0600
TZNAME:CST
DTSTART:20291104T070000
END:STANDARD
BEGIN:DAYLIGHT
TZOFFSETFROM:-0600
TZOFFSETTO:-0500
TZNAME:CDT
DTSTART:20300310T080000
END:DAYLIGHT
BEGIN:STANDARD
TZOFFSETFROM:-0500
TZOFFSETTO:-0600
TZNAME:CST
DTSTART:20301103T070000
END:STANDARD
END:VTIMEZONE
BEGIN:VEVENT
DTSTART;TZID=America/Chicago:20290325T080000
DTEND;TZID=America/Chicago:20290325T113000
DTSTAMP:20260421T195343
CREATED:20250407T141743Z
LAST-MODIFIED:20250407T141745Z
UID:10001740-1869120000-1869132600@balsamlakelodge.com
SUMMARY:Breakfast & Bloody Mary Bar
DESCRIPTION:
URL:https://balsamlakelodge.com/events-2/breakfast-bloody-mary-bar-2-2/2029-03-25/
LOCATION:Balsam Lake Lodge Event Venue\, 264 Cty Rd I\, Balsam Lake\, WI\, 54810\, United States
END:VEVENT
BEGIN:VEVENT
DTSTART;TZID=America/Chicago:20290326T180000
DTEND;TZID=America/Chicago:20290326T200000
DTSTAMP:20260421T195343
CREATED:20250311T172607Z
LAST-MODIFIED:20250311T172607Z
UID:10004595-1869242400-1869249600@balsamlakelodge.com
SUMMARY:Monday Night Bingo
DESCRIPTION:
URL:https://balsamlakelodge.com/events-2/monday-night-bingo/2029-03-26/
LOCATION:Balsam Lake Lodge Event Venue\, 264 Cty Rd I\, Balsam Lake\, WI\, 54810\, United States
CATEGORIES:Bingo
END:VEVENT
BEGIN:VEVENT
DTSTART;TZID=America/Chicago:20290329T183000
DTEND;TZID=America/Chicago:20290329T193000
DTSTAMP:20260421T195343
CREATED:20251209T085612Z
LAST-MODIFIED:20251209T085612Z
UID:10004987-1869503400-1869507000@balsamlakelodge.com
SUMMARY:Eagle Brook Church Viewing Service
DESCRIPTION:
URL:https://balsamlakelodge.com/events-2/eagle-brook-church-viewing-service/2029-03-29/
LOCATION:Balsam Lake Lodge Event Venue\, 264 Cty Rd I\, Balsam Lake\, WI\, 54810\, United States
END:VEVENT
BEGIN:VEVENT
DTSTART;TZID=America/Chicago:20290331T080000
DTEND;TZID=America/Chicago:20290331T113000
DTSTAMP:20260421T195343
CREATED:20250407T141743Z
LAST-MODIFIED:20250407T141745Z
UID:10001741-1869638400-1869651000@balsamlakelodge.com
SUMMARY:Breakfast & Bloody Mary Bar
DESCRIPTION:
URL:https://balsamlakelodge.com/events-2/breakfast-bloody-mary-bar-2-2/2029-03-31/
LOCATION:Balsam Lake Lodge Event Venue\, 264 Cty Rd I\, Balsam Lake\, WI\, 54810\, United States
END:VEVENT
BEGIN:VEVENT
DTSTART;TZID=America/Chicago:20290401T080000
DTEND;TZID=America/Chicago:20290401T113000
DTSTAMP:20260421T195343
CREATED:20250407T141743Z
LAST-MODIFIED:20250407T141745Z
UID:10001742-1869724800-1869737400@balsamlakelodge.com
SUMMARY:Breakfast & Bloody Mary Bar
DESCRIPTION:
URL:https://balsamlakelodge.com/events-2/breakfast-bloody-mary-bar-2-2/2029-04-01/
LOCATION:Balsam Lake Lodge Event Venue\, 264 Cty Rd I\, Balsam Lake\, WI\, 54810\, United States
END:VEVENT
BEGIN:VEVENT
DTSTART;TZID=America/Chicago:20290402T180000
DTEND;TZID=America/Chicago:20290402T200000
DTSTAMP:20260421T195343
CREATED:20250311T172607Z
LAST-MODIFIED:20250311T172607Z
UID:10004596-1869847200-1869854400@balsamlakelodge.com
SUMMARY:Monday Night Bingo
DESCRIPTION:
URL:https://balsamlakelodge.com/events-2/monday-night-bingo/2029-04-02/
LOCATION:Balsam Lake Lodge Event Venue\, 264 Cty Rd I\, Balsam Lake\, WI\, 54810\, United States
CATEGORIES:Bingo
END:VEVENT
BEGIN:VEVENT
DTSTART;TZID=America/Chicago:20290405T183000
DTEND;TZID=America/Chicago:20290405T193000
DTSTAMP:20260421T195343
CREATED:20251209T085612Z
LAST-MODIFIED:20251209T085612Z
UID:10004988-1870108200-1870111800@balsamlakelodge.com
SUMMARY:Eagle Brook Church Viewing Service
DESCRIPTION:
URL:https://balsamlakelodge.com/events-2/eagle-brook-church-viewing-service/2029-04-05/
LOCATION:Balsam Lake Lodge Event Venue\, 264 Cty Rd I\, Balsam Lake\, WI\, 54810\, United States
END:VEVENT
BEGIN:VEVENT
DTSTART;TZID=America/Chicago:20290407T080000
DTEND;TZID=America/Chicago:20290407T113000
DTSTAMP:20260421T195343
CREATED:20250407T141743Z
LAST-MODIFIED:20250407T141745Z
UID:10001743-1870243200-1870255800@balsamlakelodge.com
SUMMARY:Breakfast & Bloody Mary Bar
DESCRIPTION:
URL:https://balsamlakelodge.com/events-2/breakfast-bloody-mary-bar-2-2/2029-04-07/
LOCATION:Balsam Lake Lodge Event Venue\, 264 Cty Rd I\, Balsam Lake\, WI\, 54810\, United States
END:VEVENT
BEGIN:VEVENT
DTSTART;TZID=America/Chicago:20290408T080000
DTEND;TZID=America/Chicago:20290408T113000
DTSTAMP:20260421T195343
CREATED:20250407T141743Z
LAST-MODIFIED:20250407T141745Z
UID:10001744-1870329600-1870342200@balsamlakelodge.com
SUMMARY:Breakfast & Bloody Mary Bar
DESCRIPTION:
URL:https://balsamlakelodge.com/events-2/breakfast-bloody-mary-bar-2-2/2029-04-08/
LOCATION:Balsam Lake Lodge Event Venue\, 264 Cty Rd I\, Balsam Lake\, WI\, 54810\, United States
END:VEVENT
BEGIN:VEVENT
DTSTART;TZID=America/Chicago:20290409T180000
DTEND;TZID=America/Chicago:20290409T200000
DTSTAMP:20260421T195343
CREATED:20250311T172607Z
LAST-MODIFIED:20250311T172607Z
UID:10004597-1870452000-1870459200@balsamlakelodge.com
SUMMARY:Monday Night Bingo
DESCRIPTION:
URL:https://balsamlakelodge.com/events-2/monday-night-bingo/2029-04-09/
LOCATION:Balsam Lake Lodge Event Venue\, 264 Cty Rd I\, Balsam Lake\, WI\, 54810\, United States
CATEGORIES:Bingo
END:VEVENT
BEGIN:VEVENT
DTSTART;TZID=America/Chicago:20290412T183000
DTEND;TZID=America/Chicago:20290412T193000
DTSTAMP:20260421T195343
CREATED:20251209T085612Z
LAST-MODIFIED:20251209T085612Z
UID:10004989-1870713000-1870716600@balsamlakelodge.com
SUMMARY:Eagle Brook Church Viewing Service
DESCRIPTION:
URL:https://balsamlakelodge.com/events-2/eagle-brook-church-viewing-service/2029-04-12/
LOCATION:Balsam Lake Lodge Event Venue\, 264 Cty Rd I\, Balsam Lake\, WI\, 54810\, United States
END:VEVENT
BEGIN:VEVENT
DTSTART;TZID=America/Chicago:20290414T080000
DTEND;TZID=America/Chicago:20290414T113000
DTSTAMP:20260421T195343
CREATED:20250407T141743Z
LAST-MODIFIED:20250407T141745Z
UID:10001745-1870848000-1870860600@balsamlakelodge.com
SUMMARY:Breakfast & Bloody Mary Bar
DESCRIPTION:
URL:https://balsamlakelodge.com/events-2/breakfast-bloody-mary-bar-2-2/2029-04-14/
LOCATION:Balsam Lake Lodge Event Venue\, 264 Cty Rd I\, Balsam Lake\, WI\, 54810\, United States
END:VEVENT
BEGIN:VEVENT
DTSTART;TZID=America/Chicago:20290415T080000
DTEND;TZID=America/Chicago:20290415T113000
DTSTAMP:20260421T195343
CREATED:20250407T141743Z
LAST-MODIFIED:20250407T141745Z
UID:10001746-1870934400-1870947000@balsamlakelodge.com
SUMMARY:Breakfast & Bloody Mary Bar
DESCRIPTION:
URL:https://balsamlakelodge.com/events-2/breakfast-bloody-mary-bar-2-2/2029-04-15/
LOCATION:Balsam Lake Lodge Event Venue\, 264 Cty Rd I\, Balsam Lake\, WI\, 54810\, United States
END:VEVENT
BEGIN:VEVENT
DTSTART;TZID=America/Chicago:20290416T180000
DTEND;TZID=America/Chicago:20290416T200000
DTSTAMP:20260421T195343
CREATED:20250311T172607Z
LAST-MODIFIED:20250311T172607Z
UID:10004598-1871056800-1871064000@balsamlakelodge.com
SUMMARY:Monday Night Bingo
DESCRIPTION:
URL:https://balsamlakelodge.com/events-2/monday-night-bingo/2029-04-16/
LOCATION:Balsam Lake Lodge Event Venue\, 264 Cty Rd I\, Balsam Lake\, WI\, 54810\, United States
CATEGORIES:Bingo
END:VEVENT
BEGIN:VEVENT
DTSTART;TZID=America/Chicago:20290419T183000
DTEND;TZID=America/Chicago:20290419T193000
DTSTAMP:20260421T195343
CREATED:20251209T085612Z
LAST-MODIFIED:20251209T085612Z
UID:10004990-1871317800-1871321400@balsamlakelodge.com
SUMMARY:Eagle Brook Church Viewing Service
DESCRIPTION:
URL:https://balsamlakelodge.com/events-2/eagle-brook-church-viewing-service/2029-04-19/
LOCATION:Balsam Lake Lodge Event Venue\, 264 Cty Rd I\, Balsam Lake\, WI\, 54810\, United States
END:VEVENT
BEGIN:VEVENT
DTSTART;TZID=America/Chicago:20290421T080000
DTEND;TZID=America/Chicago:20290421T113000
DTSTAMP:20260421T195343
CREATED:20250407T141743Z
LAST-MODIFIED:20250407T141745Z
UID:10001747-1871452800-1871465400@balsamlakelodge.com
SUMMARY:Breakfast & Bloody Mary Bar
DESCRIPTION:
URL:https://balsamlakelodge.com/events-2/breakfast-bloody-mary-bar-2-2/2029-04-21/
LOCATION:Balsam Lake Lodge Event Venue\, 264 Cty Rd I\, Balsam Lake\, WI\, 54810\, United States
END:VEVENT
BEGIN:VEVENT
DTSTART;TZID=America/Chicago:20290422T080000
DTEND;TZID=America/Chicago:20290422T113000
DTSTAMP:20260421T195343
CREATED:20250407T141743Z
LAST-MODIFIED:20250407T141745Z
UID:10001748-1871539200-1871551800@balsamlakelodge.com
SUMMARY:Breakfast & Bloody Mary Bar
DESCRIPTION:
URL:https://balsamlakelodge.com/events-2/breakfast-bloody-mary-bar-2-2/2029-04-22/
LOCATION:Balsam Lake Lodge Event Venue\, 264 Cty Rd I\, Balsam Lake\, WI\, 54810\, United States
END:VEVENT
BEGIN:VEVENT
DTSTART;TZID=America/Chicago:20290423T180000
DTEND;TZID=America/Chicago:20290423T200000
DTSTAMP:20260421T195343
CREATED:20250311T172607Z
LAST-MODIFIED:20250311T172607Z
UID:10004599-1871661600-1871668800@balsamlakelodge.com
SUMMARY:Monday Night Bingo
DESCRIPTION:
URL:https://balsamlakelodge.com/events-2/monday-night-bingo/2029-04-23/
LOCATION:Balsam Lake Lodge Event Venue\, 264 Cty Rd I\, Balsam Lake\, WI\, 54810\, United States
CATEGORIES:Bingo
END:VEVENT
BEGIN:VEVENT
DTSTART;TZID=America/Chicago:20290426T183000
DTEND;TZID=America/Chicago:20290426T193000
DTSTAMP:20260421T195343
CREATED:20251209T085612Z
LAST-MODIFIED:20251209T085612Z
UID:10004991-1871922600-1871926200@balsamlakelodge.com
SUMMARY:Eagle Brook Church Viewing Service
DESCRIPTION:
URL:https://balsamlakelodge.com/events-2/eagle-brook-church-viewing-service/2029-04-26/
LOCATION:Balsam Lake Lodge Event Venue\, 264 Cty Rd I\, Balsam Lake\, WI\, 54810\, United States
END:VEVENT
BEGIN:VEVENT
DTSTART;TZID=America/Chicago:20290428T080000
DTEND;TZID=America/Chicago:20290428T113000
DTSTAMP:20260421T195343
CREATED:20250407T141743Z
LAST-MODIFIED:20250407T141745Z
UID:10001749-1872057600-1872070200@balsamlakelodge.com
SUMMARY:Breakfast & Bloody Mary Bar
DESCRIPTION:
URL:https://balsamlakelodge.com/events-2/breakfast-bloody-mary-bar-2-2/2029-04-28/
LOCATION:Balsam Lake Lodge Event Venue\, 264 Cty Rd I\, Balsam Lake\, WI\, 54810\, United States
END:VEVENT
BEGIN:VEVENT
DTSTART;TZID=America/Chicago:20290429T080000
DTEND;TZID=America/Chicago:20290429T113000
DTSTAMP:20260421T195343
CREATED:20250407T141743Z
LAST-MODIFIED:20250407T141745Z
UID:10001750-1872144000-1872156600@balsamlakelodge.com
SUMMARY:Breakfast & Bloody Mary Bar
DESCRIPTION:
URL:https://balsamlakelodge.com/events-2/breakfast-bloody-mary-bar-2-2/2029-04-29/
LOCATION:Balsam Lake Lodge Event Venue\, 264 Cty Rd I\, Balsam Lake\, WI\, 54810\, United States
END:VEVENT
BEGIN:VEVENT
DTSTART;TZID=America/Chicago:20290430T180000
DTEND;TZID=America/Chicago:20290430T200000
DTSTAMP:20260421T195343
CREATED:20250311T172607Z
LAST-MODIFIED:20250311T172607Z
UID:10004600-1872266400-1872273600@balsamlakelodge.com
SUMMARY:Monday Night Bingo
DESCRIPTION:
URL:https://balsamlakelodge.com/events-2/monday-night-bingo/2029-04-30/
LOCATION:Balsam Lake Lodge Event Venue\, 264 Cty Rd I\, Balsam Lake\, WI\, 54810\, United States
CATEGORIES:Bingo
END:VEVENT
BEGIN:VEVENT
DTSTART;TZID=America/Chicago:20290503T183000
DTEND;TZID=America/Chicago:20290503T193000
DTSTAMP:20260421T195343
CREATED:20251209T085612Z
LAST-MODIFIED:20251209T085612Z
UID:10004992-1872527400-1872531000@balsamlakelodge.com
SUMMARY:Eagle Brook Church Viewing Service
DESCRIPTION:
URL:https://balsamlakelodge.com/events-2/eagle-brook-church-viewing-service/2029-05-03/
LOCATION:Balsam Lake Lodge Event Venue\, 264 Cty Rd I\, Balsam Lake\, WI\, 54810\, United States
END:VEVENT
BEGIN:VEVENT
DTSTART;TZID=America/Chicago:20290505T080000
DTEND;TZID=America/Chicago:20290505T113000
DTSTAMP:20260421T195343
CREATED:20250407T141743Z
LAST-MODIFIED:20250407T141745Z
UID:10001751-1872662400-1872675000@balsamlakelodge.com
SUMMARY:Breakfast & Bloody Mary Bar
DESCRIPTION:
URL:https://balsamlakelodge.com/events-2/breakfast-bloody-mary-bar-2-2/2029-05-05/
LOCATION:Balsam Lake Lodge Event Venue\, 264 Cty Rd I\, Balsam Lake\, WI\, 54810\, United States
END:VEVENT
BEGIN:VEVENT
DTSTART;TZID=America/Chicago:20290506T080000
DTEND;TZID=America/Chicago:20290506T113000
DTSTAMP:20260421T195343
CREATED:20250407T141743Z
LAST-MODIFIED:20250407T141745Z
UID:10001752-1872748800-1872761400@balsamlakelodge.com
SUMMARY:Breakfast & Bloody Mary Bar
DESCRIPTION:
URL:https://balsamlakelodge.com/events-2/breakfast-bloody-mary-bar-2-2/2029-05-06/
LOCATION:Balsam Lake Lodge Event Venue\, 264 Cty Rd I\, Balsam Lake\, WI\, 54810\, United States
END:VEVENT
BEGIN:VEVENT
DTSTART;TZID=America/Chicago:20290507T180000
DTEND;TZID=America/Chicago:20290507T200000
DTSTAMP:20260421T195343
CREATED:20250311T172607Z
LAST-MODIFIED:20250311T172607Z
UID:10004601-1872871200-1872878400@balsamlakelodge.com
SUMMARY:Monday Night Bingo
DESCRIPTION:
URL:https://balsamlakelodge.com/events-2/monday-night-bingo/2029-05-07/
LOCATION:Balsam Lake Lodge Event Venue\, 264 Cty Rd I\, Balsam Lake\, WI\, 54810\, United States
CATEGORIES:Bingo
END:VEVENT
BEGIN:VEVENT
DTSTART;TZID=America/Chicago:20290510T183000
DTEND;TZID=America/Chicago:20290510T193000
DTSTAMP:20260421T195343
CREATED:20251209T085612Z
LAST-MODIFIED:20251209T085612Z
UID:10004993-1873132200-1873135800@balsamlakelodge.com
SUMMARY:Eagle Brook Church Viewing Service
DESCRIPTION:
URL:https://balsamlakelodge.com/events-2/eagle-brook-church-viewing-service/2029-05-10/
LOCATION:Balsam Lake Lodge Event Venue\, 264 Cty Rd I\, Balsam Lake\, WI\, 54810\, United States
END:VEVENT
BEGIN:VEVENT
DTSTART;TZID=America/Chicago:20290512T080000
DTEND;TZID=America/Chicago:20290512T113000
DTSTAMP:20260421T195343
CREATED:20250407T141743Z
LAST-MODIFIED:20250407T141745Z
UID:10001753-1873267200-1873279800@balsamlakelodge.com
SUMMARY:Breakfast & Bloody Mary Bar
DESCRIPTION:
URL:https://balsamlakelodge.com/events-2/breakfast-bloody-mary-bar-2-2/2029-05-12/
LOCATION:Balsam Lake Lodge Event Venue\, 264 Cty Rd I\, Balsam Lake\, WI\, 54810\, United States
END:VEVENT
BEGIN:VEVENT
DTSTART;TZID=America/Chicago:20290513T080000
DTEND;TZID=America/Chicago:20290513T113000
DTSTAMP:20260421T195343
CREATED:20250407T141743Z
LAST-MODIFIED:20250407T141745Z
UID:10001754-1873353600-1873366200@balsamlakelodge.com
SUMMARY:Breakfast & Bloody Mary Bar
DESCRIPTION:
URL:https://balsamlakelodge.com/events-2/breakfast-bloody-mary-bar-2-2/2029-05-13/
LOCATION:Balsam Lake Lodge Event Venue\, 264 Cty Rd I\, Balsam Lake\, WI\, 54810\, United States
END:VEVENT
BEGIN:VEVENT
DTSTART;TZID=America/Chicago:20290514T180000
DTEND;TZID=America/Chicago:20290514T200000
DTSTAMP:20260421T195343
CREATED:20250311T172607Z
LAST-MODIFIED:20250311T172607Z
UID:10004602-1873476000-1873483200@balsamlakelodge.com
SUMMARY:Monday Night Bingo
DESCRIPTION:
URL:https://balsamlakelodge.com/events-2/monday-night-bingo/2029-05-14/
LOCATION:Balsam Lake Lodge Event Venue\, 264 Cty Rd I\, Balsam Lake\, WI\, 54810\, United States
CATEGORIES:Bingo
END:VEVENT
END:VCALENDAR