BEGIN:VCALENDAR
VERSION:2.0
PRODID:-//Balsam Lake Lodge - ECPv6.15.20//NONSGML v1.0//EN
CALSCALE:GREGORIAN
METHOD:PUBLISH
X-ORIGINAL-URL:https://balsamlakelodge.com
X-WR-CALDESC:Events for Balsam Lake Lodge
REFRESH-INTERVAL;VALUE=DURATION:PT1H
X-Robots-Tag:noindex
X-PUBLISHED-TTL:PT1H
BEGIN:VTIMEZONE
TZID:America/Chicago
BEGIN:DAYLIGHT
TZOFFSETFROM:-0600
TZOFFSETTO:-0500
TZNAME:CDT
DTSTART:20270314T080000
END:DAYLIGHT
BEGIN:STANDARD
TZOFFSETFROM:-0500
TZOFFSETTO:-0600
TZNAME:CST
DTSTART:20271107T070000
END:STANDARD
BEGIN:DAYLIGHT
TZOFFSETFROM:-0600
TZOFFSETTO:-0500
TZNAME:CDT
DTSTART:20280312T080000
END:DAYLIGHT
BEGIN:STANDARD
TZOFFSETFROM:-0500
TZOFFSETTO:-0600
TZNAME:CST
DTSTART:20281105T070000
END:STANDARD
BEGIN:DAYLIGHT
TZOFFSETFROM:-0600
TZOFFSETTO:-0500
TZNAME:CDT
DTSTART:20290311T080000
END:DAYLIGHT
BEGIN:STANDARD
TZOFFSETFROM:-0500
TZOFFSETTO:-0600
TZNAME:CST
DTSTART:20291104T070000
END:STANDARD
END:VTIMEZONE
BEGIN:VEVENT
DTSTART;TZID=America/Chicago:20280529T180000
DTEND;TZID=America/Chicago:20280529T200000
DTSTAMP:20260420T225734
CREATED:20250311T172607Z
LAST-MODIFIED:20250311T172607Z
UID:10004552-1843236000-1843243200@balsamlakelodge.com
SUMMARY:Monday Night Bingo
DESCRIPTION:
URL:https://balsamlakelodge.com/events-2/monday-night-bingo/2028-05-29/
LOCATION:Balsam Lake Lodge Event Venue\, 264 Cty Rd I\, Balsam Lake\, WI\, 54810\, United States
CATEGORIES:Bingo
END:VEVENT
BEGIN:VEVENT
DTSTART;TZID=America/Chicago:20280601T183000
DTEND;TZID=America/Chicago:20280601T193000
DTSTAMP:20260420T225734
CREATED:20251209T085612Z
LAST-MODIFIED:20251209T085612Z
UID:10004944-1843497000-1843500600@balsamlakelodge.com
SUMMARY:Eagle Brook Church Viewing Service
DESCRIPTION:
URL:https://balsamlakelodge.com/events-2/eagle-brook-church-viewing-service/2028-06-01/
LOCATION:Balsam Lake Lodge Event Venue\, 264 Cty Rd I\, Balsam Lake\, WI\, 54810\, United States
END:VEVENT
BEGIN:VEVENT
DTSTART;TZID=America/Chicago:20280603T080000
DTEND;TZID=America/Chicago:20280603T113000
DTSTAMP:20260420T225734
CREATED:20250407T141743Z
LAST-MODIFIED:20250407T141745Z
UID:10001655-1843632000-1843644600@balsamlakelodge.com
SUMMARY:Breakfast & Bloody Mary Bar
DESCRIPTION:
URL:https://balsamlakelodge.com/events-2/breakfast-bloody-mary-bar-2-2/2028-06-03/
LOCATION:Balsam Lake Lodge Event Venue\, 264 Cty Rd I\, Balsam Lake\, WI\, 54810\, United States
END:VEVENT
BEGIN:VEVENT
DTSTART;TZID=America/Chicago:20280604T080000
DTEND;TZID=America/Chicago:20280604T113000
DTSTAMP:20260420T225734
CREATED:20250407T141743Z
LAST-MODIFIED:20250407T141745Z
UID:10001656-1843718400-1843731000@balsamlakelodge.com
SUMMARY:Breakfast & Bloody Mary Bar
DESCRIPTION:
URL:https://balsamlakelodge.com/events-2/breakfast-bloody-mary-bar-2-2/2028-06-04/
LOCATION:Balsam Lake Lodge Event Venue\, 264 Cty Rd I\, Balsam Lake\, WI\, 54810\, United States
END:VEVENT
BEGIN:VEVENT
DTSTART;TZID=America/Chicago:20280605T180000
DTEND;TZID=America/Chicago:20280605T200000
DTSTAMP:20260420T225734
CREATED:20250311T172607Z
LAST-MODIFIED:20250311T172607Z
UID:10004553-1843840800-1843848000@balsamlakelodge.com
SUMMARY:Monday Night Bingo
DESCRIPTION:
URL:https://balsamlakelodge.com/events-2/monday-night-bingo/2028-06-05/
LOCATION:Balsam Lake Lodge Event Venue\, 264 Cty Rd I\, Balsam Lake\, WI\, 54810\, United States
CATEGORIES:Bingo
END:VEVENT
BEGIN:VEVENT
DTSTART;TZID=America/Chicago:20280608T183000
DTEND;TZID=America/Chicago:20280608T193000
DTSTAMP:20260420T225734
CREATED:20251209T085612Z
LAST-MODIFIED:20251209T085612Z
UID:10004945-1844101800-1844105400@balsamlakelodge.com
SUMMARY:Eagle Brook Church Viewing Service
DESCRIPTION:
URL:https://balsamlakelodge.com/events-2/eagle-brook-church-viewing-service/2028-06-08/
LOCATION:Balsam Lake Lodge Event Venue\, 264 Cty Rd I\, Balsam Lake\, WI\, 54810\, United States
END:VEVENT
BEGIN:VEVENT
DTSTART;TZID=America/Chicago:20280610T080000
DTEND;TZID=America/Chicago:20280610T113000
DTSTAMP:20260420T225734
CREATED:20250407T141743Z
LAST-MODIFIED:20250407T141745Z
UID:10001657-1844236800-1844249400@balsamlakelodge.com
SUMMARY:Breakfast & Bloody Mary Bar
DESCRIPTION:
URL:https://balsamlakelodge.com/events-2/breakfast-bloody-mary-bar-2-2/2028-06-10/
LOCATION:Balsam Lake Lodge Event Venue\, 264 Cty Rd I\, Balsam Lake\, WI\, 54810\, United States
END:VEVENT
BEGIN:VEVENT
DTSTART;TZID=America/Chicago:20280611T080000
DTEND;TZID=America/Chicago:20280611T113000
DTSTAMP:20260420T225734
CREATED:20250407T141743Z
LAST-MODIFIED:20250407T141745Z
UID:10001658-1844323200-1844335800@balsamlakelodge.com
SUMMARY:Breakfast & Bloody Mary Bar
DESCRIPTION:
URL:https://balsamlakelodge.com/events-2/breakfast-bloody-mary-bar-2-2/2028-06-11/
LOCATION:Balsam Lake Lodge Event Venue\, 264 Cty Rd I\, Balsam Lake\, WI\, 54810\, United States
END:VEVENT
BEGIN:VEVENT
DTSTART;TZID=America/Chicago:20280612T180000
DTEND;TZID=America/Chicago:20280612T200000
DTSTAMP:20260420T225734
CREATED:20250311T172607Z
LAST-MODIFIED:20250311T172607Z
UID:10004554-1844445600-1844452800@balsamlakelodge.com
SUMMARY:Monday Night Bingo
DESCRIPTION:
URL:https://balsamlakelodge.com/events-2/monday-night-bingo/2028-06-12/
LOCATION:Balsam Lake Lodge Event Venue\, 264 Cty Rd I\, Balsam Lake\, WI\, 54810\, United States
CATEGORIES:Bingo
END:VEVENT
BEGIN:VEVENT
DTSTART;TZID=America/Chicago:20280615T183000
DTEND;TZID=America/Chicago:20280615T193000
DTSTAMP:20260420T225734
CREATED:20251209T085612Z
LAST-MODIFIED:20251209T085612Z
UID:10004946-1844706600-1844710200@balsamlakelodge.com
SUMMARY:Eagle Brook Church Viewing Service
DESCRIPTION:
URL:https://balsamlakelodge.com/events-2/eagle-brook-church-viewing-service/2028-06-15/
LOCATION:Balsam Lake Lodge Event Venue\, 264 Cty Rd I\, Balsam Lake\, WI\, 54810\, United States
END:VEVENT
BEGIN:VEVENT
DTSTART;TZID=America/Chicago:20280617T080000
DTEND;TZID=America/Chicago:20280617T113000
DTSTAMP:20260420T225734
CREATED:20250407T141743Z
LAST-MODIFIED:20250407T141745Z
UID:10001659-1844841600-1844854200@balsamlakelodge.com
SUMMARY:Breakfast & Bloody Mary Bar
DESCRIPTION:
URL:https://balsamlakelodge.com/events-2/breakfast-bloody-mary-bar-2-2/2028-06-17/
LOCATION:Balsam Lake Lodge Event Venue\, 264 Cty Rd I\, Balsam Lake\, WI\, 54810\, United States
END:VEVENT
BEGIN:VEVENT
DTSTART;TZID=America/Chicago:20280618T080000
DTEND;TZID=America/Chicago:20280618T113000
DTSTAMP:20260420T225734
CREATED:20250407T141743Z
LAST-MODIFIED:20250407T141745Z
UID:10001660-1844928000-1844940600@balsamlakelodge.com
SUMMARY:Breakfast & Bloody Mary Bar
DESCRIPTION:
URL:https://balsamlakelodge.com/events-2/breakfast-bloody-mary-bar-2-2/2028-06-18/
LOCATION:Balsam Lake Lodge Event Venue\, 264 Cty Rd I\, Balsam Lake\, WI\, 54810\, United States
END:VEVENT
BEGIN:VEVENT
DTSTART;TZID=America/Chicago:20280619T180000
DTEND;TZID=America/Chicago:20280619T200000
DTSTAMP:20260420T225734
CREATED:20250311T172607Z
LAST-MODIFIED:20250311T172607Z
UID:10004555-1845050400-1845057600@balsamlakelodge.com
SUMMARY:Monday Night Bingo
DESCRIPTION:
URL:https://balsamlakelodge.com/events-2/monday-night-bingo/2028-06-19/
LOCATION:Balsam Lake Lodge Event Venue\, 264 Cty Rd I\, Balsam Lake\, WI\, 54810\, United States
CATEGORIES:Bingo
END:VEVENT
BEGIN:VEVENT
DTSTART;TZID=America/Chicago:20280622T183000
DTEND;TZID=America/Chicago:20280622T193000
DTSTAMP:20260420T225734
CREATED:20251209T085612Z
LAST-MODIFIED:20251209T085612Z
UID:10004947-1845311400-1845315000@balsamlakelodge.com
SUMMARY:Eagle Brook Church Viewing Service
DESCRIPTION:
URL:https://balsamlakelodge.com/events-2/eagle-brook-church-viewing-service/2028-06-22/
LOCATION:Balsam Lake Lodge Event Venue\, 264 Cty Rd I\, Balsam Lake\, WI\, 54810\, United States
END:VEVENT
BEGIN:VEVENT
DTSTART;TZID=America/Chicago:20280624T080000
DTEND;TZID=America/Chicago:20280624T113000
DTSTAMP:20260420T225734
CREATED:20250407T141743Z
LAST-MODIFIED:20250407T141745Z
UID:10001661-1845446400-1845459000@balsamlakelodge.com
SUMMARY:Breakfast & Bloody Mary Bar
DESCRIPTION:
URL:https://balsamlakelodge.com/events-2/breakfast-bloody-mary-bar-2-2/2028-06-24/
LOCATION:Balsam Lake Lodge Event Venue\, 264 Cty Rd I\, Balsam Lake\, WI\, 54810\, United States
END:VEVENT
BEGIN:VEVENT
DTSTART;TZID=America/Chicago:20280625T080000
DTEND;TZID=America/Chicago:20280625T113000
DTSTAMP:20260420T225734
CREATED:20250407T141743Z
LAST-MODIFIED:20250407T141745Z
UID:10001662-1845532800-1845545400@balsamlakelodge.com
SUMMARY:Breakfast & Bloody Mary Bar
DESCRIPTION:
URL:https://balsamlakelodge.com/events-2/breakfast-bloody-mary-bar-2-2/2028-06-25/
LOCATION:Balsam Lake Lodge Event Venue\, 264 Cty Rd I\, Balsam Lake\, WI\, 54810\, United States
END:VEVENT
BEGIN:VEVENT
DTSTART;TZID=America/Chicago:20280626T180000
DTEND;TZID=America/Chicago:20280626T200000
DTSTAMP:20260420T225734
CREATED:20250311T172607Z
LAST-MODIFIED:20250311T172607Z
UID:10004556-1845655200-1845662400@balsamlakelodge.com
SUMMARY:Monday Night Bingo
DESCRIPTION:
URL:https://balsamlakelodge.com/events-2/monday-night-bingo/2028-06-26/
LOCATION:Balsam Lake Lodge Event Venue\, 264 Cty Rd I\, Balsam Lake\, WI\, 54810\, United States
CATEGORIES:Bingo
END:VEVENT
BEGIN:VEVENT
DTSTART;TZID=America/Chicago:20280629T183000
DTEND;TZID=America/Chicago:20280629T193000
DTSTAMP:20260420T225734
CREATED:20251209T085612Z
LAST-MODIFIED:20251209T085612Z
UID:10004948-1845916200-1845919800@balsamlakelodge.com
SUMMARY:Eagle Brook Church Viewing Service
DESCRIPTION:
URL:https://balsamlakelodge.com/events-2/eagle-brook-church-viewing-service/2028-06-29/
LOCATION:Balsam Lake Lodge Event Venue\, 264 Cty Rd I\, Balsam Lake\, WI\, 54810\, United States
END:VEVENT
BEGIN:VEVENT
DTSTART;TZID=America/Chicago:20280701T080000
DTEND;TZID=America/Chicago:20280701T113000
DTSTAMP:20260420T225734
CREATED:20250407T141743Z
LAST-MODIFIED:20250407T141745Z
UID:10001663-1846051200-1846063800@balsamlakelodge.com
SUMMARY:Breakfast & Bloody Mary Bar
DESCRIPTION:
URL:https://balsamlakelodge.com/events-2/breakfast-bloody-mary-bar-2-2/2028-07-01/
LOCATION:Balsam Lake Lodge Event Venue\, 264 Cty Rd I\, Balsam Lake\, WI\, 54810\, United States
END:VEVENT
BEGIN:VEVENT
DTSTART;TZID=America/Chicago:20280702T080000
DTEND;TZID=America/Chicago:20280702T113000
DTSTAMP:20260420T225734
CREATED:20250407T141743Z
LAST-MODIFIED:20250407T141745Z
UID:10001664-1846137600-1846150200@balsamlakelodge.com
SUMMARY:Breakfast & Bloody Mary Bar
DESCRIPTION:
URL:https://balsamlakelodge.com/events-2/breakfast-bloody-mary-bar-2-2/2028-07-02/
LOCATION:Balsam Lake Lodge Event Venue\, 264 Cty Rd I\, Balsam Lake\, WI\, 54810\, United States
END:VEVENT
BEGIN:VEVENT
DTSTART;TZID=America/Chicago:20280703T180000
DTEND;TZID=America/Chicago:20280703T200000
DTSTAMP:20260420T225734
CREATED:20250311T172607Z
LAST-MODIFIED:20250311T172607Z
UID:10004557-1846260000-1846267200@balsamlakelodge.com
SUMMARY:Monday Night Bingo
DESCRIPTION:
URL:https://balsamlakelodge.com/events-2/monday-night-bingo/2028-07-03/
LOCATION:Balsam Lake Lodge Event Venue\, 264 Cty Rd I\, Balsam Lake\, WI\, 54810\, United States
CATEGORIES:Bingo
END:VEVENT
BEGIN:VEVENT
DTSTART;TZID=America/Chicago:20280706T183000
DTEND;TZID=America/Chicago:20280706T193000
DTSTAMP:20260420T225734
CREATED:20251209T085612Z
LAST-MODIFIED:20251209T085612Z
UID:10004949-1846521000-1846524600@balsamlakelodge.com
SUMMARY:Eagle Brook Church Viewing Service
DESCRIPTION:
URL:https://balsamlakelodge.com/events-2/eagle-brook-church-viewing-service/2028-07-06/
LOCATION:Balsam Lake Lodge Event Venue\, 264 Cty Rd I\, Balsam Lake\, WI\, 54810\, United States
END:VEVENT
BEGIN:VEVENT
DTSTART;TZID=America/Chicago:20280708T080000
DTEND;TZID=America/Chicago:20280708T113000
DTSTAMP:20260420T225734
CREATED:20250407T141743Z
LAST-MODIFIED:20250407T141745Z
UID:10001665-1846656000-1846668600@balsamlakelodge.com
SUMMARY:Breakfast & Bloody Mary Bar
DESCRIPTION:
URL:https://balsamlakelodge.com/events-2/breakfast-bloody-mary-bar-2-2/2028-07-08/
LOCATION:Balsam Lake Lodge Event Venue\, 264 Cty Rd I\, Balsam Lake\, WI\, 54810\, United States
END:VEVENT
BEGIN:VEVENT
DTSTART;TZID=America/Chicago:20280709T080000
DTEND;TZID=America/Chicago:20280709T113000
DTSTAMP:20260420T225734
CREATED:20250407T141743Z
LAST-MODIFIED:20250407T141745Z
UID:10001666-1846742400-1846755000@balsamlakelodge.com
SUMMARY:Breakfast & Bloody Mary Bar
DESCRIPTION:
URL:https://balsamlakelodge.com/events-2/breakfast-bloody-mary-bar-2-2/2028-07-09/
LOCATION:Balsam Lake Lodge Event Venue\, 264 Cty Rd I\, Balsam Lake\, WI\, 54810\, United States
END:VEVENT
BEGIN:VEVENT
DTSTART;TZID=America/Chicago:20280710T180000
DTEND;TZID=America/Chicago:20280710T200000
DTSTAMP:20260420T225734
CREATED:20250311T172607Z
LAST-MODIFIED:20250311T172607Z
UID:10004558-1846864800-1846872000@balsamlakelodge.com
SUMMARY:Monday Night Bingo
DESCRIPTION:
URL:https://balsamlakelodge.com/events-2/monday-night-bingo/2028-07-10/
LOCATION:Balsam Lake Lodge Event Venue\, 264 Cty Rd I\, Balsam Lake\, WI\, 54810\, United States
CATEGORIES:Bingo
END:VEVENT
BEGIN:VEVENT
DTSTART;TZID=America/Chicago:20280713T183000
DTEND;TZID=America/Chicago:20280713T193000
DTSTAMP:20260420T225734
CREATED:20251209T085612Z
LAST-MODIFIED:20251209T085612Z
UID:10004950-1847125800-1847129400@balsamlakelodge.com
SUMMARY:Eagle Brook Church Viewing Service
DESCRIPTION:
URL:https://balsamlakelodge.com/events-2/eagle-brook-church-viewing-service/2028-07-13/
LOCATION:Balsam Lake Lodge Event Venue\, 264 Cty Rd I\, Balsam Lake\, WI\, 54810\, United States
END:VEVENT
BEGIN:VEVENT
DTSTART;TZID=America/Chicago:20280715T080000
DTEND;TZID=America/Chicago:20280715T113000
DTSTAMP:20260420T225734
CREATED:20250407T141743Z
LAST-MODIFIED:20250407T141745Z
UID:10001667-1847260800-1847273400@balsamlakelodge.com
SUMMARY:Breakfast & Bloody Mary Bar
DESCRIPTION:
URL:https://balsamlakelodge.com/events-2/breakfast-bloody-mary-bar-2-2/2028-07-15/
LOCATION:Balsam Lake Lodge Event Venue\, 264 Cty Rd I\, Balsam Lake\, WI\, 54810\, United States
END:VEVENT
BEGIN:VEVENT
DTSTART;TZID=America/Chicago:20280716T080000
DTEND;TZID=America/Chicago:20280716T113000
DTSTAMP:20260420T225734
CREATED:20250407T141743Z
LAST-MODIFIED:20250407T141745Z
UID:10001668-1847347200-1847359800@balsamlakelodge.com
SUMMARY:Breakfast & Bloody Mary Bar
DESCRIPTION:
URL:https://balsamlakelodge.com/events-2/breakfast-bloody-mary-bar-2-2/2028-07-16/
LOCATION:Balsam Lake Lodge Event Venue\, 264 Cty Rd I\, Balsam Lake\, WI\, 54810\, United States
END:VEVENT
BEGIN:VEVENT
DTSTART;TZID=America/Chicago:20280717T180000
DTEND;TZID=America/Chicago:20280717T200000
DTSTAMP:20260420T225734
CREATED:20250311T172607Z
LAST-MODIFIED:20250311T172607Z
UID:10004559-1847469600-1847476800@balsamlakelodge.com
SUMMARY:Monday Night Bingo
DESCRIPTION:
URL:https://balsamlakelodge.com/events-2/monday-night-bingo/2028-07-17/
LOCATION:Balsam Lake Lodge Event Venue\, 264 Cty Rd I\, Balsam Lake\, WI\, 54810\, United States
CATEGORIES:Bingo
END:VEVENT
BEGIN:VEVENT
DTSTART;TZID=America/Chicago:20280720T183000
DTEND;TZID=America/Chicago:20280720T193000
DTSTAMP:20260420T225734
CREATED:20251209T085612Z
LAST-MODIFIED:20251209T085612Z
UID:10004951-1847730600-1847734200@balsamlakelodge.com
SUMMARY:Eagle Brook Church Viewing Service
DESCRIPTION:
URL:https://balsamlakelodge.com/events-2/eagle-brook-church-viewing-service/2028-07-20/
LOCATION:Balsam Lake Lodge Event Venue\, 264 Cty Rd I\, Balsam Lake\, WI\, 54810\, United States
END:VEVENT
END:VCALENDAR