BEGIN:VCALENDAR
VERSION:2.0
PRODID:-//Balsam Lake Lodge - ECPv6.15.20//NONSGML v1.0//EN
CALSCALE:GREGORIAN
METHOD:PUBLISH
X-WR-CALNAME:Balsam Lake Lodge
X-ORIGINAL-URL:https://balsamlakelodge.com
X-WR-CALDESC:Events for Balsam Lake Lodge
REFRESH-INTERVAL;VALUE=DURATION:PT1H
X-Robots-Tag:noindex
X-PUBLISHED-TTL:PT1H
BEGIN:VTIMEZONE
TZID:America/Chicago
BEGIN:DAYLIGHT
TZOFFSETFROM:-0600
TZOFFSETTO:-0500
TZNAME:CDT
DTSTART:20270314T080000
END:DAYLIGHT
BEGIN:STANDARD
TZOFFSETFROM:-0500
TZOFFSETTO:-0600
TZNAME:CST
DTSTART:20271107T070000
END:STANDARD
BEGIN:DAYLIGHT
TZOFFSETFROM:-0600
TZOFFSETTO:-0500
TZNAME:CDT
DTSTART:20280312T080000
END:DAYLIGHT
BEGIN:STANDARD
TZOFFSETFROM:-0500
TZOFFSETTO:-0600
TZNAME:CST
DTSTART:20281105T070000
END:STANDARD
BEGIN:DAYLIGHT
TZOFFSETFROM:-0600
TZOFFSETTO:-0500
TZNAME:CDT
DTSTART:20290311T080000
END:DAYLIGHT
BEGIN:STANDARD
TZOFFSETFROM:-0500
TZOFFSETTO:-0600
TZNAME:CST
DTSTART:20291104T070000
END:STANDARD
END:VTIMEZONE
BEGIN:VEVENT
DTSTART;TZID=America/Chicago:20280703T180000
DTEND;TZID=America/Chicago:20280703T200000
DTSTAMP:20260421T003131
CREATED:20250311T172607Z
LAST-MODIFIED:20250311T172607Z
UID:10004557-1846260000-1846267200@balsamlakelodge.com
SUMMARY:Monday Night Bingo
DESCRIPTION:
URL:https://balsamlakelodge.com/events-2/monday-night-bingo/2028-07-03/
LOCATION:Balsam Lake Lodge Event Venue\, 264 Cty Rd I\, Balsam Lake\, WI\, 54810\, United States
CATEGORIES:Bingo
END:VEVENT
BEGIN:VEVENT
DTSTART;TZID=America/Chicago:20280706T183000
DTEND;TZID=America/Chicago:20280706T193000
DTSTAMP:20260421T003131
CREATED:20251209T085612Z
LAST-MODIFIED:20251209T085612Z
UID:10004949-1846521000-1846524600@balsamlakelodge.com
SUMMARY:Eagle Brook Church Viewing Service
DESCRIPTION:
URL:https://balsamlakelodge.com/events-2/eagle-brook-church-viewing-service/2028-07-06/
LOCATION:Balsam Lake Lodge Event Venue\, 264 Cty Rd I\, Balsam Lake\, WI\, 54810\, United States
END:VEVENT
BEGIN:VEVENT
DTSTART;TZID=America/Chicago:20280708T080000
DTEND;TZID=America/Chicago:20280708T113000
DTSTAMP:20260421T003131
CREATED:20250407T141743Z
LAST-MODIFIED:20250407T141745Z
UID:10001665-1846656000-1846668600@balsamlakelodge.com
SUMMARY:Breakfast & Bloody Mary Bar
DESCRIPTION:
URL:https://balsamlakelodge.com/events-2/breakfast-bloody-mary-bar-2-2/2028-07-08/
LOCATION:Balsam Lake Lodge Event Venue\, 264 Cty Rd I\, Balsam Lake\, WI\, 54810\, United States
END:VEVENT
BEGIN:VEVENT
DTSTART;TZID=America/Chicago:20280709T080000
DTEND;TZID=America/Chicago:20280709T113000
DTSTAMP:20260421T003131
CREATED:20250407T141743Z
LAST-MODIFIED:20250407T141745Z
UID:10001666-1846742400-1846755000@balsamlakelodge.com
SUMMARY:Breakfast & Bloody Mary Bar
DESCRIPTION:
URL:https://balsamlakelodge.com/events-2/breakfast-bloody-mary-bar-2-2/2028-07-09/
LOCATION:Balsam Lake Lodge Event Venue\, 264 Cty Rd I\, Balsam Lake\, WI\, 54810\, United States
END:VEVENT
BEGIN:VEVENT
DTSTART;TZID=America/Chicago:20280710T180000
DTEND;TZID=America/Chicago:20280710T200000
DTSTAMP:20260421T003131
CREATED:20250311T172607Z
LAST-MODIFIED:20250311T172607Z
UID:10004558-1846864800-1846872000@balsamlakelodge.com
SUMMARY:Monday Night Bingo
DESCRIPTION:
URL:https://balsamlakelodge.com/events-2/monday-night-bingo/2028-07-10/
LOCATION:Balsam Lake Lodge Event Venue\, 264 Cty Rd I\, Balsam Lake\, WI\, 54810\, United States
CATEGORIES:Bingo
END:VEVENT
BEGIN:VEVENT
DTSTART;TZID=America/Chicago:20280713T183000
DTEND;TZID=America/Chicago:20280713T193000
DTSTAMP:20260421T003131
CREATED:20251209T085612Z
LAST-MODIFIED:20251209T085612Z
UID:10004950-1847125800-1847129400@balsamlakelodge.com
SUMMARY:Eagle Brook Church Viewing Service
DESCRIPTION:
URL:https://balsamlakelodge.com/events-2/eagle-brook-church-viewing-service/2028-07-13/
LOCATION:Balsam Lake Lodge Event Venue\, 264 Cty Rd I\, Balsam Lake\, WI\, 54810\, United States
END:VEVENT
BEGIN:VEVENT
DTSTART;TZID=America/Chicago:20280715T080000
DTEND;TZID=America/Chicago:20280715T113000
DTSTAMP:20260421T003131
CREATED:20250407T141743Z
LAST-MODIFIED:20250407T141745Z
UID:10001667-1847260800-1847273400@balsamlakelodge.com
SUMMARY:Breakfast & Bloody Mary Bar
DESCRIPTION:
URL:https://balsamlakelodge.com/events-2/breakfast-bloody-mary-bar-2-2/2028-07-15/
LOCATION:Balsam Lake Lodge Event Venue\, 264 Cty Rd I\, Balsam Lake\, WI\, 54810\, United States
END:VEVENT
BEGIN:VEVENT
DTSTART;TZID=America/Chicago:20280716T080000
DTEND;TZID=America/Chicago:20280716T113000
DTSTAMP:20260421T003131
CREATED:20250407T141743Z
LAST-MODIFIED:20250407T141745Z
UID:10001668-1847347200-1847359800@balsamlakelodge.com
SUMMARY:Breakfast & Bloody Mary Bar
DESCRIPTION:
URL:https://balsamlakelodge.com/events-2/breakfast-bloody-mary-bar-2-2/2028-07-16/
LOCATION:Balsam Lake Lodge Event Venue\, 264 Cty Rd I\, Balsam Lake\, WI\, 54810\, United States
END:VEVENT
BEGIN:VEVENT
DTSTART;TZID=America/Chicago:20280717T180000
DTEND;TZID=America/Chicago:20280717T200000
DTSTAMP:20260421T003131
CREATED:20250311T172607Z
LAST-MODIFIED:20250311T172607Z
UID:10004559-1847469600-1847476800@balsamlakelodge.com
SUMMARY:Monday Night Bingo
DESCRIPTION:
URL:https://balsamlakelodge.com/events-2/monday-night-bingo/2028-07-17/
LOCATION:Balsam Lake Lodge Event Venue\, 264 Cty Rd I\, Balsam Lake\, WI\, 54810\, United States
CATEGORIES:Bingo
END:VEVENT
BEGIN:VEVENT
DTSTART;TZID=America/Chicago:20280720T183000
DTEND;TZID=America/Chicago:20280720T193000
DTSTAMP:20260421T003131
CREATED:20251209T085612Z
LAST-MODIFIED:20251209T085612Z
UID:10004951-1847730600-1847734200@balsamlakelodge.com
SUMMARY:Eagle Brook Church Viewing Service
DESCRIPTION:
URL:https://balsamlakelodge.com/events-2/eagle-brook-church-viewing-service/2028-07-20/
LOCATION:Balsam Lake Lodge Event Venue\, 264 Cty Rd I\, Balsam Lake\, WI\, 54810\, United States
END:VEVENT
BEGIN:VEVENT
DTSTART;TZID=America/Chicago:20280722T080000
DTEND;TZID=America/Chicago:20280722T113000
DTSTAMP:20260421T003131
CREATED:20250407T141743Z
LAST-MODIFIED:20250407T141745Z
UID:10001669-1847865600-1847878200@balsamlakelodge.com
SUMMARY:Breakfast & Bloody Mary Bar
DESCRIPTION:
URL:https://balsamlakelodge.com/events-2/breakfast-bloody-mary-bar-2-2/2028-07-22/
LOCATION:Balsam Lake Lodge Event Venue\, 264 Cty Rd I\, Balsam Lake\, WI\, 54810\, United States
END:VEVENT
BEGIN:VEVENT
DTSTART;TZID=America/Chicago:20280723T080000
DTEND;TZID=America/Chicago:20280723T113000
DTSTAMP:20260421T003131
CREATED:20250407T141743Z
LAST-MODIFIED:20250407T141745Z
UID:10001670-1847952000-1847964600@balsamlakelodge.com
SUMMARY:Breakfast & Bloody Mary Bar
DESCRIPTION:
URL:https://balsamlakelodge.com/events-2/breakfast-bloody-mary-bar-2-2/2028-07-23/
LOCATION:Balsam Lake Lodge Event Venue\, 264 Cty Rd I\, Balsam Lake\, WI\, 54810\, United States
END:VEVENT
BEGIN:VEVENT
DTSTART;TZID=America/Chicago:20280724T180000
DTEND;TZID=America/Chicago:20280724T200000
DTSTAMP:20260421T003131
CREATED:20250311T172607Z
LAST-MODIFIED:20250311T172607Z
UID:10004560-1848074400-1848081600@balsamlakelodge.com
SUMMARY:Monday Night Bingo
DESCRIPTION:
URL:https://balsamlakelodge.com/events-2/monday-night-bingo/2028-07-24/
LOCATION:Balsam Lake Lodge Event Venue\, 264 Cty Rd I\, Balsam Lake\, WI\, 54810\, United States
CATEGORIES:Bingo
END:VEVENT
BEGIN:VEVENT
DTSTART;TZID=America/Chicago:20280727T183000
DTEND;TZID=America/Chicago:20280727T193000
DTSTAMP:20260421T003131
CREATED:20251209T085612Z
LAST-MODIFIED:20251209T085612Z
UID:10004952-1848335400-1848339000@balsamlakelodge.com
SUMMARY:Eagle Brook Church Viewing Service
DESCRIPTION:
URL:https://balsamlakelodge.com/events-2/eagle-brook-church-viewing-service/2028-07-27/
LOCATION:Balsam Lake Lodge Event Venue\, 264 Cty Rd I\, Balsam Lake\, WI\, 54810\, United States
END:VEVENT
BEGIN:VEVENT
DTSTART;TZID=America/Chicago:20280729T080000
DTEND;TZID=America/Chicago:20280729T113000
DTSTAMP:20260421T003131
CREATED:20250407T141743Z
LAST-MODIFIED:20250407T141745Z
UID:10001671-1848470400-1848483000@balsamlakelodge.com
SUMMARY:Breakfast & Bloody Mary Bar
DESCRIPTION:
URL:https://balsamlakelodge.com/events-2/breakfast-bloody-mary-bar-2-2/2028-07-29/
LOCATION:Balsam Lake Lodge Event Venue\, 264 Cty Rd I\, Balsam Lake\, WI\, 54810\, United States
END:VEVENT
BEGIN:VEVENT
DTSTART;TZID=America/Chicago:20280730T080000
DTEND;TZID=America/Chicago:20280730T113000
DTSTAMP:20260421T003131
CREATED:20250407T141743Z
LAST-MODIFIED:20250407T141745Z
UID:10001672-1848556800-1848569400@balsamlakelodge.com
SUMMARY:Breakfast & Bloody Mary Bar
DESCRIPTION:
URL:https://balsamlakelodge.com/events-2/breakfast-bloody-mary-bar-2-2/2028-07-30/
LOCATION:Balsam Lake Lodge Event Venue\, 264 Cty Rd I\, Balsam Lake\, WI\, 54810\, United States
END:VEVENT
BEGIN:VEVENT
DTSTART;TZID=America/Chicago:20280731T180000
DTEND;TZID=America/Chicago:20280731T200000
DTSTAMP:20260421T003131
CREATED:20250311T172607Z
LAST-MODIFIED:20250311T172607Z
UID:10004561-1848679200-1848686400@balsamlakelodge.com
SUMMARY:Monday Night Bingo
DESCRIPTION:
URL:https://balsamlakelodge.com/events-2/monday-night-bingo/2028-07-31/
LOCATION:Balsam Lake Lodge Event Venue\, 264 Cty Rd I\, Balsam Lake\, WI\, 54810\, United States
CATEGORIES:Bingo
END:VEVENT
BEGIN:VEVENT
DTSTART;TZID=America/Chicago:20280803T183000
DTEND;TZID=America/Chicago:20280803T193000
DTSTAMP:20260421T003131
CREATED:20251209T085612Z
LAST-MODIFIED:20251209T085612Z
UID:10004953-1848940200-1848943800@balsamlakelodge.com
SUMMARY:Eagle Brook Church Viewing Service
DESCRIPTION:
URL:https://balsamlakelodge.com/events-2/eagle-brook-church-viewing-service/2028-08-03/
LOCATION:Balsam Lake Lodge Event Venue\, 264 Cty Rd I\, Balsam Lake\, WI\, 54810\, United States
END:VEVENT
BEGIN:VEVENT
DTSTART;TZID=America/Chicago:20280805T080000
DTEND;TZID=America/Chicago:20280805T113000
DTSTAMP:20260421T003131
CREATED:20250407T141743Z
LAST-MODIFIED:20250407T141745Z
UID:10001673-1849075200-1849087800@balsamlakelodge.com
SUMMARY:Breakfast & Bloody Mary Bar
DESCRIPTION:
URL:https://balsamlakelodge.com/events-2/breakfast-bloody-mary-bar-2-2/2028-08-05/
LOCATION:Balsam Lake Lodge Event Venue\, 264 Cty Rd I\, Balsam Lake\, WI\, 54810\, United States
END:VEVENT
BEGIN:VEVENT
DTSTART;TZID=America/Chicago:20280806T080000
DTEND;TZID=America/Chicago:20280806T113000
DTSTAMP:20260421T003131
CREATED:20250407T141743Z
LAST-MODIFIED:20250407T141745Z
UID:10001674-1849161600-1849174200@balsamlakelodge.com
SUMMARY:Breakfast & Bloody Mary Bar
DESCRIPTION:
URL:https://balsamlakelodge.com/events-2/breakfast-bloody-mary-bar-2-2/2028-08-06/
LOCATION:Balsam Lake Lodge Event Venue\, 264 Cty Rd I\, Balsam Lake\, WI\, 54810\, United States
END:VEVENT
BEGIN:VEVENT
DTSTART;TZID=America/Chicago:20280807T180000
DTEND;TZID=America/Chicago:20280807T200000
DTSTAMP:20260421T003131
CREATED:20250311T172607Z
LAST-MODIFIED:20250311T172607Z
UID:10004562-1849284000-1849291200@balsamlakelodge.com
SUMMARY:Monday Night Bingo
DESCRIPTION:
URL:https://balsamlakelodge.com/events-2/monday-night-bingo/2028-08-07/
LOCATION:Balsam Lake Lodge Event Venue\, 264 Cty Rd I\, Balsam Lake\, WI\, 54810\, United States
CATEGORIES:Bingo
END:VEVENT
BEGIN:VEVENT
DTSTART;TZID=America/Chicago:20280810T183000
DTEND;TZID=America/Chicago:20280810T193000
DTSTAMP:20260421T003131
CREATED:20251209T085612Z
LAST-MODIFIED:20251209T085612Z
UID:10004954-1849545000-1849548600@balsamlakelodge.com
SUMMARY:Eagle Brook Church Viewing Service
DESCRIPTION:
URL:https://balsamlakelodge.com/events-2/eagle-brook-church-viewing-service/2028-08-10/
LOCATION:Balsam Lake Lodge Event Venue\, 264 Cty Rd I\, Balsam Lake\, WI\, 54810\, United States
END:VEVENT
BEGIN:VEVENT
DTSTART;TZID=America/Chicago:20280812T080000
DTEND;TZID=America/Chicago:20280812T113000
DTSTAMP:20260421T003131
CREATED:20250407T141743Z
LAST-MODIFIED:20250407T141745Z
UID:10001675-1849680000-1849692600@balsamlakelodge.com
SUMMARY:Breakfast & Bloody Mary Bar
DESCRIPTION:
URL:https://balsamlakelodge.com/events-2/breakfast-bloody-mary-bar-2-2/2028-08-12/
LOCATION:Balsam Lake Lodge Event Venue\, 264 Cty Rd I\, Balsam Lake\, WI\, 54810\, United States
END:VEVENT
BEGIN:VEVENT
DTSTART;TZID=America/Chicago:20280813T080000
DTEND;TZID=America/Chicago:20280813T113000
DTSTAMP:20260421T003131
CREATED:20250407T141743Z
LAST-MODIFIED:20250407T141745Z
UID:10001676-1849766400-1849779000@balsamlakelodge.com
SUMMARY:Breakfast & Bloody Mary Bar
DESCRIPTION:
URL:https://balsamlakelodge.com/events-2/breakfast-bloody-mary-bar-2-2/2028-08-13/
LOCATION:Balsam Lake Lodge Event Venue\, 264 Cty Rd I\, Balsam Lake\, WI\, 54810\, United States
END:VEVENT
BEGIN:VEVENT
DTSTART;TZID=America/Chicago:20280814T180000
DTEND;TZID=America/Chicago:20280814T200000
DTSTAMP:20260421T003131
CREATED:20250311T172607Z
LAST-MODIFIED:20250311T172607Z
UID:10004563-1849888800-1849896000@balsamlakelodge.com
SUMMARY:Monday Night Bingo
DESCRIPTION:
URL:https://balsamlakelodge.com/events-2/monday-night-bingo/2028-08-14/
LOCATION:Balsam Lake Lodge Event Venue\, 264 Cty Rd I\, Balsam Lake\, WI\, 54810\, United States
CATEGORIES:Bingo
END:VEVENT
BEGIN:VEVENT
DTSTART;TZID=America/Chicago:20280817T183000
DTEND;TZID=America/Chicago:20280817T193000
DTSTAMP:20260421T003131
CREATED:20251209T085612Z
LAST-MODIFIED:20251209T085612Z
UID:10004955-1850149800-1850153400@balsamlakelodge.com
SUMMARY:Eagle Brook Church Viewing Service
DESCRIPTION:
URL:https://balsamlakelodge.com/events-2/eagle-brook-church-viewing-service/2028-08-17/
LOCATION:Balsam Lake Lodge Event Venue\, 264 Cty Rd I\, Balsam Lake\, WI\, 54810\, United States
END:VEVENT
BEGIN:VEVENT
DTSTART;TZID=America/Chicago:20280819T080000
DTEND;TZID=America/Chicago:20280819T113000
DTSTAMP:20260421T003131
CREATED:20250407T141743Z
LAST-MODIFIED:20250407T141745Z
UID:10001677-1850284800-1850297400@balsamlakelodge.com
SUMMARY:Breakfast & Bloody Mary Bar
DESCRIPTION:
URL:https://balsamlakelodge.com/events-2/breakfast-bloody-mary-bar-2-2/2028-08-19/
LOCATION:Balsam Lake Lodge Event Venue\, 264 Cty Rd I\, Balsam Lake\, WI\, 54810\, United States
END:VEVENT
BEGIN:VEVENT
DTSTART;TZID=America/Chicago:20280820T080000
DTEND;TZID=America/Chicago:20280820T113000
DTSTAMP:20260421T003131
CREATED:20250407T141743Z
LAST-MODIFIED:20250407T141745Z
UID:10001678-1850371200-1850383800@balsamlakelodge.com
SUMMARY:Breakfast & Bloody Mary Bar
DESCRIPTION:
URL:https://balsamlakelodge.com/events-2/breakfast-bloody-mary-bar-2-2/2028-08-20/
LOCATION:Balsam Lake Lodge Event Venue\, 264 Cty Rd I\, Balsam Lake\, WI\, 54810\, United States
END:VEVENT
BEGIN:VEVENT
DTSTART;TZID=America/Chicago:20280821T180000
DTEND;TZID=America/Chicago:20280821T200000
DTSTAMP:20260421T003131
CREATED:20250311T172607Z
LAST-MODIFIED:20250311T172607Z
UID:10004564-1850493600-1850500800@balsamlakelodge.com
SUMMARY:Monday Night Bingo
DESCRIPTION:
URL:https://balsamlakelodge.com/events-2/monday-night-bingo/2028-08-21/
LOCATION:Balsam Lake Lodge Event Venue\, 264 Cty Rd I\, Balsam Lake\, WI\, 54810\, United States
CATEGORIES:Bingo
END:VEVENT
BEGIN:VEVENT
DTSTART;TZID=America/Chicago:20280824T183000
DTEND;TZID=America/Chicago:20280824T193000
DTSTAMP:20260421T003131
CREATED:20251209T085612Z
LAST-MODIFIED:20251209T085612Z
UID:10004956-1850754600-1850758200@balsamlakelodge.com
SUMMARY:Eagle Brook Church Viewing Service
DESCRIPTION:
URL:https://balsamlakelodge.com/events-2/eagle-brook-church-viewing-service/2028-08-24/
LOCATION:Balsam Lake Lodge Event Venue\, 264 Cty Rd I\, Balsam Lake\, WI\, 54810\, United States
END:VEVENT
END:VCALENDAR