BEGIN:VCALENDAR
VERSION:2.0
PRODID:-//Balsam Lake Lodge - ECPv6.15.20//NONSGML v1.0//EN
CALSCALE:GREGORIAN
METHOD:PUBLISH
X-ORIGINAL-URL:https://balsamlakelodge.com
X-WR-CALDESC:Events for Balsam Lake Lodge
REFRESH-INTERVAL;VALUE=DURATION:PT1H
X-Robots-Tag:noindex
X-PUBLISHED-TTL:PT1H
BEGIN:VTIMEZONE
TZID:America/Chicago
BEGIN:DAYLIGHT
TZOFFSETFROM:-0600
TZOFFSETTO:-0500
TZNAME:CDT
DTSTART:20270314T080000
END:DAYLIGHT
BEGIN:STANDARD
TZOFFSETFROM:-0500
TZOFFSETTO:-0600
TZNAME:CST
DTSTART:20271107T070000
END:STANDARD
BEGIN:DAYLIGHT
TZOFFSETFROM:-0600
TZOFFSETTO:-0500
TZNAME:CDT
DTSTART:20280312T080000
END:DAYLIGHT
BEGIN:STANDARD
TZOFFSETFROM:-0500
TZOFFSETTO:-0600
TZNAME:CST
DTSTART:20281105T070000
END:STANDARD
BEGIN:DAYLIGHT
TZOFFSETFROM:-0600
TZOFFSETTO:-0500
TZNAME:CDT
DTSTART:20290311T080000
END:DAYLIGHT
BEGIN:STANDARD
TZOFFSETFROM:-0500
TZOFFSETTO:-0600
TZNAME:CST
DTSTART:20291104T070000
END:STANDARD
END:VTIMEZONE
BEGIN:VEVENT
DTSTART;TZID=America/Chicago:20280904T180000
DTEND;TZID=America/Chicago:20280904T200000
DTSTAMP:20260420T225230
CREATED:20250311T172607Z
LAST-MODIFIED:20250311T172607Z
UID:10004566-1851703200-1851710400@balsamlakelodge.com
SUMMARY:Monday Night Bingo
DESCRIPTION:
URL:https://balsamlakelodge.com/events-2/monday-night-bingo/2028-09-04/
LOCATION:Balsam Lake Lodge Event Venue\, 264 Cty Rd I\, Balsam Lake\, WI\, 54810\, United States
CATEGORIES:Bingo
END:VEVENT
BEGIN:VEVENT
DTSTART;TZID=America/Chicago:20280907T183000
DTEND;TZID=America/Chicago:20280907T193000
DTSTAMP:20260420T225230
CREATED:20251209T085612Z
LAST-MODIFIED:20251209T085612Z
UID:10004958-1851964200-1851967800@balsamlakelodge.com
SUMMARY:Eagle Brook Church Viewing Service
DESCRIPTION:
URL:https://balsamlakelodge.com/events-2/eagle-brook-church-viewing-service/2028-09-07/
LOCATION:Balsam Lake Lodge Event Venue\, 264 Cty Rd I\, Balsam Lake\, WI\, 54810\, United States
END:VEVENT
BEGIN:VEVENT
DTSTART;TZID=America/Chicago:20280909T080000
DTEND;TZID=America/Chicago:20280909T113000
DTSTAMP:20260420T225230
CREATED:20250407T141743Z
LAST-MODIFIED:20250407T141745Z
UID:10001683-1852099200-1852111800@balsamlakelodge.com
SUMMARY:Breakfast & Bloody Mary Bar
DESCRIPTION:
URL:https://balsamlakelodge.com/events-2/breakfast-bloody-mary-bar-2-2/2028-09-09/
LOCATION:Balsam Lake Lodge Event Venue\, 264 Cty Rd I\, Balsam Lake\, WI\, 54810\, United States
END:VEVENT
BEGIN:VEVENT
DTSTART;TZID=America/Chicago:20280910T080000
DTEND;TZID=America/Chicago:20280910T113000
DTSTAMP:20260420T225230
CREATED:20250407T141743Z
LAST-MODIFIED:20250407T141745Z
UID:10001684-1852185600-1852198200@balsamlakelodge.com
SUMMARY:Breakfast & Bloody Mary Bar
DESCRIPTION:
URL:https://balsamlakelodge.com/events-2/breakfast-bloody-mary-bar-2-2/2028-09-10/
LOCATION:Balsam Lake Lodge Event Venue\, 264 Cty Rd I\, Balsam Lake\, WI\, 54810\, United States
END:VEVENT
BEGIN:VEVENT
DTSTART;TZID=America/Chicago:20280911T180000
DTEND;TZID=America/Chicago:20280911T200000
DTSTAMP:20260420T225230
CREATED:20250311T172607Z
LAST-MODIFIED:20250311T172607Z
UID:10004567-1852308000-1852315200@balsamlakelodge.com
SUMMARY:Monday Night Bingo
DESCRIPTION:
URL:https://balsamlakelodge.com/events-2/monday-night-bingo/2028-09-11/
LOCATION:Balsam Lake Lodge Event Venue\, 264 Cty Rd I\, Balsam Lake\, WI\, 54810\, United States
CATEGORIES:Bingo
END:VEVENT
BEGIN:VEVENT
DTSTART;TZID=America/Chicago:20280914T183000
DTEND;TZID=America/Chicago:20280914T193000
DTSTAMP:20260420T225230
CREATED:20251209T085612Z
LAST-MODIFIED:20251209T085612Z
UID:10004959-1852569000-1852572600@balsamlakelodge.com
SUMMARY:Eagle Brook Church Viewing Service
DESCRIPTION:
URL:https://balsamlakelodge.com/events-2/eagle-brook-church-viewing-service/2028-09-14/
LOCATION:Balsam Lake Lodge Event Venue\, 264 Cty Rd I\, Balsam Lake\, WI\, 54810\, United States
END:VEVENT
BEGIN:VEVENT
DTSTART;TZID=America/Chicago:20280916T080000
DTEND;TZID=America/Chicago:20280916T113000
DTSTAMP:20260420T225230
CREATED:20250407T141743Z
LAST-MODIFIED:20250407T141745Z
UID:10001685-1852704000-1852716600@balsamlakelodge.com
SUMMARY:Breakfast & Bloody Mary Bar
DESCRIPTION:
URL:https://balsamlakelodge.com/events-2/breakfast-bloody-mary-bar-2-2/2028-09-16/
LOCATION:Balsam Lake Lodge Event Venue\, 264 Cty Rd I\, Balsam Lake\, WI\, 54810\, United States
END:VEVENT
BEGIN:VEVENT
DTSTART;TZID=America/Chicago:20280917T080000
DTEND;TZID=America/Chicago:20280917T113000
DTSTAMP:20260420T225230
CREATED:20250407T141743Z
LAST-MODIFIED:20250407T141745Z
UID:10001686-1852790400-1852803000@balsamlakelodge.com
SUMMARY:Breakfast & Bloody Mary Bar
DESCRIPTION:
URL:https://balsamlakelodge.com/events-2/breakfast-bloody-mary-bar-2-2/2028-09-17/
LOCATION:Balsam Lake Lodge Event Venue\, 264 Cty Rd I\, Balsam Lake\, WI\, 54810\, United States
END:VEVENT
BEGIN:VEVENT
DTSTART;TZID=America/Chicago:20280918T180000
DTEND;TZID=America/Chicago:20280918T200000
DTSTAMP:20260420T225230
CREATED:20250311T172607Z
LAST-MODIFIED:20250311T172607Z
UID:10004568-1852912800-1852920000@balsamlakelodge.com
SUMMARY:Monday Night Bingo
DESCRIPTION:
URL:https://balsamlakelodge.com/events-2/monday-night-bingo/2028-09-18/
LOCATION:Balsam Lake Lodge Event Venue\, 264 Cty Rd I\, Balsam Lake\, WI\, 54810\, United States
CATEGORIES:Bingo
END:VEVENT
BEGIN:VEVENT
DTSTART;TZID=America/Chicago:20280921T183000
DTEND;TZID=America/Chicago:20280921T193000
DTSTAMP:20260420T225230
CREATED:20251209T085612Z
LAST-MODIFIED:20251209T085612Z
UID:10004960-1853173800-1853177400@balsamlakelodge.com
SUMMARY:Eagle Brook Church Viewing Service
DESCRIPTION:
URL:https://balsamlakelodge.com/events-2/eagle-brook-church-viewing-service/2028-09-21/
LOCATION:Balsam Lake Lodge Event Venue\, 264 Cty Rd I\, Balsam Lake\, WI\, 54810\, United States
END:VEVENT
BEGIN:VEVENT
DTSTART;TZID=America/Chicago:20280923T080000
DTEND;TZID=America/Chicago:20280923T113000
DTSTAMP:20260420T225230
CREATED:20250407T141743Z
LAST-MODIFIED:20250407T141745Z
UID:10001687-1853308800-1853321400@balsamlakelodge.com
SUMMARY:Breakfast & Bloody Mary Bar
DESCRIPTION:
URL:https://balsamlakelodge.com/events-2/breakfast-bloody-mary-bar-2-2/2028-09-23/
LOCATION:Balsam Lake Lodge Event Venue\, 264 Cty Rd I\, Balsam Lake\, WI\, 54810\, United States
END:VEVENT
BEGIN:VEVENT
DTSTART;TZID=America/Chicago:20280924T080000
DTEND;TZID=America/Chicago:20280924T113000
DTSTAMP:20260420T225230
CREATED:20250407T141743Z
LAST-MODIFIED:20250407T141745Z
UID:10001688-1853395200-1853407800@balsamlakelodge.com
SUMMARY:Breakfast & Bloody Mary Bar
DESCRIPTION:
URL:https://balsamlakelodge.com/events-2/breakfast-bloody-mary-bar-2-2/2028-09-24/
LOCATION:Balsam Lake Lodge Event Venue\, 264 Cty Rd I\, Balsam Lake\, WI\, 54810\, United States
END:VEVENT
BEGIN:VEVENT
DTSTART;TZID=America/Chicago:20280925T180000
DTEND;TZID=America/Chicago:20280925T200000
DTSTAMP:20260420T225230
CREATED:20250311T172607Z
LAST-MODIFIED:20250311T172607Z
UID:10004569-1853517600-1853524800@balsamlakelodge.com
SUMMARY:Monday Night Bingo
DESCRIPTION:
URL:https://balsamlakelodge.com/events-2/monday-night-bingo/2028-09-25/
LOCATION:Balsam Lake Lodge Event Venue\, 264 Cty Rd I\, Balsam Lake\, WI\, 54810\, United States
CATEGORIES:Bingo
END:VEVENT
BEGIN:VEVENT
DTSTART;TZID=America/Chicago:20280928T183000
DTEND;TZID=America/Chicago:20280928T193000
DTSTAMP:20260420T225230
CREATED:20251209T085612Z
LAST-MODIFIED:20251209T085612Z
UID:10004961-1853778600-1853782200@balsamlakelodge.com
SUMMARY:Eagle Brook Church Viewing Service
DESCRIPTION:
URL:https://balsamlakelodge.com/events-2/eagle-brook-church-viewing-service/2028-09-28/
LOCATION:Balsam Lake Lodge Event Venue\, 264 Cty Rd I\, Balsam Lake\, WI\, 54810\, United States
END:VEVENT
BEGIN:VEVENT
DTSTART;TZID=America/Chicago:20280930T080000
DTEND;TZID=America/Chicago:20280930T113000
DTSTAMP:20260420T225230
CREATED:20250407T141743Z
LAST-MODIFIED:20250407T141745Z
UID:10001689-1853913600-1853926200@balsamlakelodge.com
SUMMARY:Breakfast & Bloody Mary Bar
DESCRIPTION:
URL:https://balsamlakelodge.com/events-2/breakfast-bloody-mary-bar-2-2/2028-09-30/
LOCATION:Balsam Lake Lodge Event Venue\, 264 Cty Rd I\, Balsam Lake\, WI\, 54810\, United States
END:VEVENT
BEGIN:VEVENT
DTSTART;TZID=America/Chicago:20281001T080000
DTEND;TZID=America/Chicago:20281001T113000
DTSTAMP:20260420T225230
CREATED:20250407T141743Z
LAST-MODIFIED:20250407T141745Z
UID:10001690-1854000000-1854012600@balsamlakelodge.com
SUMMARY:Breakfast & Bloody Mary Bar
DESCRIPTION:
URL:https://balsamlakelodge.com/events-2/breakfast-bloody-mary-bar-2-2/2028-10-01/
LOCATION:Balsam Lake Lodge Event Venue\, 264 Cty Rd I\, Balsam Lake\, WI\, 54810\, United States
END:VEVENT
BEGIN:VEVENT
DTSTART;TZID=America/Chicago:20281002T180000
DTEND;TZID=America/Chicago:20281002T200000
DTSTAMP:20260420T225230
CREATED:20250311T172607Z
LAST-MODIFIED:20250311T172607Z
UID:10004570-1854122400-1854129600@balsamlakelodge.com
SUMMARY:Monday Night Bingo
DESCRIPTION:
URL:https://balsamlakelodge.com/events-2/monday-night-bingo/2028-10-02/
LOCATION:Balsam Lake Lodge Event Venue\, 264 Cty Rd I\, Balsam Lake\, WI\, 54810\, United States
CATEGORIES:Bingo
END:VEVENT
BEGIN:VEVENT
DTSTART;TZID=America/Chicago:20281005T183000
DTEND;TZID=America/Chicago:20281005T193000
DTSTAMP:20260420T225230
CREATED:20251209T085612Z
LAST-MODIFIED:20251209T085612Z
UID:10004962-1854383400-1854387000@balsamlakelodge.com
SUMMARY:Eagle Brook Church Viewing Service
DESCRIPTION:
URL:https://balsamlakelodge.com/events-2/eagle-brook-church-viewing-service/2028-10-05/
LOCATION:Balsam Lake Lodge Event Venue\, 264 Cty Rd I\, Balsam Lake\, WI\, 54810\, United States
END:VEVENT
BEGIN:VEVENT
DTSTART;TZID=America/Chicago:20281007T080000
DTEND;TZID=America/Chicago:20281007T113000
DTSTAMP:20260420T225230
CREATED:20250407T141743Z
LAST-MODIFIED:20250407T141745Z
UID:10001691-1854518400-1854531000@balsamlakelodge.com
SUMMARY:Breakfast & Bloody Mary Bar
DESCRIPTION:
URL:https://balsamlakelodge.com/events-2/breakfast-bloody-mary-bar-2-2/2028-10-07/
LOCATION:Balsam Lake Lodge Event Venue\, 264 Cty Rd I\, Balsam Lake\, WI\, 54810\, United States
END:VEVENT
BEGIN:VEVENT
DTSTART;TZID=America/Chicago:20281008T080000
DTEND;TZID=America/Chicago:20281008T113000
DTSTAMP:20260420T225230
CREATED:20250407T141743Z
LAST-MODIFIED:20250407T141745Z
UID:10001692-1854604800-1854617400@balsamlakelodge.com
SUMMARY:Breakfast & Bloody Mary Bar
DESCRIPTION:
URL:https://balsamlakelodge.com/events-2/breakfast-bloody-mary-bar-2-2/2028-10-08/
LOCATION:Balsam Lake Lodge Event Venue\, 264 Cty Rd I\, Balsam Lake\, WI\, 54810\, United States
END:VEVENT
BEGIN:VEVENT
DTSTART;TZID=America/Chicago:20281009T180000
DTEND;TZID=America/Chicago:20281009T200000
DTSTAMP:20260420T225230
CREATED:20250311T172607Z
LAST-MODIFIED:20250311T172607Z
UID:10004571-1854727200-1854734400@balsamlakelodge.com
SUMMARY:Monday Night Bingo
DESCRIPTION:
URL:https://balsamlakelodge.com/events-2/monday-night-bingo/2028-10-09/
LOCATION:Balsam Lake Lodge Event Venue\, 264 Cty Rd I\, Balsam Lake\, WI\, 54810\, United States
CATEGORIES:Bingo
END:VEVENT
BEGIN:VEVENT
DTSTART;TZID=America/Chicago:20281012T183000
DTEND;TZID=America/Chicago:20281012T193000
DTSTAMP:20260420T225230
CREATED:20251209T085612Z
LAST-MODIFIED:20251209T085612Z
UID:10004963-1854988200-1854991800@balsamlakelodge.com
SUMMARY:Eagle Brook Church Viewing Service
DESCRIPTION:
URL:https://balsamlakelodge.com/events-2/eagle-brook-church-viewing-service/2028-10-12/
LOCATION:Balsam Lake Lodge Event Venue\, 264 Cty Rd I\, Balsam Lake\, WI\, 54810\, United States
END:VEVENT
BEGIN:VEVENT
DTSTART;TZID=America/Chicago:20281014T080000
DTEND;TZID=America/Chicago:20281014T113000
DTSTAMP:20260420T225230
CREATED:20250407T141743Z
LAST-MODIFIED:20250407T141745Z
UID:10001693-1855123200-1855135800@balsamlakelodge.com
SUMMARY:Breakfast & Bloody Mary Bar
DESCRIPTION:
URL:https://balsamlakelodge.com/events-2/breakfast-bloody-mary-bar-2-2/2028-10-14/
LOCATION:Balsam Lake Lodge Event Venue\, 264 Cty Rd I\, Balsam Lake\, WI\, 54810\, United States
END:VEVENT
BEGIN:VEVENT
DTSTART;TZID=America/Chicago:20281015T080000
DTEND;TZID=America/Chicago:20281015T113000
DTSTAMP:20260420T225230
CREATED:20250407T141743Z
LAST-MODIFIED:20250407T141745Z
UID:10001694-1855209600-1855222200@balsamlakelodge.com
SUMMARY:Breakfast & Bloody Mary Bar
DESCRIPTION:
URL:https://balsamlakelodge.com/events-2/breakfast-bloody-mary-bar-2-2/2028-10-15/
LOCATION:Balsam Lake Lodge Event Venue\, 264 Cty Rd I\, Balsam Lake\, WI\, 54810\, United States
END:VEVENT
BEGIN:VEVENT
DTSTART;TZID=America/Chicago:20281016T180000
DTEND;TZID=America/Chicago:20281016T200000
DTSTAMP:20260420T225230
CREATED:20250311T172607Z
LAST-MODIFIED:20250311T172607Z
UID:10004572-1855332000-1855339200@balsamlakelodge.com
SUMMARY:Monday Night Bingo
DESCRIPTION:
URL:https://balsamlakelodge.com/events-2/monday-night-bingo/2028-10-16/
LOCATION:Balsam Lake Lodge Event Venue\, 264 Cty Rd I\, Balsam Lake\, WI\, 54810\, United States
CATEGORIES:Bingo
END:VEVENT
BEGIN:VEVENT
DTSTART;TZID=America/Chicago:20281019T183000
DTEND;TZID=America/Chicago:20281019T193000
DTSTAMP:20260420T225230
CREATED:20251209T085612Z
LAST-MODIFIED:20251209T085612Z
UID:10004964-1855593000-1855596600@balsamlakelodge.com
SUMMARY:Eagle Brook Church Viewing Service
DESCRIPTION:
URL:https://balsamlakelodge.com/events-2/eagle-brook-church-viewing-service/2028-10-19/
LOCATION:Balsam Lake Lodge Event Venue\, 264 Cty Rd I\, Balsam Lake\, WI\, 54810\, United States
END:VEVENT
BEGIN:VEVENT
DTSTART;TZID=America/Chicago:20281021T080000
DTEND;TZID=America/Chicago:20281021T113000
DTSTAMP:20260420T225230
CREATED:20250407T141743Z
LAST-MODIFIED:20250407T141745Z
UID:10001695-1855728000-1855740600@balsamlakelodge.com
SUMMARY:Breakfast & Bloody Mary Bar
DESCRIPTION:
URL:https://balsamlakelodge.com/events-2/breakfast-bloody-mary-bar-2-2/2028-10-21/
LOCATION:Balsam Lake Lodge Event Venue\, 264 Cty Rd I\, Balsam Lake\, WI\, 54810\, United States
END:VEVENT
BEGIN:VEVENT
DTSTART;TZID=America/Chicago:20281022T080000
DTEND;TZID=America/Chicago:20281022T113000
DTSTAMP:20260420T225230
CREATED:20250407T141743Z
LAST-MODIFIED:20250407T141745Z
UID:10001696-1855814400-1855827000@balsamlakelodge.com
SUMMARY:Breakfast & Bloody Mary Bar
DESCRIPTION:
URL:https://balsamlakelodge.com/events-2/breakfast-bloody-mary-bar-2-2/2028-10-22/
LOCATION:Balsam Lake Lodge Event Venue\, 264 Cty Rd I\, Balsam Lake\, WI\, 54810\, United States
END:VEVENT
BEGIN:VEVENT
DTSTART;TZID=America/Chicago:20281023T180000
DTEND;TZID=America/Chicago:20281023T200000
DTSTAMP:20260420T225230
CREATED:20250311T172607Z
LAST-MODIFIED:20250311T172607Z
UID:10004573-1855936800-1855944000@balsamlakelodge.com
SUMMARY:Monday Night Bingo
DESCRIPTION:
URL:https://balsamlakelodge.com/events-2/monday-night-bingo/2028-10-23/
LOCATION:Balsam Lake Lodge Event Venue\, 264 Cty Rd I\, Balsam Lake\, WI\, 54810\, United States
CATEGORIES:Bingo
END:VEVENT
BEGIN:VEVENT
DTSTART;TZID=America/Chicago:20281026T183000
DTEND;TZID=America/Chicago:20281026T193000
DTSTAMP:20260420T225230
CREATED:20251209T085612Z
LAST-MODIFIED:20251209T085612Z
UID:10004965-1856197800-1856201400@balsamlakelodge.com
SUMMARY:Eagle Brook Church Viewing Service
DESCRIPTION:
URL:https://balsamlakelodge.com/events-2/eagle-brook-church-viewing-service/2028-10-26/
LOCATION:Balsam Lake Lodge Event Venue\, 264 Cty Rd I\, Balsam Lake\, WI\, 54810\, United States
END:VEVENT
END:VCALENDAR