BEGIN:VCALENDAR
VERSION:2.0
PRODID:-//Balsam Lake Lodge - ECPv6.15.20//NONSGML v1.0//EN
CALSCALE:GREGORIAN
METHOD:PUBLISH
X-ORIGINAL-URL:https://balsamlakelodge.com
X-WR-CALDESC:Events for Balsam Lake Lodge
REFRESH-INTERVAL;VALUE=DURATION:PT1H
X-Robots-Tag:noindex
X-PUBLISHED-TTL:PT1H
BEGIN:VTIMEZONE
TZID:America/Chicago
BEGIN:DAYLIGHT
TZOFFSETFROM:-0600
TZOFFSETTO:-0500
TZNAME:CDT
DTSTART:20270314T080000
END:DAYLIGHT
BEGIN:STANDARD
TZOFFSETFROM:-0500
TZOFFSETTO:-0600
TZNAME:CST
DTSTART:20271107T070000
END:STANDARD
BEGIN:DAYLIGHT
TZOFFSETFROM:-0600
TZOFFSETTO:-0500
TZNAME:CDT
DTSTART:20280312T080000
END:DAYLIGHT
BEGIN:STANDARD
TZOFFSETFROM:-0500
TZOFFSETTO:-0600
TZNAME:CST
DTSTART:20281105T070000
END:STANDARD
BEGIN:DAYLIGHT
TZOFFSETFROM:-0600
TZOFFSETTO:-0500
TZNAME:CDT
DTSTART:20290311T080000
END:DAYLIGHT
BEGIN:STANDARD
TZOFFSETFROM:-0500
TZOFFSETTO:-0600
TZNAME:CST
DTSTART:20291104T070000
END:STANDARD
END:VTIMEZONE
BEGIN:VEVENT
DTSTART;TZID=America/Chicago:20281009T180000
DTEND;TZID=America/Chicago:20281009T200000
DTSTAMP:20260421T002926
CREATED:20250311T172607Z
LAST-MODIFIED:20250311T172607Z
UID:10004571-1854727200-1854734400@balsamlakelodge.com
SUMMARY:Monday Night Bingo
DESCRIPTION:
URL:https://balsamlakelodge.com/events-2/monday-night-bingo/2028-10-09/
LOCATION:Balsam Lake Lodge Event Venue\, 264 Cty Rd I\, Balsam Lake\, WI\, 54810\, United States
CATEGORIES:Bingo
END:VEVENT
BEGIN:VEVENT
DTSTART;TZID=America/Chicago:20281012T183000
DTEND;TZID=America/Chicago:20281012T193000
DTSTAMP:20260421T002926
CREATED:20251209T085612Z
LAST-MODIFIED:20251209T085612Z
UID:10004963-1854988200-1854991800@balsamlakelodge.com
SUMMARY:Eagle Brook Church Viewing Service
DESCRIPTION:
URL:https://balsamlakelodge.com/events-2/eagle-brook-church-viewing-service/2028-10-12/
LOCATION:Balsam Lake Lodge Event Venue\, 264 Cty Rd I\, Balsam Lake\, WI\, 54810\, United States
END:VEVENT
BEGIN:VEVENT
DTSTART;TZID=America/Chicago:20281014T080000
DTEND;TZID=America/Chicago:20281014T113000
DTSTAMP:20260421T002926
CREATED:20250407T141743Z
LAST-MODIFIED:20250407T141745Z
UID:10001693-1855123200-1855135800@balsamlakelodge.com
SUMMARY:Breakfast & Bloody Mary Bar
DESCRIPTION:
URL:https://balsamlakelodge.com/events-2/breakfast-bloody-mary-bar-2-2/2028-10-14/
LOCATION:Balsam Lake Lodge Event Venue\, 264 Cty Rd I\, Balsam Lake\, WI\, 54810\, United States
END:VEVENT
BEGIN:VEVENT
DTSTART;TZID=America/Chicago:20281015T080000
DTEND;TZID=America/Chicago:20281015T113000
DTSTAMP:20260421T002926
CREATED:20250407T141743Z
LAST-MODIFIED:20250407T141745Z
UID:10001694-1855209600-1855222200@balsamlakelodge.com
SUMMARY:Breakfast & Bloody Mary Bar
DESCRIPTION:
URL:https://balsamlakelodge.com/events-2/breakfast-bloody-mary-bar-2-2/2028-10-15/
LOCATION:Balsam Lake Lodge Event Venue\, 264 Cty Rd I\, Balsam Lake\, WI\, 54810\, United States
END:VEVENT
BEGIN:VEVENT
DTSTART;TZID=America/Chicago:20281016T180000
DTEND;TZID=America/Chicago:20281016T200000
DTSTAMP:20260421T002926
CREATED:20250311T172607Z
LAST-MODIFIED:20250311T172607Z
UID:10004572-1855332000-1855339200@balsamlakelodge.com
SUMMARY:Monday Night Bingo
DESCRIPTION:
URL:https://balsamlakelodge.com/events-2/monday-night-bingo/2028-10-16/
LOCATION:Balsam Lake Lodge Event Venue\, 264 Cty Rd I\, Balsam Lake\, WI\, 54810\, United States
CATEGORIES:Bingo
END:VEVENT
BEGIN:VEVENT
DTSTART;TZID=America/Chicago:20281019T183000
DTEND;TZID=America/Chicago:20281019T193000
DTSTAMP:20260421T002926
CREATED:20251209T085612Z
LAST-MODIFIED:20251209T085612Z
UID:10004964-1855593000-1855596600@balsamlakelodge.com
SUMMARY:Eagle Brook Church Viewing Service
DESCRIPTION:
URL:https://balsamlakelodge.com/events-2/eagle-brook-church-viewing-service/2028-10-19/
LOCATION:Balsam Lake Lodge Event Venue\, 264 Cty Rd I\, Balsam Lake\, WI\, 54810\, United States
END:VEVENT
BEGIN:VEVENT
DTSTART;TZID=America/Chicago:20281021T080000
DTEND;TZID=America/Chicago:20281021T113000
DTSTAMP:20260421T002926
CREATED:20250407T141743Z
LAST-MODIFIED:20250407T141745Z
UID:10001695-1855728000-1855740600@balsamlakelodge.com
SUMMARY:Breakfast & Bloody Mary Bar
DESCRIPTION:
URL:https://balsamlakelodge.com/events-2/breakfast-bloody-mary-bar-2-2/2028-10-21/
LOCATION:Balsam Lake Lodge Event Venue\, 264 Cty Rd I\, Balsam Lake\, WI\, 54810\, United States
END:VEVENT
BEGIN:VEVENT
DTSTART;TZID=America/Chicago:20281022T080000
DTEND;TZID=America/Chicago:20281022T113000
DTSTAMP:20260421T002926
CREATED:20250407T141743Z
LAST-MODIFIED:20250407T141745Z
UID:10001696-1855814400-1855827000@balsamlakelodge.com
SUMMARY:Breakfast & Bloody Mary Bar
DESCRIPTION:
URL:https://balsamlakelodge.com/events-2/breakfast-bloody-mary-bar-2-2/2028-10-22/
LOCATION:Balsam Lake Lodge Event Venue\, 264 Cty Rd I\, Balsam Lake\, WI\, 54810\, United States
END:VEVENT
BEGIN:VEVENT
DTSTART;TZID=America/Chicago:20281023T180000
DTEND;TZID=America/Chicago:20281023T200000
DTSTAMP:20260421T002926
CREATED:20250311T172607Z
LAST-MODIFIED:20250311T172607Z
UID:10004573-1855936800-1855944000@balsamlakelodge.com
SUMMARY:Monday Night Bingo
DESCRIPTION:
URL:https://balsamlakelodge.com/events-2/monday-night-bingo/2028-10-23/
LOCATION:Balsam Lake Lodge Event Venue\, 264 Cty Rd I\, Balsam Lake\, WI\, 54810\, United States
CATEGORIES:Bingo
END:VEVENT
BEGIN:VEVENT
DTSTART;TZID=America/Chicago:20281026T183000
DTEND;TZID=America/Chicago:20281026T193000
DTSTAMP:20260421T002926
CREATED:20251209T085612Z
LAST-MODIFIED:20251209T085612Z
UID:10004965-1856197800-1856201400@balsamlakelodge.com
SUMMARY:Eagle Brook Church Viewing Service
DESCRIPTION:
URL:https://balsamlakelodge.com/events-2/eagle-brook-church-viewing-service/2028-10-26/
LOCATION:Balsam Lake Lodge Event Venue\, 264 Cty Rd I\, Balsam Lake\, WI\, 54810\, United States
END:VEVENT
BEGIN:VEVENT
DTSTART;TZID=America/Chicago:20281028T080000
DTEND;TZID=America/Chicago:20281028T113000
DTSTAMP:20260421T002926
CREATED:20250407T141743Z
LAST-MODIFIED:20250407T141745Z
UID:10001697-1856332800-1856345400@balsamlakelodge.com
SUMMARY:Breakfast & Bloody Mary Bar
DESCRIPTION:
URL:https://balsamlakelodge.com/events-2/breakfast-bloody-mary-bar-2-2/2028-10-28/
LOCATION:Balsam Lake Lodge Event Venue\, 264 Cty Rd I\, Balsam Lake\, WI\, 54810\, United States
END:VEVENT
BEGIN:VEVENT
DTSTART;TZID=America/Chicago:20281029T080000
DTEND;TZID=America/Chicago:20281029T113000
DTSTAMP:20260421T002926
CREATED:20250407T141743Z
LAST-MODIFIED:20250407T141745Z
UID:10001698-1856419200-1856431800@balsamlakelodge.com
SUMMARY:Breakfast & Bloody Mary Bar
DESCRIPTION:
URL:https://balsamlakelodge.com/events-2/breakfast-bloody-mary-bar-2-2/2028-10-29/
LOCATION:Balsam Lake Lodge Event Venue\, 264 Cty Rd I\, Balsam Lake\, WI\, 54810\, United States
END:VEVENT
BEGIN:VEVENT
DTSTART;TZID=America/Chicago:20281030T180000
DTEND;TZID=America/Chicago:20281030T200000
DTSTAMP:20260421T002926
CREATED:20250311T172607Z
LAST-MODIFIED:20250311T172607Z
UID:10004574-1856541600-1856548800@balsamlakelodge.com
SUMMARY:Monday Night Bingo
DESCRIPTION:
URL:https://balsamlakelodge.com/events-2/monday-night-bingo/2028-10-30/
LOCATION:Balsam Lake Lodge Event Venue\, 264 Cty Rd I\, Balsam Lake\, WI\, 54810\, United States
CATEGORIES:Bingo
END:VEVENT
BEGIN:VEVENT
DTSTART;TZID=America/Chicago:20281102T183000
DTEND;TZID=America/Chicago:20281102T193000
DTSTAMP:20260421T002926
CREATED:20251209T085612Z
LAST-MODIFIED:20251209T085612Z
UID:10004966-1856802600-1856806200@balsamlakelodge.com
SUMMARY:Eagle Brook Church Viewing Service
DESCRIPTION:
URL:https://balsamlakelodge.com/events-2/eagle-brook-church-viewing-service/2028-11-02/
LOCATION:Balsam Lake Lodge Event Venue\, 264 Cty Rd I\, Balsam Lake\, WI\, 54810\, United States
END:VEVENT
BEGIN:VEVENT
DTSTART;TZID=America/Chicago:20281104T080000
DTEND;TZID=America/Chicago:20281104T113000
DTSTAMP:20260421T002926
CREATED:20250407T141743Z
LAST-MODIFIED:20250407T141745Z
UID:10001699-1856937600-1856950200@balsamlakelodge.com
SUMMARY:Breakfast & Bloody Mary Bar
DESCRIPTION:
URL:https://balsamlakelodge.com/events-2/breakfast-bloody-mary-bar-2-2/2028-11-04/
LOCATION:Balsam Lake Lodge Event Venue\, 264 Cty Rd I\, Balsam Lake\, WI\, 54810\, United States
END:VEVENT
BEGIN:VEVENT
DTSTART;TZID=America/Chicago:20281105T080000
DTEND;TZID=America/Chicago:20281105T113000
DTSTAMP:20260421T002926
CREATED:20250407T141743Z
LAST-MODIFIED:20250407T141745Z
UID:10001700-1857024000-1857036600@balsamlakelodge.com
SUMMARY:Breakfast & Bloody Mary Bar
DESCRIPTION:
URL:https://balsamlakelodge.com/events-2/breakfast-bloody-mary-bar-2-2/2028-11-05/
LOCATION:Balsam Lake Lodge Event Venue\, 264 Cty Rd I\, Balsam Lake\, WI\, 54810\, United States
END:VEVENT
BEGIN:VEVENT
DTSTART;TZID=America/Chicago:20281106T180000
DTEND;TZID=America/Chicago:20281106T200000
DTSTAMP:20260421T002926
CREATED:20250311T172607Z
LAST-MODIFIED:20250311T172607Z
UID:10004575-1857146400-1857153600@balsamlakelodge.com
SUMMARY:Monday Night Bingo
DESCRIPTION:
URL:https://balsamlakelodge.com/events-2/monday-night-bingo/2028-11-06/
LOCATION:Balsam Lake Lodge Event Venue\, 264 Cty Rd I\, Balsam Lake\, WI\, 54810\, United States
CATEGORIES:Bingo
END:VEVENT
BEGIN:VEVENT
DTSTART;TZID=America/Chicago:20281109T183000
DTEND;TZID=America/Chicago:20281109T193000
DTSTAMP:20260421T002926
CREATED:20251209T085612Z
LAST-MODIFIED:20251209T085612Z
UID:10004967-1857407400-1857411000@balsamlakelodge.com
SUMMARY:Eagle Brook Church Viewing Service
DESCRIPTION:
URL:https://balsamlakelodge.com/events-2/eagle-brook-church-viewing-service/2028-11-09/
LOCATION:Balsam Lake Lodge Event Venue\, 264 Cty Rd I\, Balsam Lake\, WI\, 54810\, United States
END:VEVENT
BEGIN:VEVENT
DTSTART;TZID=America/Chicago:20281111T080000
DTEND;TZID=America/Chicago:20281111T113000
DTSTAMP:20260421T002926
CREATED:20250407T141743Z
LAST-MODIFIED:20250407T141745Z
UID:10001701-1857542400-1857555000@balsamlakelodge.com
SUMMARY:Breakfast & Bloody Mary Bar
DESCRIPTION:
URL:https://balsamlakelodge.com/events-2/breakfast-bloody-mary-bar-2-2/2028-11-11/
LOCATION:Balsam Lake Lodge Event Venue\, 264 Cty Rd I\, Balsam Lake\, WI\, 54810\, United States
END:VEVENT
BEGIN:VEVENT
DTSTART;TZID=America/Chicago:20281112T080000
DTEND;TZID=America/Chicago:20281112T113000
DTSTAMP:20260421T002926
CREATED:20250407T141743Z
LAST-MODIFIED:20250407T141745Z
UID:10001702-1857628800-1857641400@balsamlakelodge.com
SUMMARY:Breakfast & Bloody Mary Bar
DESCRIPTION:
URL:https://balsamlakelodge.com/events-2/breakfast-bloody-mary-bar-2-2/2028-11-12/
LOCATION:Balsam Lake Lodge Event Venue\, 264 Cty Rd I\, Balsam Lake\, WI\, 54810\, United States
END:VEVENT
BEGIN:VEVENT
DTSTART;TZID=America/Chicago:20281113T180000
DTEND;TZID=America/Chicago:20281113T200000
DTSTAMP:20260421T002926
CREATED:20250311T172607Z
LAST-MODIFIED:20250311T172607Z
UID:10004576-1857751200-1857758400@balsamlakelodge.com
SUMMARY:Monday Night Bingo
DESCRIPTION:
URL:https://balsamlakelodge.com/events-2/monday-night-bingo/2028-11-13/
LOCATION:Balsam Lake Lodge Event Venue\, 264 Cty Rd I\, Balsam Lake\, WI\, 54810\, United States
CATEGORIES:Bingo
END:VEVENT
BEGIN:VEVENT
DTSTART;TZID=America/Chicago:20281116T183000
DTEND;TZID=America/Chicago:20281116T193000
DTSTAMP:20260421T002926
CREATED:20251209T085612Z
LAST-MODIFIED:20251209T085612Z
UID:10004968-1858012200-1858015800@balsamlakelodge.com
SUMMARY:Eagle Brook Church Viewing Service
DESCRIPTION:
URL:https://balsamlakelodge.com/events-2/eagle-brook-church-viewing-service/2028-11-16/
LOCATION:Balsam Lake Lodge Event Venue\, 264 Cty Rd I\, Balsam Lake\, WI\, 54810\, United States
END:VEVENT
BEGIN:VEVENT
DTSTART;TZID=America/Chicago:20281118T080000
DTEND;TZID=America/Chicago:20281118T113000
DTSTAMP:20260421T002926
CREATED:20250407T141743Z
LAST-MODIFIED:20250407T141745Z
UID:10001703-1858147200-1858159800@balsamlakelodge.com
SUMMARY:Breakfast & Bloody Mary Bar
DESCRIPTION:
URL:https://balsamlakelodge.com/events-2/breakfast-bloody-mary-bar-2-2/2028-11-18/
LOCATION:Balsam Lake Lodge Event Venue\, 264 Cty Rd I\, Balsam Lake\, WI\, 54810\, United States
END:VEVENT
BEGIN:VEVENT
DTSTART;TZID=America/Chicago:20281119T080000
DTEND;TZID=America/Chicago:20281119T113000
DTSTAMP:20260421T002926
CREATED:20250407T141743Z
LAST-MODIFIED:20250407T141745Z
UID:10001704-1858233600-1858246200@balsamlakelodge.com
SUMMARY:Breakfast & Bloody Mary Bar
DESCRIPTION:
URL:https://balsamlakelodge.com/events-2/breakfast-bloody-mary-bar-2-2/2028-11-19/
LOCATION:Balsam Lake Lodge Event Venue\, 264 Cty Rd I\, Balsam Lake\, WI\, 54810\, United States
END:VEVENT
BEGIN:VEVENT
DTSTART;TZID=America/Chicago:20281120T180000
DTEND;TZID=America/Chicago:20281120T200000
DTSTAMP:20260421T002926
CREATED:20250311T172607Z
LAST-MODIFIED:20250311T172607Z
UID:10004577-1858356000-1858363200@balsamlakelodge.com
SUMMARY:Monday Night Bingo
DESCRIPTION:
URL:https://balsamlakelodge.com/events-2/monday-night-bingo/2028-11-20/
LOCATION:Balsam Lake Lodge Event Venue\, 264 Cty Rd I\, Balsam Lake\, WI\, 54810\, United States
CATEGORIES:Bingo
END:VEVENT
BEGIN:VEVENT
DTSTART;TZID=America/Chicago:20281123T183000
DTEND;TZID=America/Chicago:20281123T193000
DTSTAMP:20260421T002926
CREATED:20251209T085612Z
LAST-MODIFIED:20251209T085612Z
UID:10004969-1858617000-1858620600@balsamlakelodge.com
SUMMARY:Eagle Brook Church Viewing Service
DESCRIPTION:
URL:https://balsamlakelodge.com/events-2/eagle-brook-church-viewing-service/2028-11-23/
LOCATION:Balsam Lake Lodge Event Venue\, 264 Cty Rd I\, Balsam Lake\, WI\, 54810\, United States
END:VEVENT
BEGIN:VEVENT
DTSTART;TZID=America/Chicago:20281125T080000
DTEND;TZID=America/Chicago:20281125T113000
DTSTAMP:20260421T002926
CREATED:20250407T141743Z
LAST-MODIFIED:20250407T141745Z
UID:10001705-1858752000-1858764600@balsamlakelodge.com
SUMMARY:Breakfast & Bloody Mary Bar
DESCRIPTION:
URL:https://balsamlakelodge.com/events-2/breakfast-bloody-mary-bar-2-2/2028-11-25/
LOCATION:Balsam Lake Lodge Event Venue\, 264 Cty Rd I\, Balsam Lake\, WI\, 54810\, United States
END:VEVENT
BEGIN:VEVENT
DTSTART;TZID=America/Chicago:20281126T080000
DTEND;TZID=America/Chicago:20281126T113000
DTSTAMP:20260421T002926
CREATED:20250407T141743Z
LAST-MODIFIED:20250407T141745Z
UID:10001706-1858838400-1858851000@balsamlakelodge.com
SUMMARY:Breakfast & Bloody Mary Bar
DESCRIPTION:
URL:https://balsamlakelodge.com/events-2/breakfast-bloody-mary-bar-2-2/2028-11-26/
LOCATION:Balsam Lake Lodge Event Venue\, 264 Cty Rd I\, Balsam Lake\, WI\, 54810\, United States
END:VEVENT
BEGIN:VEVENT
DTSTART;TZID=America/Chicago:20281127T180000
DTEND;TZID=America/Chicago:20281127T200000
DTSTAMP:20260421T002926
CREATED:20250311T172607Z
LAST-MODIFIED:20250311T172607Z
UID:10004578-1858960800-1858968000@balsamlakelodge.com
SUMMARY:Monday Night Bingo
DESCRIPTION:
URL:https://balsamlakelodge.com/events-2/monday-night-bingo/2028-11-27/
LOCATION:Balsam Lake Lodge Event Venue\, 264 Cty Rd I\, Balsam Lake\, WI\, 54810\, United States
CATEGORIES:Bingo
END:VEVENT
BEGIN:VEVENT
DTSTART;TZID=America/Chicago:20281130T183000
DTEND;TZID=America/Chicago:20281130T193000
DTSTAMP:20260421T002926
CREATED:20251209T085612Z
LAST-MODIFIED:20251209T085612Z
UID:10004970-1859221800-1859225400@balsamlakelodge.com
SUMMARY:Eagle Brook Church Viewing Service
DESCRIPTION:
URL:https://balsamlakelodge.com/events-2/eagle-brook-church-viewing-service/2028-11-30/
LOCATION:Balsam Lake Lodge Event Venue\, 264 Cty Rd I\, Balsam Lake\, WI\, 54810\, United States
END:VEVENT
END:VCALENDAR