BEGIN:VCALENDAR
VERSION:2.0
PRODID:-//Balsam Lake Lodge - ECPv6.15.20//NONSGML v1.0//EN
CALSCALE:GREGORIAN
METHOD:PUBLISH
X-ORIGINAL-URL:https://balsamlakelodge.com
X-WR-CALDESC:Events for Balsam Lake Lodge
REFRESH-INTERVAL;VALUE=DURATION:PT1H
X-Robots-Tag:noindex
X-PUBLISHED-TTL:PT1H
BEGIN:VTIMEZONE
TZID:America/Chicago
BEGIN:DAYLIGHT
TZOFFSETFROM:-0600
TZOFFSETTO:-0500
TZNAME:CDT
DTSTART:20280312T080000
END:DAYLIGHT
BEGIN:STANDARD
TZOFFSETFROM:-0500
TZOFFSETTO:-0600
TZNAME:CST
DTSTART:20281105T070000
END:STANDARD
BEGIN:DAYLIGHT
TZOFFSETFROM:-0600
TZOFFSETTO:-0500
TZNAME:CDT
DTSTART:20290311T080000
END:DAYLIGHT
BEGIN:STANDARD
TZOFFSETFROM:-0500
TZOFFSETTO:-0600
TZNAME:CST
DTSTART:20291104T070000
END:STANDARD
BEGIN:DAYLIGHT
TZOFFSETFROM:-0600
TZOFFSETTO:-0500
TZNAME:CDT
DTSTART:20300310T080000
END:DAYLIGHT
BEGIN:STANDARD
TZOFFSETFROM:-0500
TZOFFSETTO:-0600
TZNAME:CST
DTSTART:20301103T070000
END:STANDARD
END:VTIMEZONE
BEGIN:VEVENT
DTSTART;TZID=America/Chicago:20290906T183000
DTEND;TZID=America/Chicago:20290906T193000
DTSTAMP:20260422T175402
CREATED:20251209T085612Z
LAST-MODIFIED:20251209T085612Z
UID:10005010-1883413800-1883417400@balsamlakelodge.com
SUMMARY:Eagle Brook Church Viewing Service
DESCRIPTION:
URL:https://balsamlakelodge.com/events-2/eagle-brook-church-viewing-service/2029-09-06/
LOCATION:Balsam Lake Lodge Event Venue\, 264 Cty Rd I\, Balsam Lake\, WI\, 54810\, United States
END:VEVENT
BEGIN:VEVENT
DTSTART;TZID=America/Chicago:20290908T080000
DTEND;TZID=America/Chicago:20290908T113000
DTSTAMP:20260422T175402
CREATED:20250407T141743Z
LAST-MODIFIED:20250407T141745Z
UID:10004652-1883548800-1883561400@balsamlakelodge.com
SUMMARY:Breakfast & Bloody Mary Bar
DESCRIPTION:
URL:https://balsamlakelodge.com/events-2/breakfast-bloody-mary-bar-2-2/2029-09-08/
LOCATION:Balsam Lake Lodge Event Venue\, 264 Cty Rd I\, Balsam Lake\, WI\, 54810\, United States
END:VEVENT
BEGIN:VEVENT
DTSTART;TZID=America/Chicago:20290909T080000
DTEND;TZID=America/Chicago:20290909T113000
DTSTAMP:20260422T175402
CREATED:20250407T141743Z
LAST-MODIFIED:20250407T141745Z
UID:10004653-1883635200-1883647800@balsamlakelodge.com
SUMMARY:Breakfast & Bloody Mary Bar
DESCRIPTION:
URL:https://balsamlakelodge.com/events-2/breakfast-bloody-mary-bar-2-2/2029-09-09/
LOCATION:Balsam Lake Lodge Event Venue\, 264 Cty Rd I\, Balsam Lake\, WI\, 54810\, United States
END:VEVENT
BEGIN:VEVENT
DTSTART;TZID=America/Chicago:20290910T180000
DTEND;TZID=America/Chicago:20290910T200000
DTSTAMP:20260422T175402
CREATED:20250311T172607Z
LAST-MODIFIED:20250311T172607Z
UID:10004619-1883757600-1883764800@balsamlakelodge.com
SUMMARY:Monday Night Bingo
DESCRIPTION:
URL:https://balsamlakelodge.com/events-2/monday-night-bingo/2029-09-10/
LOCATION:Balsam Lake Lodge Event Venue\, 264 Cty Rd I\, Balsam Lake\, WI\, 54810\, United States
CATEGORIES:Bingo
END:VEVENT
BEGIN:VEVENT
DTSTART;TZID=America/Chicago:20290913T183000
DTEND;TZID=America/Chicago:20290913T193000
DTSTAMP:20260422T175402
CREATED:20251209T085612Z
LAST-MODIFIED:20251209T085612Z
UID:10005011-1884018600-1884022200@balsamlakelodge.com
SUMMARY:Eagle Brook Church Viewing Service
DESCRIPTION:
URL:https://balsamlakelodge.com/events-2/eagle-brook-church-viewing-service/2029-09-13/
LOCATION:Balsam Lake Lodge Event Venue\, 264 Cty Rd I\, Balsam Lake\, WI\, 54810\, United States
END:VEVENT
BEGIN:VEVENT
DTSTART;TZID=America/Chicago:20290915T080000
DTEND;TZID=America/Chicago:20290915T113000
DTSTAMP:20260422T175402
CREATED:20250407T141743Z
LAST-MODIFIED:20250407T141745Z
UID:10004654-1884153600-1884166200@balsamlakelodge.com
SUMMARY:Breakfast & Bloody Mary Bar
DESCRIPTION:
URL:https://balsamlakelodge.com/events-2/breakfast-bloody-mary-bar-2-2/2029-09-15/
LOCATION:Balsam Lake Lodge Event Venue\, 264 Cty Rd I\, Balsam Lake\, WI\, 54810\, United States
END:VEVENT
BEGIN:VEVENT
DTSTART;TZID=America/Chicago:20290916T080000
DTEND;TZID=America/Chicago:20290916T113000
DTSTAMP:20260422T175402
CREATED:20250407T141743Z
LAST-MODIFIED:20250407T141745Z
UID:10004655-1884240000-1884252600@balsamlakelodge.com
SUMMARY:Breakfast & Bloody Mary Bar
DESCRIPTION:
URL:https://balsamlakelodge.com/events-2/breakfast-bloody-mary-bar-2-2/2029-09-16/
LOCATION:Balsam Lake Lodge Event Venue\, 264 Cty Rd I\, Balsam Lake\, WI\, 54810\, United States
END:VEVENT
BEGIN:VEVENT
DTSTART;TZID=America/Chicago:20290917T180000
DTEND;TZID=America/Chicago:20290917T200000
DTSTAMP:20260422T175402
CREATED:20250311T172607Z
LAST-MODIFIED:20250311T172607Z
UID:10004620-1884362400-1884369600@balsamlakelodge.com
SUMMARY:Monday Night Bingo
DESCRIPTION:
URL:https://balsamlakelodge.com/events-2/monday-night-bingo/2029-09-17/
LOCATION:Balsam Lake Lodge Event Venue\, 264 Cty Rd I\, Balsam Lake\, WI\, 54810\, United States
CATEGORIES:Bingo
END:VEVENT
BEGIN:VEVENT
DTSTART;TZID=America/Chicago:20290920T183000
DTEND;TZID=America/Chicago:20290920T193000
DTSTAMP:20260422T175402
CREATED:20251209T085612Z
LAST-MODIFIED:20251209T085612Z
UID:10005012-1884623400-1884627000@balsamlakelodge.com
SUMMARY:Eagle Brook Church Viewing Service
DESCRIPTION:
URL:https://balsamlakelodge.com/events-2/eagle-brook-church-viewing-service/2029-09-20/
LOCATION:Balsam Lake Lodge Event Venue\, 264 Cty Rd I\, Balsam Lake\, WI\, 54810\, United States
END:VEVENT
BEGIN:VEVENT
DTSTART;TZID=America/Chicago:20290922T080000
DTEND;TZID=America/Chicago:20290922T113000
DTSTAMP:20260422T175402
CREATED:20250407T141743Z
LAST-MODIFIED:20250407T141745Z
UID:10004656-1884758400-1884771000@balsamlakelodge.com
SUMMARY:Breakfast & Bloody Mary Bar
DESCRIPTION:
URL:https://balsamlakelodge.com/events-2/breakfast-bloody-mary-bar-2-2/2029-09-22/
LOCATION:Balsam Lake Lodge Event Venue\, 264 Cty Rd I\, Balsam Lake\, WI\, 54810\, United States
END:VEVENT
BEGIN:VEVENT
DTSTART;TZID=America/Chicago:20290923T080000
DTEND;TZID=America/Chicago:20290923T113000
DTSTAMP:20260422T175402
CREATED:20250407T141743Z
LAST-MODIFIED:20250407T141745Z
UID:10004657-1884844800-1884857400@balsamlakelodge.com
SUMMARY:Breakfast & Bloody Mary Bar
DESCRIPTION:
URL:https://balsamlakelodge.com/events-2/breakfast-bloody-mary-bar-2-2/2029-09-23/
LOCATION:Balsam Lake Lodge Event Venue\, 264 Cty Rd I\, Balsam Lake\, WI\, 54810\, United States
END:VEVENT
BEGIN:VEVENT
DTSTART;TZID=America/Chicago:20290924T180000
DTEND;TZID=America/Chicago:20290924T200000
DTSTAMP:20260422T175402
CREATED:20250311T172607Z
LAST-MODIFIED:20250311T172607Z
UID:10004621-1884967200-1884974400@balsamlakelodge.com
SUMMARY:Monday Night Bingo
DESCRIPTION:
URL:https://balsamlakelodge.com/events-2/monday-night-bingo/2029-09-24/
LOCATION:Balsam Lake Lodge Event Venue\, 264 Cty Rd I\, Balsam Lake\, WI\, 54810\, United States
CATEGORIES:Bingo
END:VEVENT
BEGIN:VEVENT
DTSTART;TZID=America/Chicago:20290927T183000
DTEND;TZID=America/Chicago:20290927T193000
DTSTAMP:20260422T175402
CREATED:20251209T085612Z
LAST-MODIFIED:20251209T085612Z
UID:10005013-1885228200-1885231800@balsamlakelodge.com
SUMMARY:Eagle Brook Church Viewing Service
DESCRIPTION:
URL:https://balsamlakelodge.com/events-2/eagle-brook-church-viewing-service/2029-09-27/
LOCATION:Balsam Lake Lodge Event Venue\, 264 Cty Rd I\, Balsam Lake\, WI\, 54810\, United States
END:VEVENT
BEGIN:VEVENT
DTSTART;TZID=America/Chicago:20290929T080000
DTEND;TZID=America/Chicago:20290929T113000
DTSTAMP:20260422T175402
CREATED:20250407T141743Z
LAST-MODIFIED:20250407T141745Z
UID:10004658-1885363200-1885375800@balsamlakelodge.com
SUMMARY:Breakfast & Bloody Mary Bar
DESCRIPTION:
URL:https://balsamlakelodge.com/events-2/breakfast-bloody-mary-bar-2-2/2029-09-29/
LOCATION:Balsam Lake Lodge Event Venue\, 264 Cty Rd I\, Balsam Lake\, WI\, 54810\, United States
END:VEVENT
BEGIN:VEVENT
DTSTART;TZID=America/Chicago:20290930T080000
DTEND;TZID=America/Chicago:20290930T113000
DTSTAMP:20260422T175402
CREATED:20250407T141743Z
LAST-MODIFIED:20250407T141745Z
UID:10004659-1885449600-1885462200@balsamlakelodge.com
SUMMARY:Breakfast & Bloody Mary Bar
DESCRIPTION:
URL:https://balsamlakelodge.com/events-2/breakfast-bloody-mary-bar-2-2/2029-09-30/
LOCATION:Balsam Lake Lodge Event Venue\, 264 Cty Rd I\, Balsam Lake\, WI\, 54810\, United States
END:VEVENT
BEGIN:VEVENT
DTSTART;TZID=America/Chicago:20291001T180000
DTEND;TZID=America/Chicago:20291001T200000
DTSTAMP:20260422T175402
CREATED:20250311T172607Z
LAST-MODIFIED:20250311T172607Z
UID:10004622-1885572000-1885579200@balsamlakelodge.com
SUMMARY:Monday Night Bingo
DESCRIPTION:
URL:https://balsamlakelodge.com/events-2/monday-night-bingo/2029-10-01/
LOCATION:Balsam Lake Lodge Event Venue\, 264 Cty Rd I\, Balsam Lake\, WI\, 54810\, United States
CATEGORIES:Bingo
END:VEVENT
BEGIN:VEVENT
DTSTART;TZID=America/Chicago:20291004T183000
DTEND;TZID=America/Chicago:20291004T193000
DTSTAMP:20260422T175402
CREATED:20251209T085612Z
LAST-MODIFIED:20251209T085612Z
UID:10005014-1885833000-1885836600@balsamlakelodge.com
SUMMARY:Eagle Brook Church Viewing Service
DESCRIPTION:
URL:https://balsamlakelodge.com/events-2/eagle-brook-church-viewing-service/2029-10-04/
LOCATION:Balsam Lake Lodge Event Venue\, 264 Cty Rd I\, Balsam Lake\, WI\, 54810\, United States
END:VEVENT
BEGIN:VEVENT
DTSTART;TZID=America/Chicago:20291006T080000
DTEND;TZID=America/Chicago:20291006T113000
DTSTAMP:20260422T175402
CREATED:20250407T141743Z
LAST-MODIFIED:20250407T141745Z
UID:10004660-1885968000-1885980600@balsamlakelodge.com
SUMMARY:Breakfast & Bloody Mary Bar
DESCRIPTION:
URL:https://balsamlakelodge.com/events-2/breakfast-bloody-mary-bar-2-2/2029-10-06/
LOCATION:Balsam Lake Lodge Event Venue\, 264 Cty Rd I\, Balsam Lake\, WI\, 54810\, United States
END:VEVENT
BEGIN:VEVENT
DTSTART;TZID=America/Chicago:20291007T080000
DTEND;TZID=America/Chicago:20291007T113000
DTSTAMP:20260422T175402
CREATED:20250407T141743Z
LAST-MODIFIED:20250407T141745Z
UID:10004661-1886054400-1886067000@balsamlakelodge.com
SUMMARY:Breakfast & Bloody Mary Bar
DESCRIPTION:
URL:https://balsamlakelodge.com/events-2/breakfast-bloody-mary-bar-2-2/2029-10-07/
LOCATION:Balsam Lake Lodge Event Venue\, 264 Cty Rd I\, Balsam Lake\, WI\, 54810\, United States
END:VEVENT
BEGIN:VEVENT
DTSTART;TZID=America/Chicago:20291008T180000
DTEND;TZID=America/Chicago:20291008T200000
DTSTAMP:20260422T175402
CREATED:20250311T172607Z
LAST-MODIFIED:20250311T172607Z
UID:10004623-1886176800-1886184000@balsamlakelodge.com
SUMMARY:Monday Night Bingo
DESCRIPTION:
URL:https://balsamlakelodge.com/events-2/monday-night-bingo/2029-10-08/
LOCATION:Balsam Lake Lodge Event Venue\, 264 Cty Rd I\, Balsam Lake\, WI\, 54810\, United States
CATEGORIES:Bingo
END:VEVENT
BEGIN:VEVENT
DTSTART;TZID=America/Chicago:20291011T183000
DTEND;TZID=America/Chicago:20291011T193000
DTSTAMP:20260422T175402
CREATED:20251209T085612Z
LAST-MODIFIED:20251209T085612Z
UID:10005015-1886437800-1886441400@balsamlakelodge.com
SUMMARY:Eagle Brook Church Viewing Service
DESCRIPTION:
URL:https://balsamlakelodge.com/events-2/eagle-brook-church-viewing-service/2029-10-11/
LOCATION:Balsam Lake Lodge Event Venue\, 264 Cty Rd I\, Balsam Lake\, WI\, 54810\, United States
END:VEVENT
BEGIN:VEVENT
DTSTART;TZID=America/Chicago:20291013T080000
DTEND;TZID=America/Chicago:20291013T113000
DTSTAMP:20260422T175402
CREATED:20250407T141743Z
LAST-MODIFIED:20250407T141745Z
UID:10004662-1886572800-1886585400@balsamlakelodge.com
SUMMARY:Breakfast & Bloody Mary Bar
DESCRIPTION:
URL:https://balsamlakelodge.com/events-2/breakfast-bloody-mary-bar-2-2/2029-10-13/
LOCATION:Balsam Lake Lodge Event Venue\, 264 Cty Rd I\, Balsam Lake\, WI\, 54810\, United States
END:VEVENT
BEGIN:VEVENT
DTSTART;TZID=America/Chicago:20291014T080000
DTEND;TZID=America/Chicago:20291014T113000
DTSTAMP:20260422T175402
CREATED:20250407T141743Z
LAST-MODIFIED:20250407T141745Z
UID:10004663-1886659200-1886671800@balsamlakelodge.com
SUMMARY:Breakfast & Bloody Mary Bar
DESCRIPTION:
URL:https://balsamlakelodge.com/events-2/breakfast-bloody-mary-bar-2-2/2029-10-14/
LOCATION:Balsam Lake Lodge Event Venue\, 264 Cty Rd I\, Balsam Lake\, WI\, 54810\, United States
END:VEVENT
BEGIN:VEVENT
DTSTART;TZID=America/Chicago:20291015T180000
DTEND;TZID=America/Chicago:20291015T200000
DTSTAMP:20260422T175402
CREATED:20250311T172607Z
LAST-MODIFIED:20250311T172607Z
UID:10004624-1886781600-1886788800@balsamlakelodge.com
SUMMARY:Monday Night Bingo
DESCRIPTION:
URL:https://balsamlakelodge.com/events-2/monday-night-bingo/2029-10-15/
LOCATION:Balsam Lake Lodge Event Venue\, 264 Cty Rd I\, Balsam Lake\, WI\, 54810\, United States
CATEGORIES:Bingo
END:VEVENT
BEGIN:VEVENT
DTSTART;TZID=America/Chicago:20291018T183000
DTEND;TZID=America/Chicago:20291018T193000
DTSTAMP:20260422T175402
CREATED:20251209T085612Z
LAST-MODIFIED:20251209T085612Z
UID:10005016-1887042600-1887046200@balsamlakelodge.com
SUMMARY:Eagle Brook Church Viewing Service
DESCRIPTION:
URL:https://balsamlakelodge.com/events-2/eagle-brook-church-viewing-service/2029-10-18/
LOCATION:Balsam Lake Lodge Event Venue\, 264 Cty Rd I\, Balsam Lake\, WI\, 54810\, United States
END:VEVENT
BEGIN:VEVENT
DTSTART;TZID=America/Chicago:20291020T080000
DTEND;TZID=America/Chicago:20291020T113000
DTSTAMP:20260422T175402
CREATED:20250407T141743Z
LAST-MODIFIED:20250407T141745Z
UID:10004664-1887177600-1887190200@balsamlakelodge.com
SUMMARY:Breakfast & Bloody Mary Bar
DESCRIPTION:
URL:https://balsamlakelodge.com/events-2/breakfast-bloody-mary-bar-2-2/2029-10-20/
LOCATION:Balsam Lake Lodge Event Venue\, 264 Cty Rd I\, Balsam Lake\, WI\, 54810\, United States
END:VEVENT
BEGIN:VEVENT
DTSTART;TZID=America/Chicago:20291021T080000
DTEND;TZID=America/Chicago:20291021T113000
DTSTAMP:20260422T175402
CREATED:20250407T141743Z
LAST-MODIFIED:20250407T141745Z
UID:10004665-1887264000-1887276600@balsamlakelodge.com
SUMMARY:Breakfast & Bloody Mary Bar
DESCRIPTION:
URL:https://balsamlakelodge.com/events-2/breakfast-bloody-mary-bar-2-2/2029-10-21/
LOCATION:Balsam Lake Lodge Event Venue\, 264 Cty Rd I\, Balsam Lake\, WI\, 54810\, United States
END:VEVENT
BEGIN:VEVENT
DTSTART;TZID=America/Chicago:20291022T180000
DTEND;TZID=America/Chicago:20291022T200000
DTSTAMP:20260422T175402
CREATED:20250311T172607Z
LAST-MODIFIED:20250311T172607Z
UID:10004625-1887386400-1887393600@balsamlakelodge.com
SUMMARY:Monday Night Bingo
DESCRIPTION:
URL:https://balsamlakelodge.com/events-2/monday-night-bingo/2029-10-22/
LOCATION:Balsam Lake Lodge Event Venue\, 264 Cty Rd I\, Balsam Lake\, WI\, 54810\, United States
CATEGORIES:Bingo
END:VEVENT
BEGIN:VEVENT
DTSTART;TZID=America/Chicago:20291025T183000
DTEND;TZID=America/Chicago:20291025T193000
DTSTAMP:20260422T175402
CREATED:20251209T085612Z
LAST-MODIFIED:20251209T085612Z
UID:10005017-1887647400-1887651000@balsamlakelodge.com
SUMMARY:Eagle Brook Church Viewing Service
DESCRIPTION:
URL:https://balsamlakelodge.com/events-2/eagle-brook-church-viewing-service/2029-10-25/
LOCATION:Balsam Lake Lodge Event Venue\, 264 Cty Rd I\, Balsam Lake\, WI\, 54810\, United States
END:VEVENT
BEGIN:VEVENT
DTSTART;TZID=America/Chicago:20291027T080000
DTEND;TZID=America/Chicago:20291027T113000
DTSTAMP:20260422T175402
CREATED:20250407T141743Z
LAST-MODIFIED:20250407T141745Z
UID:10004666-1887782400-1887795000@balsamlakelodge.com
SUMMARY:Breakfast & Bloody Mary Bar
DESCRIPTION:
URL:https://balsamlakelodge.com/events-2/breakfast-bloody-mary-bar-2-2/2029-10-27/
LOCATION:Balsam Lake Lodge Event Venue\, 264 Cty Rd I\, Balsam Lake\, WI\, 54810\, United States
END:VEVENT
END:VCALENDAR