BEGIN:VCALENDAR
VERSION:2.0
PRODID:-//Balsam Lake Lodge - ECPv6.15.20//NONSGML v1.0//EN
CALSCALE:GREGORIAN
METHOD:PUBLISH
X-WR-CALNAME:Balsam Lake Lodge
X-ORIGINAL-URL:https://balsamlakelodge.com
X-WR-CALDESC:Events for Balsam Lake Lodge
REFRESH-INTERVAL;VALUE=DURATION:PT1H
X-Robots-Tag:noindex
X-PUBLISHED-TTL:PT1H
BEGIN:VTIMEZONE
TZID:America/Chicago
BEGIN:DAYLIGHT
TZOFFSETFROM:-0600
TZOFFSETTO:-0500
TZNAME:CDT
DTSTART:20280312T080000
END:DAYLIGHT
BEGIN:STANDARD
TZOFFSETFROM:-0500
TZOFFSETTO:-0600
TZNAME:CST
DTSTART:20281105T070000
END:STANDARD
BEGIN:DAYLIGHT
TZOFFSETFROM:-0600
TZOFFSETTO:-0500
TZNAME:CDT
DTSTART:20290311T080000
END:DAYLIGHT
BEGIN:STANDARD
TZOFFSETFROM:-0500
TZOFFSETTO:-0600
TZNAME:CST
DTSTART:20291104T070000
END:STANDARD
BEGIN:DAYLIGHT
TZOFFSETFROM:-0600
TZOFFSETTO:-0500
TZNAME:CDT
DTSTART:20300310T080000
END:DAYLIGHT
BEGIN:STANDARD
TZOFFSETFROM:-0500
TZOFFSETTO:-0600
TZNAME:CST
DTSTART:20301103T070000
END:STANDARD
END:VTIMEZONE
BEGIN:VEVENT
DTSTART;TZID=America/Chicago:20290129T180000
DTEND;TZID=America/Chicago:20290129T200000
DTSTAMP:20260421T203713
CREATED:20250311T172607Z
LAST-MODIFIED:20250311T172607Z
UID:10004587-1864404000-1864411200@balsamlakelodge.com
SUMMARY:Monday Night Bingo
DESCRIPTION:
URL:https://balsamlakelodge.com/events-2/monday-night-bingo/2029-01-29/
LOCATION:Balsam Lake Lodge Event Venue\, 264 Cty Rd I\, Balsam Lake\, WI\, 54810\, United States
CATEGORIES:Bingo
END:VEVENT
BEGIN:VEVENT
DTSTART;TZID=America/Chicago:20290201T183000
DTEND;TZID=America/Chicago:20290201T193000
DTSTAMP:20260421T203713
CREATED:20251209T085612Z
LAST-MODIFIED:20251209T085612Z
UID:10004979-1864665000-1864668600@balsamlakelodge.com
SUMMARY:Eagle Brook Church Viewing Service
DESCRIPTION:
URL:https://balsamlakelodge.com/events-2/eagle-brook-church-viewing-service/2029-02-01/
LOCATION:Balsam Lake Lodge Event Venue\, 264 Cty Rd I\, Balsam Lake\, WI\, 54810\, United States
END:VEVENT
BEGIN:VEVENT
DTSTART;TZID=America/Chicago:20290203T080000
DTEND;TZID=America/Chicago:20290203T113000
DTSTAMP:20260421T203713
CREATED:20250407T141743Z
LAST-MODIFIED:20250407T141745Z
UID:10001725-1864800000-1864812600@balsamlakelodge.com
SUMMARY:Breakfast & Bloody Mary Bar
DESCRIPTION:
URL:https://balsamlakelodge.com/events-2/breakfast-bloody-mary-bar-2-2/2029-02-03/
LOCATION:Balsam Lake Lodge Event Venue\, 264 Cty Rd I\, Balsam Lake\, WI\, 54810\, United States
END:VEVENT
BEGIN:VEVENT
DTSTART;TZID=America/Chicago:20290204T080000
DTEND;TZID=America/Chicago:20290204T113000
DTSTAMP:20260421T203713
CREATED:20250407T141743Z
LAST-MODIFIED:20250407T141745Z
UID:10001726-1864886400-1864899000@balsamlakelodge.com
SUMMARY:Breakfast & Bloody Mary Bar
DESCRIPTION:
URL:https://balsamlakelodge.com/events-2/breakfast-bloody-mary-bar-2-2/2029-02-04/
LOCATION:Balsam Lake Lodge Event Venue\, 264 Cty Rd I\, Balsam Lake\, WI\, 54810\, United States
END:VEVENT
BEGIN:VEVENT
DTSTART;TZID=America/Chicago:20290205T180000
DTEND;TZID=America/Chicago:20290205T200000
DTSTAMP:20260421T203713
CREATED:20250311T172607Z
LAST-MODIFIED:20250311T172607Z
UID:10004588-1865008800-1865016000@balsamlakelodge.com
SUMMARY:Monday Night Bingo
DESCRIPTION:
URL:https://balsamlakelodge.com/events-2/monday-night-bingo/2029-02-05/
LOCATION:Balsam Lake Lodge Event Venue\, 264 Cty Rd I\, Balsam Lake\, WI\, 54810\, United States
CATEGORIES:Bingo
END:VEVENT
BEGIN:VEVENT
DTSTART;TZID=America/Chicago:20290208T183000
DTEND;TZID=America/Chicago:20290208T193000
DTSTAMP:20260421T203713
CREATED:20251209T085612Z
LAST-MODIFIED:20251209T085612Z
UID:10004980-1865269800-1865273400@balsamlakelodge.com
SUMMARY:Eagle Brook Church Viewing Service
DESCRIPTION:
URL:https://balsamlakelodge.com/events-2/eagle-brook-church-viewing-service/2029-02-08/
LOCATION:Balsam Lake Lodge Event Venue\, 264 Cty Rd I\, Balsam Lake\, WI\, 54810\, United States
END:VEVENT
BEGIN:VEVENT
DTSTART;TZID=America/Chicago:20290210T080000
DTEND;TZID=America/Chicago:20290210T113000
DTSTAMP:20260421T203713
CREATED:20250407T141743Z
LAST-MODIFIED:20250407T141745Z
UID:10001727-1865404800-1865417400@balsamlakelodge.com
SUMMARY:Breakfast & Bloody Mary Bar
DESCRIPTION:
URL:https://balsamlakelodge.com/events-2/breakfast-bloody-mary-bar-2-2/2029-02-10/
LOCATION:Balsam Lake Lodge Event Venue\, 264 Cty Rd I\, Balsam Lake\, WI\, 54810\, United States
END:VEVENT
BEGIN:VEVENT
DTSTART;TZID=America/Chicago:20290211T080000
DTEND;TZID=America/Chicago:20290211T113000
DTSTAMP:20260421T203713
CREATED:20250407T141743Z
LAST-MODIFIED:20250407T141745Z
UID:10001728-1865491200-1865503800@balsamlakelodge.com
SUMMARY:Breakfast & Bloody Mary Bar
DESCRIPTION:
URL:https://balsamlakelodge.com/events-2/breakfast-bloody-mary-bar-2-2/2029-02-11/
LOCATION:Balsam Lake Lodge Event Venue\, 264 Cty Rd I\, Balsam Lake\, WI\, 54810\, United States
END:VEVENT
BEGIN:VEVENT
DTSTART;TZID=America/Chicago:20290212T180000
DTEND;TZID=America/Chicago:20290212T200000
DTSTAMP:20260421T203713
CREATED:20250311T172607Z
LAST-MODIFIED:20250311T172607Z
UID:10004589-1865613600-1865620800@balsamlakelodge.com
SUMMARY:Monday Night Bingo
DESCRIPTION:
URL:https://balsamlakelodge.com/events-2/monday-night-bingo/2029-02-12/
LOCATION:Balsam Lake Lodge Event Venue\, 264 Cty Rd I\, Balsam Lake\, WI\, 54810\, United States
CATEGORIES:Bingo
END:VEVENT
BEGIN:VEVENT
DTSTART;TZID=America/Chicago:20290215T183000
DTEND;TZID=America/Chicago:20290215T193000
DTSTAMP:20260421T203713
CREATED:20251209T085612Z
LAST-MODIFIED:20251209T085612Z
UID:10004981-1865874600-1865878200@balsamlakelodge.com
SUMMARY:Eagle Brook Church Viewing Service
DESCRIPTION:
URL:https://balsamlakelodge.com/events-2/eagle-brook-church-viewing-service/2029-02-15/
LOCATION:Balsam Lake Lodge Event Venue\, 264 Cty Rd I\, Balsam Lake\, WI\, 54810\, United States
END:VEVENT
BEGIN:VEVENT
DTSTART;TZID=America/Chicago:20290217T080000
DTEND;TZID=America/Chicago:20290217T113000
DTSTAMP:20260421T203713
CREATED:20250407T141743Z
LAST-MODIFIED:20250407T141745Z
UID:10001729-1866009600-1866022200@balsamlakelodge.com
SUMMARY:Breakfast & Bloody Mary Bar
DESCRIPTION:
URL:https://balsamlakelodge.com/events-2/breakfast-bloody-mary-bar-2-2/2029-02-17/
LOCATION:Balsam Lake Lodge Event Venue\, 264 Cty Rd I\, Balsam Lake\, WI\, 54810\, United States
END:VEVENT
BEGIN:VEVENT
DTSTART;TZID=America/Chicago:20290218T080000
DTEND;TZID=America/Chicago:20290218T113000
DTSTAMP:20260421T203713
CREATED:20250407T141743Z
LAST-MODIFIED:20250407T141745Z
UID:10001730-1866096000-1866108600@balsamlakelodge.com
SUMMARY:Breakfast & Bloody Mary Bar
DESCRIPTION:
URL:https://balsamlakelodge.com/events-2/breakfast-bloody-mary-bar-2-2/2029-02-18/
LOCATION:Balsam Lake Lodge Event Venue\, 264 Cty Rd I\, Balsam Lake\, WI\, 54810\, United States
END:VEVENT
BEGIN:VEVENT
DTSTART;TZID=America/Chicago:20290219T180000
DTEND;TZID=America/Chicago:20290219T200000
DTSTAMP:20260421T203713
CREATED:20250311T172607Z
LAST-MODIFIED:20250311T172607Z
UID:10004590-1866218400-1866225600@balsamlakelodge.com
SUMMARY:Monday Night Bingo
DESCRIPTION:
URL:https://balsamlakelodge.com/events-2/monday-night-bingo/2029-02-19/
LOCATION:Balsam Lake Lodge Event Venue\, 264 Cty Rd I\, Balsam Lake\, WI\, 54810\, United States
CATEGORIES:Bingo
END:VEVENT
BEGIN:VEVENT
DTSTART;TZID=America/Chicago:20290222T183000
DTEND;TZID=America/Chicago:20290222T193000
DTSTAMP:20260421T203713
CREATED:20251209T085612Z
LAST-MODIFIED:20251209T085612Z
UID:10004982-1866479400-1866483000@balsamlakelodge.com
SUMMARY:Eagle Brook Church Viewing Service
DESCRIPTION:
URL:https://balsamlakelodge.com/events-2/eagle-brook-church-viewing-service/2029-02-22/
LOCATION:Balsam Lake Lodge Event Venue\, 264 Cty Rd I\, Balsam Lake\, WI\, 54810\, United States
END:VEVENT
BEGIN:VEVENT
DTSTART;TZID=America/Chicago:20290224T080000
DTEND;TZID=America/Chicago:20290224T113000
DTSTAMP:20260421T203713
CREATED:20250407T141743Z
LAST-MODIFIED:20250407T141745Z
UID:10001731-1866614400-1866627000@balsamlakelodge.com
SUMMARY:Breakfast & Bloody Mary Bar
DESCRIPTION:
URL:https://balsamlakelodge.com/events-2/breakfast-bloody-mary-bar-2-2/2029-02-24/
LOCATION:Balsam Lake Lodge Event Venue\, 264 Cty Rd I\, Balsam Lake\, WI\, 54810\, United States
END:VEVENT
BEGIN:VEVENT
DTSTART;TZID=America/Chicago:20290225T080000
DTEND;TZID=America/Chicago:20290225T113000
DTSTAMP:20260421T203713
CREATED:20250407T141743Z
LAST-MODIFIED:20250407T141745Z
UID:10001732-1866700800-1866713400@balsamlakelodge.com
SUMMARY:Breakfast & Bloody Mary Bar
DESCRIPTION:
URL:https://balsamlakelodge.com/events-2/breakfast-bloody-mary-bar-2-2/2029-02-25/
LOCATION:Balsam Lake Lodge Event Venue\, 264 Cty Rd I\, Balsam Lake\, WI\, 54810\, United States
END:VEVENT
BEGIN:VEVENT
DTSTART;TZID=America/Chicago:20290226T180000
DTEND;TZID=America/Chicago:20290226T200000
DTSTAMP:20260421T203713
CREATED:20250311T172607Z
LAST-MODIFIED:20250311T172607Z
UID:10004591-1866823200-1866830400@balsamlakelodge.com
SUMMARY:Monday Night Bingo
DESCRIPTION:
URL:https://balsamlakelodge.com/events-2/monday-night-bingo/2029-02-26/
LOCATION:Balsam Lake Lodge Event Venue\, 264 Cty Rd I\, Balsam Lake\, WI\, 54810\, United States
CATEGORIES:Bingo
END:VEVENT
BEGIN:VEVENT
DTSTART;TZID=America/Chicago:20290301T183000
DTEND;TZID=America/Chicago:20290301T193000
DTSTAMP:20260421T203713
CREATED:20251209T085612Z
LAST-MODIFIED:20251209T085612Z
UID:10004983-1867084200-1867087800@balsamlakelodge.com
SUMMARY:Eagle Brook Church Viewing Service
DESCRIPTION:
URL:https://balsamlakelodge.com/events-2/eagle-brook-church-viewing-service/2029-03-01/
LOCATION:Balsam Lake Lodge Event Venue\, 264 Cty Rd I\, Balsam Lake\, WI\, 54810\, United States
END:VEVENT
BEGIN:VEVENT
DTSTART;TZID=America/Chicago:20290303T080000
DTEND;TZID=America/Chicago:20290303T113000
DTSTAMP:20260421T203713
CREATED:20250407T141743Z
LAST-MODIFIED:20250407T141745Z
UID:10001733-1867219200-1867231800@balsamlakelodge.com
SUMMARY:Breakfast & Bloody Mary Bar
DESCRIPTION:
URL:https://balsamlakelodge.com/events-2/breakfast-bloody-mary-bar-2-2/2029-03-03/
LOCATION:Balsam Lake Lodge Event Venue\, 264 Cty Rd I\, Balsam Lake\, WI\, 54810\, United States
END:VEVENT
BEGIN:VEVENT
DTSTART;TZID=America/Chicago:20290304T080000
DTEND;TZID=America/Chicago:20290304T113000
DTSTAMP:20260421T203713
CREATED:20250407T141743Z
LAST-MODIFIED:20250407T141745Z
UID:10001734-1867305600-1867318200@balsamlakelodge.com
SUMMARY:Breakfast & Bloody Mary Bar
DESCRIPTION:
URL:https://balsamlakelodge.com/events-2/breakfast-bloody-mary-bar-2-2/2029-03-04/
LOCATION:Balsam Lake Lodge Event Venue\, 264 Cty Rd I\, Balsam Lake\, WI\, 54810\, United States
END:VEVENT
BEGIN:VEVENT
DTSTART;TZID=America/Chicago:20290305T180000
DTEND;TZID=America/Chicago:20290305T200000
DTSTAMP:20260421T203713
CREATED:20250311T172607Z
LAST-MODIFIED:20250311T172607Z
UID:10004592-1867428000-1867435200@balsamlakelodge.com
SUMMARY:Monday Night Bingo
DESCRIPTION:
URL:https://balsamlakelodge.com/events-2/monday-night-bingo/2029-03-05/
LOCATION:Balsam Lake Lodge Event Venue\, 264 Cty Rd I\, Balsam Lake\, WI\, 54810\, United States
CATEGORIES:Bingo
END:VEVENT
BEGIN:VEVENT
DTSTART;TZID=America/Chicago:20290308T183000
DTEND;TZID=America/Chicago:20290308T193000
DTSTAMP:20260421T203713
CREATED:20251209T085612Z
LAST-MODIFIED:20251209T085612Z
UID:10004984-1867689000-1867692600@balsamlakelodge.com
SUMMARY:Eagle Brook Church Viewing Service
DESCRIPTION:
URL:https://balsamlakelodge.com/events-2/eagle-brook-church-viewing-service/2029-03-08/
LOCATION:Balsam Lake Lodge Event Venue\, 264 Cty Rd I\, Balsam Lake\, WI\, 54810\, United States
END:VEVENT
BEGIN:VEVENT
DTSTART;TZID=America/Chicago:20290310T080000
DTEND;TZID=America/Chicago:20290310T113000
DTSTAMP:20260421T203713
CREATED:20250407T141743Z
LAST-MODIFIED:20250407T141745Z
UID:10001735-1867824000-1867836600@balsamlakelodge.com
SUMMARY:Breakfast & Bloody Mary Bar
DESCRIPTION:
URL:https://balsamlakelodge.com/events-2/breakfast-bloody-mary-bar-2-2/2029-03-10/
LOCATION:Balsam Lake Lodge Event Venue\, 264 Cty Rd I\, Balsam Lake\, WI\, 54810\, United States
END:VEVENT
BEGIN:VEVENT
DTSTART;TZID=America/Chicago:20290311T080000
DTEND;TZID=America/Chicago:20290311T113000
DTSTAMP:20260421T203713
CREATED:20250407T141743Z
LAST-MODIFIED:20250407T141745Z
UID:10001736-1867910400-1867923000@balsamlakelodge.com
SUMMARY:Breakfast & Bloody Mary Bar
DESCRIPTION:
URL:https://balsamlakelodge.com/events-2/breakfast-bloody-mary-bar-2-2/2029-03-11/
LOCATION:Balsam Lake Lodge Event Venue\, 264 Cty Rd I\, Balsam Lake\, WI\, 54810\, United States
END:VEVENT
BEGIN:VEVENT
DTSTART;TZID=America/Chicago:20290312T180000
DTEND;TZID=America/Chicago:20290312T200000
DTSTAMP:20260421T203713
CREATED:20250311T172607Z
LAST-MODIFIED:20250311T172607Z
UID:10004593-1868032800-1868040000@balsamlakelodge.com
SUMMARY:Monday Night Bingo
DESCRIPTION:
URL:https://balsamlakelodge.com/events-2/monday-night-bingo/2029-03-12/
LOCATION:Balsam Lake Lodge Event Venue\, 264 Cty Rd I\, Balsam Lake\, WI\, 54810\, United States
CATEGORIES:Bingo
END:VEVENT
BEGIN:VEVENT
DTSTART;TZID=America/Chicago:20290315T183000
DTEND;TZID=America/Chicago:20290315T193000
DTSTAMP:20260421T203713
CREATED:20251209T085612Z
LAST-MODIFIED:20251209T085612Z
UID:10004985-1868293800-1868297400@balsamlakelodge.com
SUMMARY:Eagle Brook Church Viewing Service
DESCRIPTION:
URL:https://balsamlakelodge.com/events-2/eagle-brook-church-viewing-service/2029-03-15/
LOCATION:Balsam Lake Lodge Event Venue\, 264 Cty Rd I\, Balsam Lake\, WI\, 54810\, United States
END:VEVENT
BEGIN:VEVENT
DTSTART;TZID=America/Chicago:20290317T080000
DTEND;TZID=America/Chicago:20290317T113000
DTSTAMP:20260421T203713
CREATED:20250407T141743Z
LAST-MODIFIED:20250407T141745Z
UID:10001737-1868428800-1868441400@balsamlakelodge.com
SUMMARY:Breakfast & Bloody Mary Bar
DESCRIPTION:
URL:https://balsamlakelodge.com/events-2/breakfast-bloody-mary-bar-2-2/2029-03-17/
LOCATION:Balsam Lake Lodge Event Venue\, 264 Cty Rd I\, Balsam Lake\, WI\, 54810\, United States
END:VEVENT
BEGIN:VEVENT
DTSTART;TZID=America/Chicago:20290318T080000
DTEND;TZID=America/Chicago:20290318T113000
DTSTAMP:20260421T203713
CREATED:20250407T141743Z
LAST-MODIFIED:20250407T141745Z
UID:10001738-1868515200-1868527800@balsamlakelodge.com
SUMMARY:Breakfast & Bloody Mary Bar
DESCRIPTION:
URL:https://balsamlakelodge.com/events-2/breakfast-bloody-mary-bar-2-2/2029-03-18/
LOCATION:Balsam Lake Lodge Event Venue\, 264 Cty Rd I\, Balsam Lake\, WI\, 54810\, United States
END:VEVENT
BEGIN:VEVENT
DTSTART;TZID=America/Chicago:20290319T180000
DTEND;TZID=America/Chicago:20290319T200000
DTSTAMP:20260421T203713
CREATED:20250311T172607Z
LAST-MODIFIED:20250311T172607Z
UID:10004594-1868637600-1868644800@balsamlakelodge.com
SUMMARY:Monday Night Bingo
DESCRIPTION:
URL:https://balsamlakelodge.com/events-2/monday-night-bingo/2029-03-19/
LOCATION:Balsam Lake Lodge Event Venue\, 264 Cty Rd I\, Balsam Lake\, WI\, 54810\, United States
CATEGORIES:Bingo
END:VEVENT
BEGIN:VEVENT
DTSTART;TZID=America/Chicago:20290322T183000
DTEND;TZID=America/Chicago:20290322T193000
DTSTAMP:20260421T203713
CREATED:20251209T085612Z
LAST-MODIFIED:20251209T085612Z
UID:10004986-1868898600-1868902200@balsamlakelodge.com
SUMMARY:Eagle Brook Church Viewing Service
DESCRIPTION:
URL:https://balsamlakelodge.com/events-2/eagle-brook-church-viewing-service/2029-03-22/
LOCATION:Balsam Lake Lodge Event Venue\, 264 Cty Rd I\, Balsam Lake\, WI\, 54810\, United States
END:VEVENT
END:VCALENDAR