BEGIN:VCALENDAR
VERSION:2.0
PRODID:-//Balsam Lake Lodge - ECPv6.15.20//NONSGML v1.0//EN
CALSCALE:GREGORIAN
METHOD:PUBLISH
X-WR-CALNAME:Balsam Lake Lodge
X-ORIGINAL-URL:https://balsamlakelodge.com
X-WR-CALDESC:Events for Balsam Lake Lodge
REFRESH-INTERVAL;VALUE=DURATION:PT1H
X-Robots-Tag:noindex
X-PUBLISHED-TTL:PT1H
BEGIN:VTIMEZONE
TZID:America/Chicago
BEGIN:DAYLIGHT
TZOFFSETFROM:-0600
TZOFFSETTO:-0500
TZNAME:CDT
DTSTART:20250309T080000
END:DAYLIGHT
BEGIN:STANDARD
TZOFFSETFROM:-0500
TZOFFSETTO:-0600
TZNAME:CST
DTSTART:20251102T070000
END:STANDARD
BEGIN:DAYLIGHT
TZOFFSETFROM:-0600
TZOFFSETTO:-0500
TZNAME:CDT
DTSTART:20260308T080000
END:DAYLIGHT
BEGIN:STANDARD
TZOFFSETFROM:-0500
TZOFFSETTO:-0600
TZNAME:CST
DTSTART:20261101T070000
END:STANDARD
BEGIN:DAYLIGHT
TZOFFSETFROM:-0600
TZOFFSETTO:-0500
TZNAME:CDT
DTSTART:20270314T080000
END:DAYLIGHT
BEGIN:STANDARD
TZOFFSETFROM:-0500
TZOFFSETTO:-0600
TZNAME:CST
DTSTART:20271107T070000
END:STANDARD
END:VTIMEZONE
BEGIN:VEVENT
DTSTART;TZID=America/Chicago:20260307T080000
DTEND;TZID=America/Chicago:20260307T113000
DTSTAMP:20260419T111251
CREATED:20250407T141743Z
LAST-MODIFIED:20250407T141745Z
UID:10001421-1772870400-1772883000@balsamlakelodge.com
SUMMARY:Breakfast & Bloody Mary Bar
DESCRIPTION:
URL:https://balsamlakelodge.com/events-2/breakfast-bloody-mary-bar-2-2/2026-03-07/
LOCATION:Balsam Lake Lodge Event Venue\, 264 Cty Rd I\, Balsam Lake\, WI\, 54810\, United States
END:VEVENT
BEGIN:VEVENT
DTSTART;TZID=America/Chicago:20260305T183000
DTEND;TZID=America/Chicago:20260305T193000
DTSTAMP:20260419T111251
CREATED:20251209T085612Z
LAST-MODIFIED:20251209T085612Z
UID:10004827-1772735400-1772739000@balsamlakelodge.com
SUMMARY:Eagle Brook Church Viewing Service
DESCRIPTION:
URL:https://balsamlakelodge.com/events-2/eagle-brook-church-viewing-service/2026-03-05/
LOCATION:Balsam Lake Lodge Event Venue\, 264 Cty Rd I\, Balsam Lake\, WI\, 54810\, United States
END:VEVENT
BEGIN:VEVENT
DTSTART;TZID=America/Chicago:20260302T180000
DTEND;TZID=America/Chicago:20260302T200000
DTSTAMP:20260419T111251
CREATED:20250311T172607Z
LAST-MODIFIED:20250311T172607Z
UID:10004435-1772474400-1772481600@balsamlakelodge.com
SUMMARY:Monday Night Bingo
DESCRIPTION:
URL:https://balsamlakelodge.com/events-2/monday-night-bingo/2026-03-02/
LOCATION:Balsam Lake Lodge Event Venue\, 264 Cty Rd I\, Balsam Lake\, WI\, 54810\, United States
CATEGORIES:Bingo
END:VEVENT
BEGIN:VEVENT
DTSTART;TZID=America/Chicago:20260301T080000
DTEND;TZID=America/Chicago:20260301T113000
DTSTAMP:20260419T111251
CREATED:20250407T141743Z
LAST-MODIFIED:20250407T141745Z
UID:10001420-1772352000-1772364600@balsamlakelodge.com
SUMMARY:Breakfast & Bloody Mary Bar
DESCRIPTION:
URL:https://balsamlakelodge.com/events-2/breakfast-bloody-mary-bar-2-2/2026-03-01/
LOCATION:Balsam Lake Lodge Event Venue\, 264 Cty Rd I\, Balsam Lake\, WI\, 54810\, United States
END:VEVENT
BEGIN:VEVENT
DTSTART;TZID=America/Chicago:20260228T110000
DTEND;TZID=America/Chicago:20260228T150000
DTSTAMP:20260419T111251
CREATED:20251120T083512Z
LAST-MODIFIED:20260116T161243Z
UID:10004811-1772276400-1772290800@balsamlakelodge.com
SUMMARY:Justin Barts
DESCRIPTION:
URL:https://balsamlakelodge.com/events-2/justin-barts/
LOCATION:Balsam Lake Lodge Event Venue\, 264 Cty Rd I\, Balsam Lake\, WI\, 54810\, United States
END:VEVENT
BEGIN:VEVENT
DTSTART;TZID=America/Chicago:20260228T110000
DTEND;TZID=America/Chicago:20260228T150000
DTSTAMP:20260419T111251
CREATED:20251120T083411Z
LAST-MODIFIED:20251120T083411Z
UID:10004810-1772276400-1772290800@balsamlakelodge.com
SUMMARY:Dog Sled Event
DESCRIPTION:
URL:https://balsamlakelodge.com/events-2/dog-sled-event/
LOCATION:Balsam Lake Lodge Event Venue\, 264 Cty Rd I\, Balsam Lake\, WI\, 54810\, United States
END:VEVENT
BEGIN:VEVENT
DTSTART;TZID=America/Chicago:20260228T080000
DTEND;TZID=America/Chicago:20260228T113000
DTSTAMP:20260419T111251
CREATED:20250407T141743Z
LAST-MODIFIED:20250407T141745Z
UID:10001419-1772265600-1772278200@balsamlakelodge.com
SUMMARY:Breakfast & Bloody Mary Bar
DESCRIPTION:
URL:https://balsamlakelodge.com/events-2/breakfast-bloody-mary-bar-2-2/2026-02-28/
LOCATION:Balsam Lake Lodge Event Venue\, 264 Cty Rd I\, Balsam Lake\, WI\, 54810\, United States
END:VEVENT
BEGIN:VEVENT
DTSTART;TZID=America/Chicago:20260226T183000
DTEND;TZID=America/Chicago:20260226T193000
DTSTAMP:20260419T111251
CREATED:20251209T085612Z
LAST-MODIFIED:20251209T085612Z
UID:10004826-1772130600-1772134200@balsamlakelodge.com
SUMMARY:Eagle Brook Church Viewing Service
DESCRIPTION:
URL:https://balsamlakelodge.com/events-2/eagle-brook-church-viewing-service/2026-02-26/
LOCATION:Balsam Lake Lodge Event Venue\, 264 Cty Rd I\, Balsam Lake\, WI\, 54810\, United States
END:VEVENT
BEGIN:VEVENT
DTSTART;TZID=America/Chicago:20260223T180000
DTEND;TZID=America/Chicago:20260223T200000
DTSTAMP:20260419T111251
CREATED:20250311T172607Z
LAST-MODIFIED:20250311T172607Z
UID:10004434-1771869600-1771876800@balsamlakelodge.com
SUMMARY:Monday Night Bingo
DESCRIPTION:
URL:https://balsamlakelodge.com/events-2/monday-night-bingo/2026-02-23/
LOCATION:Balsam Lake Lodge Event Venue\, 264 Cty Rd I\, Balsam Lake\, WI\, 54810\, United States
CATEGORIES:Bingo
END:VEVENT
BEGIN:VEVENT
DTSTART;TZID=America/Chicago:20260222T080000
DTEND;TZID=America/Chicago:20260222T113000
DTSTAMP:20260419T111251
CREATED:20250407T141743Z
LAST-MODIFIED:20250407T141745Z
UID:10001418-1771747200-1771759800@balsamlakelodge.com
SUMMARY:Breakfast & Bloody Mary Bar
DESCRIPTION:
URL:https://balsamlakelodge.com/events-2/breakfast-bloody-mary-bar-2-2/2026-02-22/
LOCATION:Balsam Lake Lodge Event Venue\, 264 Cty Rd I\, Balsam Lake\, WI\, 54810\, United States
END:VEVENT
BEGIN:VEVENT
DTSTART;TZID=America/Chicago:20260221T080000
DTEND;TZID=America/Chicago:20260221T113000
DTSTAMP:20260419T111251
CREATED:20250407T141743Z
LAST-MODIFIED:20250407T141745Z
UID:10001417-1771660800-1771673400@balsamlakelodge.com
SUMMARY:Breakfast & Bloody Mary Bar
DESCRIPTION:
URL:https://balsamlakelodge.com/events-2/breakfast-bloody-mary-bar-2-2/2026-02-21/
LOCATION:Balsam Lake Lodge Event Venue\, 264 Cty Rd I\, Balsam Lake\, WI\, 54810\, United States
END:VEVENT
BEGIN:VEVENT
DTSTART;TZID=America/Chicago:20260220T080000
DTEND;TZID=America/Chicago:20260220T110000
DTSTAMP:20260419T111251
CREATED:20260114T173415Z
LAST-MODIFIED:20260114T173415Z
UID:10005077-1771574400-1771585200@balsamlakelodge.com
SUMMARY:Open for Breakfast
DESCRIPTION:
URL:https://balsamlakelodge.com/events-2/open-for-breakfast-2/
LOCATION:Balsam Lake Lodge Event Venue\, 264 Cty Rd I\, Balsam Lake\, WI\, 54810\, United States
END:VEVENT
BEGIN:VEVENT
DTSTART;TZID=America/Chicago:20260219T183000
DTEND;TZID=America/Chicago:20260219T193000
DTSTAMP:20260419T111251
CREATED:20251209T085612Z
LAST-MODIFIED:20251209T085612Z
UID:10004825-1771525800-1771529400@balsamlakelodge.com
SUMMARY:Eagle Brook Church Viewing Service
DESCRIPTION:
URL:https://balsamlakelodge.com/events-2/eagle-brook-church-viewing-service/2026-02-19/
LOCATION:Balsam Lake Lodge Event Venue\, 264 Cty Rd I\, Balsam Lake\, WI\, 54810\, United States
END:VEVENT
BEGIN:VEVENT
DTSTART;VALUE=DATE:20260219
DTEND;VALUE=DATE:20260222
DTSTAMP:20260419T111251
CREATED:20251120T083124Z
LAST-MODIFIED:20251120T083124Z
UID:10004808-1771459200-1771718399@balsamlakelodge.com
SUMMARY:Iceman 500
DESCRIPTION:
URL:https://balsamlakelodge.com/events-2/iceman-500/
LOCATION:Balsam Lake Lodge Event Venue\, 264 Cty Rd I\, Balsam Lake\, WI\, 54810\, United States
END:VEVENT
BEGIN:VEVENT
DTSTART;TZID=America/Chicago:20260216T180000
DTEND;TZID=America/Chicago:20260216T200000
DTSTAMP:20260419T111251
CREATED:20260105T211354Z
LAST-MODIFIED:20260105T211354Z
UID:10005076-1771264800-1771272000@balsamlakelodge.com
SUMMARY:Mardi Gras Bingo
DESCRIPTION:
URL:https://balsamlakelodge.com/events-2/mardi-gras-bingo/
LOCATION:Balsam Lake Lodge Event Venue\, 264 Cty Rd I\, Balsam Lake\, WI\, 54810\, United States
CATEGORIES:Bingo
END:VEVENT
BEGIN:VEVENT
DTSTART;TZID=America/Chicago:20260216T180000
DTEND;TZID=America/Chicago:20260216T200000
DTSTAMP:20260419T111251
CREATED:20250311T172607Z
LAST-MODIFIED:20250311T172607Z
UID:10004433-1771264800-1771272000@balsamlakelodge.com
SUMMARY:Monday Night Bingo
DESCRIPTION:
URL:https://balsamlakelodge.com/events-2/monday-night-bingo/2026-02-16/
LOCATION:Balsam Lake Lodge Event Venue\, 264 Cty Rd I\, Balsam Lake\, WI\, 54810\, United States
CATEGORIES:Bingo
END:VEVENT
BEGIN:VEVENT
DTSTART;TZID=America/Chicago:20260215T080000
DTEND;TZID=America/Chicago:20260215T113000
DTSTAMP:20260419T111251
CREATED:20250407T141743Z
LAST-MODIFIED:20250407T141745Z
UID:10001416-1771142400-1771155000@balsamlakelodge.com
SUMMARY:Breakfast & Bloody Mary Bar
DESCRIPTION:
URL:https://balsamlakelodge.com/events-2/breakfast-bloody-mary-bar-2-2/2026-02-15/
LOCATION:Balsam Lake Lodge Event Venue\, 264 Cty Rd I\, Balsam Lake\, WI\, 54810\, United States
END:VEVENT
BEGIN:VEVENT
DTSTART;TZID=America/Chicago:20260214T190000
DTEND;TZID=America/Chicago:20260214T220000
DTSTAMP:20260419T111251
CREATED:20251120T083013Z
LAST-MODIFIED:20251120T083013Z
UID:10004807-1771095600-1771106400@balsamlakelodge.com
SUMMARY:Hofft
DESCRIPTION:
URL:https://balsamlakelodge.com/events-2/hofft-2/
LOCATION:Balsam Lake Lodge Event Venue\, 264 Cty Rd I\, Balsam Lake\, WI\, 54810\, United States
END:VEVENT
BEGIN:VEVENT
DTSTART;TZID=America/Chicago:20260214T080000
DTEND;TZID=America/Chicago:20260214T113000
DTSTAMP:20260419T111251
CREATED:20250407T141743Z
LAST-MODIFIED:20250407T141745Z
UID:10001415-1771056000-1771068600@balsamlakelodge.com
SUMMARY:Breakfast & Bloody Mary Bar
DESCRIPTION:
URL:https://balsamlakelodge.com/events-2/breakfast-bloody-mary-bar-2-2/2026-02-14/
LOCATION:Balsam Lake Lodge Event Venue\, 264 Cty Rd I\, Balsam Lake\, WI\, 54810\, United States
END:VEVENT
BEGIN:VEVENT
DTSTART;VALUE=DATE:20260214
DTEND;VALUE=DATE:20260215
DTSTAMP:20260419T111251
CREATED:20251120T082918Z
LAST-MODIFIED:20251120T082918Z
UID:10004806-1771027200-1771113599@balsamlakelodge.com
SUMMARY:Valentine's Day
DESCRIPTION:
URL:https://balsamlakelodge.com/events-2/valentines-day/
LOCATION:Balsam Lake Lodge Event Venue\, 264 Cty Rd I\, Balsam Lake\, WI\, 54810\, United States
END:VEVENT
BEGIN:VEVENT
DTSTART;TZID=America/Chicago:20260213T190000
DTEND;TZID=America/Chicago:20260213T220000
DTSTAMP:20260419T111251
CREATED:20251120T082746Z
LAST-MODIFIED:20251120T082746Z
UID:10004805-1771009200-1771020000@balsamlakelodge.com
SUMMARY:Live Music Friday - Eli Gardiner
DESCRIPTION:
URL:https://balsamlakelodge.com/events-2/live-music-friday-eli-gardiner/
LOCATION:Balsam Lake Lodge Event Venue\, 264 Cty Rd I\, Balsam Lake\, WI\, 54810\, United States
END:VEVENT
BEGIN:VEVENT
DTSTART;TZID=America/Chicago:20260213T183000
DTEND;TZID=America/Chicago:20260213T183000
DTSTAMP:20260419T111251
CREATED:20251124T174106Z
LAST-MODIFIED:20251124T174106Z
UID:10004814-1771007400-1771007400@balsamlakelodge.com
SUMMARY:Galentine's Day Paint & Sip
DESCRIPTION:
URL:https://balsamlakelodge.com/events-2/galentines-day-paint-sip-2/
LOCATION:Balsam Lake Lodge Event Venue\, 264 Cty Rd I\, Balsam Lake\, WI\, 54810\, United States
END:VEVENT
BEGIN:VEVENT
DTSTART;VALUE=DATE:20260213
DTEND;VALUE=DATE:20260215
DTSTAMP:20260419T111251
CREATED:20251120T082631Z
LAST-MODIFIED:20251124T173619Z
UID:10004804-1770940800-1771113599@balsamlakelodge.com
SUMMARY:Valentine's Menu
DESCRIPTION:
URL:https://balsamlakelodge.com/events-2/valentines-menu/
LOCATION:Balsam Lake Lodge Event Venue\, 264 Cty Rd I\, Balsam Lake\, WI\, 54810\, United States
END:VEVENT
BEGIN:VEVENT
DTSTART;TZID=America/Chicago:20260212T183000
DTEND;TZID=America/Chicago:20260212T193000
DTSTAMP:20260419T111251
CREATED:20251209T085612Z
LAST-MODIFIED:20251209T085612Z
UID:10004824-1770921000-1770924600@balsamlakelodge.com
SUMMARY:Eagle Brook Church Viewing Service
DESCRIPTION:
URL:https://balsamlakelodge.com/events-2/eagle-brook-church-viewing-service/2026-02-12/
LOCATION:Balsam Lake Lodge Event Venue\, 264 Cty Rd I\, Balsam Lake\, WI\, 54810\, United States
END:VEVENT
BEGIN:VEVENT
DTSTART;TZID=America/Chicago:20260209T180000
DTEND;TZID=America/Chicago:20260209T200000
DTSTAMP:20260419T111251
CREATED:20251124T173848Z
LAST-MODIFIED:20251124T173848Z
UID:10004813-1770660000-1770667200@balsamlakelodge.com
SUMMARY:Valentine's Day Themed Bingo
DESCRIPTION:
URL:https://balsamlakelodge.com/events-2/valentines-day-themed-bingo/
LOCATION:Balsam Lake Lodge Event Venue\, 264 Cty Rd I\, Balsam Lake\, WI\, 54810\, United States
END:VEVENT
BEGIN:VEVENT
DTSTART;TZID=America/Chicago:20260209T180000
DTEND;TZID=America/Chicago:20260209T200000
DTSTAMP:20260419T111251
CREATED:20250311T172607Z
LAST-MODIFIED:20250311T172607Z
UID:10004432-1770660000-1770667200@balsamlakelodge.com
SUMMARY:Monday Night Bingo
DESCRIPTION:
URL:https://balsamlakelodge.com/events-2/monday-night-bingo/2026-02-09/
LOCATION:Balsam Lake Lodge Event Venue\, 264 Cty Rd I\, Balsam Lake\, WI\, 54810\, United States
CATEGORIES:Bingo
END:VEVENT
BEGIN:VEVENT
DTSTART;TZID=America/Chicago:20260208T080000
DTEND;TZID=America/Chicago:20260208T113000
DTSTAMP:20260419T111251
CREATED:20250407T141743Z
LAST-MODIFIED:20250407T141745Z
UID:10001414-1770537600-1770550200@balsamlakelodge.com
SUMMARY:Breakfast & Bloody Mary Bar
DESCRIPTION:
URL:https://balsamlakelodge.com/events-2/breakfast-bloody-mary-bar-2-2/2026-02-08/
LOCATION:Balsam Lake Lodge Event Venue\, 264 Cty Rd I\, Balsam Lake\, WI\, 54810\, United States
END:VEVENT
BEGIN:VEVENT
DTSTART;VALUE=DATE:20260208
DTEND;VALUE=DATE:20260209
DTSTAMP:20260419T111251
CREATED:20251120T082516Z
LAST-MODIFIED:20251120T082516Z
UID:10004803-1770508800-1770595199@balsamlakelodge.com
SUMMARY:Superbowl Party
DESCRIPTION:
URL:https://balsamlakelodge.com/events-2/superbowl-party/
LOCATION:Balsam Lake Lodge Event Venue\, 264 Cty Rd I\, Balsam Lake\, WI\, 54810\, United States
END:VEVENT
BEGIN:VEVENT
DTSTART;TZID=America/Chicago:20260207T190000
DTEND;TZID=America/Chicago:20260207T220000
DTSTAMP:20260419T111251
CREATED:20251120T082406Z
LAST-MODIFIED:20251120T082406Z
UID:10004802-1770490800-1770501600@balsamlakelodge.com
SUMMARY:Best Night Ever
DESCRIPTION:
URL:https://balsamlakelodge.com/events-2/best-night-ever/
LOCATION:Balsam Lake Lodge Event Venue\, 264 Cty Rd I\, Balsam Lake\, WI\, 54810\, United States
END:VEVENT
BEGIN:VEVENT
DTSTART;TZID=America/Chicago:20260207T120000
DTEND;TZID=America/Chicago:20260207T160000
DTSTAMP:20260419T111251
CREATED:20251124T173402Z
LAST-MODIFIED:20251124T173402Z
UID:10004812-1770465600-1770480000@balsamlakelodge.com
SUMMARY:Cole Thomas Live
DESCRIPTION:
URL:https://balsamlakelodge.com/events-2/cole-thomas-live-2/
LOCATION:Balsam Lake Lodge Event Venue\, 264 Cty Rd I\, Balsam Lake\, WI\, 54810\, United States
END:VEVENT
END:VCALENDAR