BEGIN:VCALENDAR
VERSION:2.0
PRODID:-//Balsam Lake Lodge - ECPv6.15.20//NONSGML v1.0//EN
CALSCALE:GREGORIAN
METHOD:PUBLISH
X-ORIGINAL-URL:https://balsamlakelodge.com
X-WR-CALDESC:Events for Balsam Lake Lodge
REFRESH-INTERVAL;VALUE=DURATION:PT1H
X-Robots-Tag:noindex
X-PUBLISHED-TTL:PT1H
BEGIN:VTIMEZONE
TZID:America/Chicago
BEGIN:DAYLIGHT
TZOFFSETFROM:-0600
TZOFFSETTO:-0500
TZNAME:CDT
DTSTART:20280312T080000
END:DAYLIGHT
BEGIN:STANDARD
TZOFFSETFROM:-0500
TZOFFSETTO:-0600
TZNAME:CST
DTSTART:20281105T070000
END:STANDARD
BEGIN:DAYLIGHT
TZOFFSETFROM:-0600
TZOFFSETTO:-0500
TZNAME:CDT
DTSTART:20290311T080000
END:DAYLIGHT
BEGIN:STANDARD
TZOFFSETFROM:-0500
TZOFFSETTO:-0600
TZNAME:CST
DTSTART:20291104T070000
END:STANDARD
BEGIN:DAYLIGHT
TZOFFSETFROM:-0600
TZOFFSETTO:-0500
TZNAME:CDT
DTSTART:20300310T080000
END:DAYLIGHT
BEGIN:STANDARD
TZOFFSETFROM:-0500
TZOFFSETTO:-0600
TZNAME:CST
DTSTART:20301103T070000
END:STANDARD
END:VTIMEZONE
BEGIN:VEVENT
DTSTART;TZID=America/Chicago:20290517T183000
DTEND;TZID=America/Chicago:20290517T193000
DTSTAMP:20260422T171205
CREATED:20251209T085612Z
LAST-MODIFIED:20251209T085612Z
UID:10004994-1873737000-1873740600@balsamlakelodge.com
SUMMARY:Eagle Brook Church Viewing Service
DESCRIPTION:
URL:https://balsamlakelodge.com/events-2/eagle-brook-church-viewing-service/2029-05-17/
LOCATION:Balsam Lake Lodge Event Venue\, 264 Cty Rd I\, Balsam Lake\, WI\, 54810\, United States
END:VEVENT
BEGIN:VEVENT
DTSTART;TZID=America/Chicago:20290519T080000
DTEND;TZID=America/Chicago:20290519T113000
DTSTAMP:20260422T171205
CREATED:20250407T141743Z
LAST-MODIFIED:20250407T141745Z
UID:10001755-1873872000-1873884600@balsamlakelodge.com
SUMMARY:Breakfast & Bloody Mary Bar
DESCRIPTION:
URL:https://balsamlakelodge.com/events-2/breakfast-bloody-mary-bar-2-2/2029-05-19/
LOCATION:Balsam Lake Lodge Event Venue\, 264 Cty Rd I\, Balsam Lake\, WI\, 54810\, United States
END:VEVENT
BEGIN:VEVENT
DTSTART;TZID=America/Chicago:20290520T080000
DTEND;TZID=America/Chicago:20290520T113000
DTSTAMP:20260422T171205
CREATED:20250407T141743Z
LAST-MODIFIED:20250407T141745Z
UID:10001756-1873958400-1873971000@balsamlakelodge.com
SUMMARY:Breakfast & Bloody Mary Bar
DESCRIPTION:
URL:https://balsamlakelodge.com/events-2/breakfast-bloody-mary-bar-2-2/2029-05-20/
LOCATION:Balsam Lake Lodge Event Venue\, 264 Cty Rd I\, Balsam Lake\, WI\, 54810\, United States
END:VEVENT
BEGIN:VEVENT
DTSTART;TZID=America/Chicago:20290521T180000
DTEND;TZID=America/Chicago:20290521T200000
DTSTAMP:20260422T171205
CREATED:20250311T172607Z
LAST-MODIFIED:20250311T172607Z
UID:10004603-1874080800-1874088000@balsamlakelodge.com
SUMMARY:Monday Night Bingo
DESCRIPTION:
URL:https://balsamlakelodge.com/events-2/monday-night-bingo/2029-05-21/
LOCATION:Balsam Lake Lodge Event Venue\, 264 Cty Rd I\, Balsam Lake\, WI\, 54810\, United States
CATEGORIES:Bingo
END:VEVENT
BEGIN:VEVENT
DTSTART;TZID=America/Chicago:20290524T183000
DTEND;TZID=America/Chicago:20290524T193000
DTSTAMP:20260422T171205
CREATED:20251209T085612Z
LAST-MODIFIED:20251209T085612Z
UID:10004995-1874341800-1874345400@balsamlakelodge.com
SUMMARY:Eagle Brook Church Viewing Service
DESCRIPTION:
URL:https://balsamlakelodge.com/events-2/eagle-brook-church-viewing-service/2029-05-24/
LOCATION:Balsam Lake Lodge Event Venue\, 264 Cty Rd I\, Balsam Lake\, WI\, 54810\, United States
END:VEVENT
BEGIN:VEVENT
DTSTART;TZID=America/Chicago:20290526T080000
DTEND;TZID=America/Chicago:20290526T113000
DTSTAMP:20260422T171205
CREATED:20250407T141743Z
LAST-MODIFIED:20250407T141745Z
UID:10001757-1874476800-1874489400@balsamlakelodge.com
SUMMARY:Breakfast & Bloody Mary Bar
DESCRIPTION:
URL:https://balsamlakelodge.com/events-2/breakfast-bloody-mary-bar-2-2/2029-05-26/
LOCATION:Balsam Lake Lodge Event Venue\, 264 Cty Rd I\, Balsam Lake\, WI\, 54810\, United States
END:VEVENT
BEGIN:VEVENT
DTSTART;TZID=America/Chicago:20290527T080000
DTEND;TZID=America/Chicago:20290527T113000
DTSTAMP:20260422T171205
CREATED:20250407T141743Z
LAST-MODIFIED:20250407T141745Z
UID:10001758-1874563200-1874575800@balsamlakelodge.com
SUMMARY:Breakfast & Bloody Mary Bar
DESCRIPTION:
URL:https://balsamlakelodge.com/events-2/breakfast-bloody-mary-bar-2-2/2029-05-27/
LOCATION:Balsam Lake Lodge Event Venue\, 264 Cty Rd I\, Balsam Lake\, WI\, 54810\, United States
END:VEVENT
BEGIN:VEVENT
DTSTART;TZID=America/Chicago:20290528T180000
DTEND;TZID=America/Chicago:20290528T200000
DTSTAMP:20260422T171205
CREATED:20250311T172607Z
LAST-MODIFIED:20250311T172607Z
UID:10004604-1874685600-1874692800@balsamlakelodge.com
SUMMARY:Monday Night Bingo
DESCRIPTION:
URL:https://balsamlakelodge.com/events-2/monday-night-bingo/2029-05-28/
LOCATION:Balsam Lake Lodge Event Venue\, 264 Cty Rd I\, Balsam Lake\, WI\, 54810\, United States
CATEGORIES:Bingo
END:VEVENT
BEGIN:VEVENT
DTSTART;TZID=America/Chicago:20290531T183000
DTEND;TZID=America/Chicago:20290531T193000
DTSTAMP:20260422T171205
CREATED:20251209T085612Z
LAST-MODIFIED:20251209T085612Z
UID:10004996-1874946600-1874950200@balsamlakelodge.com
SUMMARY:Eagle Brook Church Viewing Service
DESCRIPTION:
URL:https://balsamlakelodge.com/events-2/eagle-brook-church-viewing-service/2029-05-31/
LOCATION:Balsam Lake Lodge Event Venue\, 264 Cty Rd I\, Balsam Lake\, WI\, 54810\, United States
END:VEVENT
BEGIN:VEVENT
DTSTART;TZID=America/Chicago:20290602T080000
DTEND;TZID=America/Chicago:20290602T113000
DTSTAMP:20260422T171205
CREATED:20250407T141743Z
LAST-MODIFIED:20250407T141745Z
UID:10001759-1875081600-1875094200@balsamlakelodge.com
SUMMARY:Breakfast & Bloody Mary Bar
DESCRIPTION:
URL:https://balsamlakelodge.com/events-2/breakfast-bloody-mary-bar-2-2/2029-06-02/
LOCATION:Balsam Lake Lodge Event Venue\, 264 Cty Rd I\, Balsam Lake\, WI\, 54810\, United States
END:VEVENT
BEGIN:VEVENT
DTSTART;TZID=America/Chicago:20290603T080000
DTEND;TZID=America/Chicago:20290603T113000
DTSTAMP:20260422T171205
CREATED:20250407T141743Z
LAST-MODIFIED:20250407T141745Z
UID:10001760-1875168000-1875180600@balsamlakelodge.com
SUMMARY:Breakfast & Bloody Mary Bar
DESCRIPTION:
URL:https://balsamlakelodge.com/events-2/breakfast-bloody-mary-bar-2-2/2029-06-03/
LOCATION:Balsam Lake Lodge Event Venue\, 264 Cty Rd I\, Balsam Lake\, WI\, 54810\, United States
END:VEVENT
BEGIN:VEVENT
DTSTART;TZID=America/Chicago:20290604T180000
DTEND;TZID=America/Chicago:20290604T200000
DTSTAMP:20260422T171205
CREATED:20250311T172607Z
LAST-MODIFIED:20250311T172607Z
UID:10004605-1875290400-1875297600@balsamlakelodge.com
SUMMARY:Monday Night Bingo
DESCRIPTION:
URL:https://balsamlakelodge.com/events-2/monday-night-bingo/2029-06-04/
LOCATION:Balsam Lake Lodge Event Venue\, 264 Cty Rd I\, Balsam Lake\, WI\, 54810\, United States
CATEGORIES:Bingo
END:VEVENT
BEGIN:VEVENT
DTSTART;TZID=America/Chicago:20290607T183000
DTEND;TZID=America/Chicago:20290607T193000
DTSTAMP:20260422T171205
CREATED:20251209T085612Z
LAST-MODIFIED:20251209T085612Z
UID:10004997-1875551400-1875555000@balsamlakelodge.com
SUMMARY:Eagle Brook Church Viewing Service
DESCRIPTION:
URL:https://balsamlakelodge.com/events-2/eagle-brook-church-viewing-service/2029-06-07/
LOCATION:Balsam Lake Lodge Event Venue\, 264 Cty Rd I\, Balsam Lake\, WI\, 54810\, United States
END:VEVENT
BEGIN:VEVENT
DTSTART;TZID=America/Chicago:20290609T080000
DTEND;TZID=America/Chicago:20290609T113000
DTSTAMP:20260422T171205
CREATED:20250407T141743Z
LAST-MODIFIED:20250407T141745Z
UID:10001761-1875686400-1875699000@balsamlakelodge.com
SUMMARY:Breakfast & Bloody Mary Bar
DESCRIPTION:
URL:https://balsamlakelodge.com/events-2/breakfast-bloody-mary-bar-2-2/2029-06-09/
LOCATION:Balsam Lake Lodge Event Venue\, 264 Cty Rd I\, Balsam Lake\, WI\, 54810\, United States
END:VEVENT
BEGIN:VEVENT
DTSTART;TZID=America/Chicago:20290610T080000
DTEND;TZID=America/Chicago:20290610T113000
DTSTAMP:20260422T171205
CREATED:20250407T141743Z
LAST-MODIFIED:20250407T141745Z
UID:10001762-1875772800-1875785400@balsamlakelodge.com
SUMMARY:Breakfast & Bloody Mary Bar
DESCRIPTION:
URL:https://balsamlakelodge.com/events-2/breakfast-bloody-mary-bar-2-2/2029-06-10/
LOCATION:Balsam Lake Lodge Event Venue\, 264 Cty Rd I\, Balsam Lake\, WI\, 54810\, United States
END:VEVENT
BEGIN:VEVENT
DTSTART;TZID=America/Chicago:20290611T180000
DTEND;TZID=America/Chicago:20290611T200000
DTSTAMP:20260422T171205
CREATED:20250311T172607Z
LAST-MODIFIED:20250311T172607Z
UID:10004606-1875895200-1875902400@balsamlakelodge.com
SUMMARY:Monday Night Bingo
DESCRIPTION:
URL:https://balsamlakelodge.com/events-2/monday-night-bingo/2029-06-11/
LOCATION:Balsam Lake Lodge Event Venue\, 264 Cty Rd I\, Balsam Lake\, WI\, 54810\, United States
CATEGORIES:Bingo
END:VEVENT
BEGIN:VEVENT
DTSTART;TZID=America/Chicago:20290614T183000
DTEND;TZID=America/Chicago:20290614T193000
DTSTAMP:20260422T171206
CREATED:20251209T085612Z
LAST-MODIFIED:20251209T085612Z
UID:10004998-1876156200-1876159800@balsamlakelodge.com
SUMMARY:Eagle Brook Church Viewing Service
DESCRIPTION:
URL:https://balsamlakelodge.com/events-2/eagle-brook-church-viewing-service/2029-06-14/
LOCATION:Balsam Lake Lodge Event Venue\, 264 Cty Rd I\, Balsam Lake\, WI\, 54810\, United States
END:VEVENT
BEGIN:VEVENT
DTSTART;TZID=America/Chicago:20290616T080000
DTEND;TZID=America/Chicago:20290616T113000
DTSTAMP:20260422T171206
CREATED:20250407T141743Z
LAST-MODIFIED:20250407T141745Z
UID:10001763-1876291200-1876303800@balsamlakelodge.com
SUMMARY:Breakfast & Bloody Mary Bar
DESCRIPTION:
URL:https://balsamlakelodge.com/events-2/breakfast-bloody-mary-bar-2-2/2029-06-16/
LOCATION:Balsam Lake Lodge Event Venue\, 264 Cty Rd I\, Balsam Lake\, WI\, 54810\, United States
END:VEVENT
BEGIN:VEVENT
DTSTART;TZID=America/Chicago:20290617T080000
DTEND;TZID=America/Chicago:20290617T113000
DTSTAMP:20260422T171206
CREATED:20250407T141743Z
LAST-MODIFIED:20250407T141745Z
UID:10001764-1876377600-1876390200@balsamlakelodge.com
SUMMARY:Breakfast & Bloody Mary Bar
DESCRIPTION:
URL:https://balsamlakelodge.com/events-2/breakfast-bloody-mary-bar-2-2/2029-06-17/
LOCATION:Balsam Lake Lodge Event Venue\, 264 Cty Rd I\, Balsam Lake\, WI\, 54810\, United States
END:VEVENT
BEGIN:VEVENT
DTSTART;TZID=America/Chicago:20290618T180000
DTEND;TZID=America/Chicago:20290618T200000
DTSTAMP:20260422T171206
CREATED:20250311T172607Z
LAST-MODIFIED:20250311T172607Z
UID:10004607-1876500000-1876507200@balsamlakelodge.com
SUMMARY:Monday Night Bingo
DESCRIPTION:
URL:https://balsamlakelodge.com/events-2/monday-night-bingo/2029-06-18/
LOCATION:Balsam Lake Lodge Event Venue\, 264 Cty Rd I\, Balsam Lake\, WI\, 54810\, United States
CATEGORIES:Bingo
END:VEVENT
BEGIN:VEVENT
DTSTART;TZID=America/Chicago:20290621T183000
DTEND;TZID=America/Chicago:20290621T193000
DTSTAMP:20260422T171206
CREATED:20251209T085612Z
LAST-MODIFIED:20251209T085612Z
UID:10004999-1876761000-1876764600@balsamlakelodge.com
SUMMARY:Eagle Brook Church Viewing Service
DESCRIPTION:
URL:https://balsamlakelodge.com/events-2/eagle-brook-church-viewing-service/2029-06-21/
LOCATION:Balsam Lake Lodge Event Venue\, 264 Cty Rd I\, Balsam Lake\, WI\, 54810\, United States
END:VEVENT
BEGIN:VEVENT
DTSTART;TZID=America/Chicago:20290623T080000
DTEND;TZID=America/Chicago:20290623T113000
DTSTAMP:20260422T171206
CREATED:20250407T141743Z
LAST-MODIFIED:20250407T141745Z
UID:10001765-1876896000-1876908600@balsamlakelodge.com
SUMMARY:Breakfast & Bloody Mary Bar
DESCRIPTION:
URL:https://balsamlakelodge.com/events-2/breakfast-bloody-mary-bar-2-2/2029-06-23/
LOCATION:Balsam Lake Lodge Event Venue\, 264 Cty Rd I\, Balsam Lake\, WI\, 54810\, United States
END:VEVENT
BEGIN:VEVENT
DTSTART;TZID=America/Chicago:20290624T080000
DTEND;TZID=America/Chicago:20290624T113000
DTSTAMP:20260422T171206
CREATED:20250407T141743Z
LAST-MODIFIED:20250407T141745Z
UID:10001766-1876982400-1876995000@balsamlakelodge.com
SUMMARY:Breakfast & Bloody Mary Bar
DESCRIPTION:
URL:https://balsamlakelodge.com/events-2/breakfast-bloody-mary-bar-2-2/2029-06-24/
LOCATION:Balsam Lake Lodge Event Venue\, 264 Cty Rd I\, Balsam Lake\, WI\, 54810\, United States
END:VEVENT
BEGIN:VEVENT
DTSTART;TZID=America/Chicago:20290625T180000
DTEND;TZID=America/Chicago:20290625T200000
DTSTAMP:20260422T171206
CREATED:20250311T172607Z
LAST-MODIFIED:20250311T172607Z
UID:10004608-1877104800-1877112000@balsamlakelodge.com
SUMMARY:Monday Night Bingo
DESCRIPTION:
URL:https://balsamlakelodge.com/events-2/monday-night-bingo/2029-06-25/
LOCATION:Balsam Lake Lodge Event Venue\, 264 Cty Rd I\, Balsam Lake\, WI\, 54810\, United States
CATEGORIES:Bingo
END:VEVENT
BEGIN:VEVENT
DTSTART;TZID=America/Chicago:20290628T183000
DTEND;TZID=America/Chicago:20290628T193000
DTSTAMP:20260422T171206
CREATED:20251209T085612Z
LAST-MODIFIED:20251209T085612Z
UID:10005000-1877365800-1877369400@balsamlakelodge.com
SUMMARY:Eagle Brook Church Viewing Service
DESCRIPTION:
URL:https://balsamlakelodge.com/events-2/eagle-brook-church-viewing-service/2029-06-28/
LOCATION:Balsam Lake Lodge Event Venue\, 264 Cty Rd I\, Balsam Lake\, WI\, 54810\, United States
END:VEVENT
BEGIN:VEVENT
DTSTART;TZID=America/Chicago:20290630T080000
DTEND;TZID=America/Chicago:20290630T113000
DTSTAMP:20260422T171206
CREATED:20250407T141743Z
LAST-MODIFIED:20250407T141745Z
UID:10001767-1877500800-1877513400@balsamlakelodge.com
SUMMARY:Breakfast & Bloody Mary Bar
DESCRIPTION:
URL:https://balsamlakelodge.com/events-2/breakfast-bloody-mary-bar-2-2/2029-06-30/
LOCATION:Balsam Lake Lodge Event Venue\, 264 Cty Rd I\, Balsam Lake\, WI\, 54810\, United States
END:VEVENT
BEGIN:VEVENT
DTSTART;TZID=America/Chicago:20290701T080000
DTEND;TZID=America/Chicago:20290701T113000
DTSTAMP:20260422T171206
CREATED:20250407T141743Z
LAST-MODIFIED:20250407T141745Z
UID:10001768-1877587200-1877599800@balsamlakelodge.com
SUMMARY:Breakfast & Bloody Mary Bar
DESCRIPTION:
URL:https://balsamlakelodge.com/events-2/breakfast-bloody-mary-bar-2-2/2029-07-01/
LOCATION:Balsam Lake Lodge Event Venue\, 264 Cty Rd I\, Balsam Lake\, WI\, 54810\, United States
END:VEVENT
BEGIN:VEVENT
DTSTART;TZID=America/Chicago:20290702T180000
DTEND;TZID=America/Chicago:20290702T200000
DTSTAMP:20260422T171206
CREATED:20250311T172607Z
LAST-MODIFIED:20250311T172607Z
UID:10004609-1877709600-1877716800@balsamlakelodge.com
SUMMARY:Monday Night Bingo
DESCRIPTION:
URL:https://balsamlakelodge.com/events-2/monday-night-bingo/2029-07-02/
LOCATION:Balsam Lake Lodge Event Venue\, 264 Cty Rd I\, Balsam Lake\, WI\, 54810\, United States
CATEGORIES:Bingo
END:VEVENT
BEGIN:VEVENT
DTSTART;TZID=America/Chicago:20290705T183000
DTEND;TZID=America/Chicago:20290705T193000
DTSTAMP:20260422T171206
CREATED:20251209T085612Z
LAST-MODIFIED:20251209T085612Z
UID:10005001-1877970600-1877974200@balsamlakelodge.com
SUMMARY:Eagle Brook Church Viewing Service
DESCRIPTION:
URL:https://balsamlakelodge.com/events-2/eagle-brook-church-viewing-service/2029-07-05/
LOCATION:Balsam Lake Lodge Event Venue\, 264 Cty Rd I\, Balsam Lake\, WI\, 54810\, United States
END:VEVENT
BEGIN:VEVENT
DTSTART;TZID=America/Chicago:20290707T080000
DTEND;TZID=America/Chicago:20290707T113000
DTSTAMP:20260422T171206
CREATED:20250407T141743Z
LAST-MODIFIED:20250407T141745Z
UID:10001769-1878105600-1878118200@balsamlakelodge.com
SUMMARY:Breakfast & Bloody Mary Bar
DESCRIPTION:
URL:https://balsamlakelodge.com/events-2/breakfast-bloody-mary-bar-2-2/2029-07-07/
LOCATION:Balsam Lake Lodge Event Venue\, 264 Cty Rd I\, Balsam Lake\, WI\, 54810\, United States
END:VEVENT
END:VCALENDAR