BEGIN:VCALENDAR
VERSION:2.0
PRODID:-//Balsam Lake Lodge - ECPv6.15.20//NONSGML v1.0//EN
CALSCALE:GREGORIAN
METHOD:PUBLISH
X-ORIGINAL-URL:https://balsamlakelodge.com
X-WR-CALDESC:Events for Balsam Lake Lodge
REFRESH-INTERVAL;VALUE=DURATION:PT1H
X-Robots-Tag:noindex
X-PUBLISHED-TTL:PT1H
BEGIN:VTIMEZONE
TZID:America/Chicago
BEGIN:DAYLIGHT
TZOFFSETFROM:-0600
TZOFFSETTO:-0500
TZNAME:CDT
DTSTART:20290311T080000
END:DAYLIGHT
BEGIN:STANDARD
TZOFFSETFROM:-0500
TZOFFSETTO:-0600
TZNAME:CST
DTSTART:20291104T070000
END:STANDARD
BEGIN:DAYLIGHT
TZOFFSETFROM:-0600
TZOFFSETTO:-0500
TZNAME:CDT
DTSTART:20300310T080000
END:DAYLIGHT
BEGIN:STANDARD
TZOFFSETFROM:-0500
TZOFFSETTO:-0600
TZNAME:CST
DTSTART:20301103T070000
END:STANDARD
BEGIN:DAYLIGHT
TZOFFSETFROM:-0600
TZOFFSETTO:-0500
TZNAME:CDT
DTSTART:20310309T080000
END:DAYLIGHT
BEGIN:STANDARD
TZOFFSETFROM:-0500
TZOFFSETTO:-0600
TZNAME:CST
DTSTART:20311102T070000
END:STANDARD
END:VTIMEZONE
BEGIN:VEVENT
DTSTART;TZID=America/Chicago:20300113T080000
DTEND;TZID=America/Chicago:20300113T113000
DTSTAMP:20260422T175425
CREATED:20250407T141743Z
LAST-MODIFIED:20250407T141745Z
UID:10004689-1894521600-1894534200@balsamlakelodge.com
SUMMARY:Breakfast & Bloody Mary Bar
DESCRIPTION:
URL:https://balsamlakelodge.com/events-2/breakfast-bloody-mary-bar-2-2/2030-01-13/
LOCATION:Balsam Lake Lodge Event Venue\, 264 Cty Rd I\, Balsam Lake\, WI\, 54810\, United States
END:VEVENT
BEGIN:VEVENT
DTSTART;TZID=America/Chicago:20300114T180000
DTEND;TZID=America/Chicago:20300114T200000
DTSTAMP:20260422T175425
CREATED:20250311T172607Z
LAST-MODIFIED:20250311T172607Z
UID:10004637-1894644000-1894651200@balsamlakelodge.com
SUMMARY:Monday Night Bingo
DESCRIPTION:
URL:https://balsamlakelodge.com/events-2/monday-night-bingo/2030-01-14/
LOCATION:Balsam Lake Lodge Event Venue\, 264 Cty Rd I\, Balsam Lake\, WI\, 54810\, United States
CATEGORIES:Bingo
END:VEVENT
BEGIN:VEVENT
DTSTART;TZID=America/Chicago:20300117T183000
DTEND;TZID=America/Chicago:20300117T193000
DTSTAMP:20260422T175425
CREATED:20251209T085612Z
LAST-MODIFIED:20251209T085612Z
UID:10005029-1894905000-1894908600@balsamlakelodge.com
SUMMARY:Eagle Brook Church Viewing Service
DESCRIPTION:
URL:https://balsamlakelodge.com/events-2/eagle-brook-church-viewing-service/2030-01-17/
LOCATION:Balsam Lake Lodge Event Venue\, 264 Cty Rd I\, Balsam Lake\, WI\, 54810\, United States
END:VEVENT
BEGIN:VEVENT
DTSTART;TZID=America/Chicago:20300119T080000
DTEND;TZID=America/Chicago:20300119T113000
DTSTAMP:20260422T175425
CREATED:20250407T141743Z
LAST-MODIFIED:20250407T141745Z
UID:10004690-1895040000-1895052600@balsamlakelodge.com
SUMMARY:Breakfast & Bloody Mary Bar
DESCRIPTION:
URL:https://balsamlakelodge.com/events-2/breakfast-bloody-mary-bar-2-2/2030-01-19/
LOCATION:Balsam Lake Lodge Event Venue\, 264 Cty Rd I\, Balsam Lake\, WI\, 54810\, United States
END:VEVENT
BEGIN:VEVENT
DTSTART;TZID=America/Chicago:20300120T080000
DTEND;TZID=America/Chicago:20300120T113000
DTSTAMP:20260422T175425
CREATED:20250407T141743Z
LAST-MODIFIED:20250407T141745Z
UID:10004691-1895126400-1895139000@balsamlakelodge.com
SUMMARY:Breakfast & Bloody Mary Bar
DESCRIPTION:
URL:https://balsamlakelodge.com/events-2/breakfast-bloody-mary-bar-2-2/2030-01-20/
LOCATION:Balsam Lake Lodge Event Venue\, 264 Cty Rd I\, Balsam Lake\, WI\, 54810\, United States
END:VEVENT
BEGIN:VEVENT
DTSTART;TZID=America/Chicago:20300121T180000
DTEND;TZID=America/Chicago:20300121T200000
DTSTAMP:20260422T175425
CREATED:20250311T172607Z
LAST-MODIFIED:20250311T172607Z
UID:10004638-1895248800-1895256000@balsamlakelodge.com
SUMMARY:Monday Night Bingo
DESCRIPTION:
URL:https://balsamlakelodge.com/events-2/monday-night-bingo/2030-01-21/
LOCATION:Balsam Lake Lodge Event Venue\, 264 Cty Rd I\, Balsam Lake\, WI\, 54810\, United States
CATEGORIES:Bingo
END:VEVENT
BEGIN:VEVENT
DTSTART;TZID=America/Chicago:20300124T183000
DTEND;TZID=America/Chicago:20300124T193000
DTSTAMP:20260422T175425
CREATED:20251209T085612Z
LAST-MODIFIED:20251209T085612Z
UID:10005030-1895509800-1895513400@balsamlakelodge.com
SUMMARY:Eagle Brook Church Viewing Service
DESCRIPTION:
URL:https://balsamlakelodge.com/events-2/eagle-brook-church-viewing-service/2030-01-24/
LOCATION:Balsam Lake Lodge Event Venue\, 264 Cty Rd I\, Balsam Lake\, WI\, 54810\, United States
END:VEVENT
BEGIN:VEVENT
DTSTART;TZID=America/Chicago:20300126T080000
DTEND;TZID=America/Chicago:20300126T113000
DTSTAMP:20260422T175425
CREATED:20250407T141743Z
LAST-MODIFIED:20250407T141745Z
UID:10004692-1895644800-1895657400@balsamlakelodge.com
SUMMARY:Breakfast & Bloody Mary Bar
DESCRIPTION:
URL:https://balsamlakelodge.com/events-2/breakfast-bloody-mary-bar-2-2/2030-01-26/
LOCATION:Balsam Lake Lodge Event Venue\, 264 Cty Rd I\, Balsam Lake\, WI\, 54810\, United States
END:VEVENT
BEGIN:VEVENT
DTSTART;TZID=America/Chicago:20300127T080000
DTEND;TZID=America/Chicago:20300127T113000
DTSTAMP:20260422T175425
CREATED:20250407T141743Z
LAST-MODIFIED:20250407T141745Z
UID:10004693-1895731200-1895743800@balsamlakelodge.com
SUMMARY:Breakfast & Bloody Mary Bar
DESCRIPTION:
URL:https://balsamlakelodge.com/events-2/breakfast-bloody-mary-bar-2-2/2030-01-27/
LOCATION:Balsam Lake Lodge Event Venue\, 264 Cty Rd I\, Balsam Lake\, WI\, 54810\, United States
END:VEVENT
BEGIN:VEVENT
DTSTART;TZID=America/Chicago:20300128T180000
DTEND;TZID=America/Chicago:20300128T200000
DTSTAMP:20260422T175425
CREATED:20250311T172607Z
LAST-MODIFIED:20250311T172607Z
UID:10004639-1895853600-1895860800@balsamlakelodge.com
SUMMARY:Monday Night Bingo
DESCRIPTION:
URL:https://balsamlakelodge.com/events-2/monday-night-bingo/2030-01-28/
LOCATION:Balsam Lake Lodge Event Venue\, 264 Cty Rd I\, Balsam Lake\, WI\, 54810\, United States
CATEGORIES:Bingo
END:VEVENT
BEGIN:VEVENT
DTSTART;TZID=America/Chicago:20300131T183000
DTEND;TZID=America/Chicago:20300131T193000
DTSTAMP:20260422T175425
CREATED:20251209T085612Z
LAST-MODIFIED:20251209T085612Z
UID:10005031-1896114600-1896118200@balsamlakelodge.com
SUMMARY:Eagle Brook Church Viewing Service
DESCRIPTION:
URL:https://balsamlakelodge.com/events-2/eagle-brook-church-viewing-service/2030-01-31/
LOCATION:Balsam Lake Lodge Event Venue\, 264 Cty Rd I\, Balsam Lake\, WI\, 54810\, United States
END:VEVENT
BEGIN:VEVENT
DTSTART;TZID=America/Chicago:20300202T080000
DTEND;TZID=America/Chicago:20300202T113000
DTSTAMP:20260422T175425
CREATED:20250407T141743Z
LAST-MODIFIED:20250407T141745Z
UID:10004694-1896249600-1896262200@balsamlakelodge.com
SUMMARY:Breakfast & Bloody Mary Bar
DESCRIPTION:
URL:https://balsamlakelodge.com/events-2/breakfast-bloody-mary-bar-2-2/2030-02-02/
LOCATION:Balsam Lake Lodge Event Venue\, 264 Cty Rd I\, Balsam Lake\, WI\, 54810\, United States
END:VEVENT
BEGIN:VEVENT
DTSTART;TZID=America/Chicago:20300203T080000
DTEND;TZID=America/Chicago:20300203T113000
DTSTAMP:20260422T175425
CREATED:20250407T141743Z
LAST-MODIFIED:20250407T141745Z
UID:10004695-1896336000-1896348600@balsamlakelodge.com
SUMMARY:Breakfast & Bloody Mary Bar
DESCRIPTION:
URL:https://balsamlakelodge.com/events-2/breakfast-bloody-mary-bar-2-2/2030-02-03/
LOCATION:Balsam Lake Lodge Event Venue\, 264 Cty Rd I\, Balsam Lake\, WI\, 54810\, United States
END:VEVENT
BEGIN:VEVENT
DTSTART;TZID=America/Chicago:20300204T180000
DTEND;TZID=America/Chicago:20300204T200000
DTSTAMP:20260422T175425
CREATED:20250311T172607Z
LAST-MODIFIED:20250311T172607Z
UID:10004640-1896458400-1896465600@balsamlakelodge.com
SUMMARY:Monday Night Bingo
DESCRIPTION:
URL:https://balsamlakelodge.com/events-2/monday-night-bingo/2030-02-04/
LOCATION:Balsam Lake Lodge Event Venue\, 264 Cty Rd I\, Balsam Lake\, WI\, 54810\, United States
CATEGORIES:Bingo
END:VEVENT
BEGIN:VEVENT
DTSTART;TZID=America/Chicago:20300207T183000
DTEND;TZID=America/Chicago:20300207T193000
DTSTAMP:20260422T175425
CREATED:20251209T085612Z
LAST-MODIFIED:20251209T085612Z
UID:10005032-1896719400-1896723000@balsamlakelodge.com
SUMMARY:Eagle Brook Church Viewing Service
DESCRIPTION:
URL:https://balsamlakelodge.com/events-2/eagle-brook-church-viewing-service/2030-02-07/
LOCATION:Balsam Lake Lodge Event Venue\, 264 Cty Rd I\, Balsam Lake\, WI\, 54810\, United States
END:VEVENT
BEGIN:VEVENT
DTSTART;TZID=America/Chicago:20300209T080000
DTEND;TZID=America/Chicago:20300209T113000
DTSTAMP:20260422T175425
CREATED:20250407T141743Z
LAST-MODIFIED:20250407T141745Z
UID:10004696-1896854400-1896867000@balsamlakelodge.com
SUMMARY:Breakfast & Bloody Mary Bar
DESCRIPTION:
URL:https://balsamlakelodge.com/events-2/breakfast-bloody-mary-bar-2-2/2030-02-09/
LOCATION:Balsam Lake Lodge Event Venue\, 264 Cty Rd I\, Balsam Lake\, WI\, 54810\, United States
END:VEVENT
BEGIN:VEVENT
DTSTART;TZID=America/Chicago:20300210T080000
DTEND;TZID=America/Chicago:20300210T113000
DTSTAMP:20260422T175425
CREATED:20250407T141743Z
LAST-MODIFIED:20250407T141745Z
UID:10004697-1896940800-1896953400@balsamlakelodge.com
SUMMARY:Breakfast & Bloody Mary Bar
DESCRIPTION:
URL:https://balsamlakelodge.com/events-2/breakfast-bloody-mary-bar-2-2/2030-02-10/
LOCATION:Balsam Lake Lodge Event Venue\, 264 Cty Rd I\, Balsam Lake\, WI\, 54810\, United States
END:VEVENT
BEGIN:VEVENT
DTSTART;TZID=America/Chicago:20300211T180000
DTEND;TZID=America/Chicago:20300211T200000
DTSTAMP:20260422T175425
CREATED:20250311T172607Z
LAST-MODIFIED:20250311T172607Z
UID:10004641-1897063200-1897070400@balsamlakelodge.com
SUMMARY:Monday Night Bingo
DESCRIPTION:
URL:https://balsamlakelodge.com/events-2/monday-night-bingo/2030-02-11/
LOCATION:Balsam Lake Lodge Event Venue\, 264 Cty Rd I\, Balsam Lake\, WI\, 54810\, United States
CATEGORIES:Bingo
END:VEVENT
BEGIN:VEVENT
DTSTART;TZID=America/Chicago:20300214T183000
DTEND;TZID=America/Chicago:20300214T193000
DTSTAMP:20260422T175425
CREATED:20251209T085612Z
LAST-MODIFIED:20251209T085612Z
UID:10005033-1897324200-1897327800@balsamlakelodge.com
SUMMARY:Eagle Brook Church Viewing Service
DESCRIPTION:
URL:https://balsamlakelodge.com/events-2/eagle-brook-church-viewing-service/2030-02-14/
LOCATION:Balsam Lake Lodge Event Venue\, 264 Cty Rd I\, Balsam Lake\, WI\, 54810\, United States
END:VEVENT
BEGIN:VEVENT
DTSTART;TZID=America/Chicago:20300216T080000
DTEND;TZID=America/Chicago:20300216T113000
DTSTAMP:20260422T175425
CREATED:20250407T141743Z
LAST-MODIFIED:20250407T141745Z
UID:10004698-1897459200-1897471800@balsamlakelodge.com
SUMMARY:Breakfast & Bloody Mary Bar
DESCRIPTION:
URL:https://balsamlakelodge.com/events-2/breakfast-bloody-mary-bar-2-2/2030-02-16/
LOCATION:Balsam Lake Lodge Event Venue\, 264 Cty Rd I\, Balsam Lake\, WI\, 54810\, United States
END:VEVENT
BEGIN:VEVENT
DTSTART;TZID=America/Chicago:20300217T080000
DTEND;TZID=America/Chicago:20300217T113000
DTSTAMP:20260422T175425
CREATED:20250407T141743Z
LAST-MODIFIED:20250407T141745Z
UID:10004699-1897545600-1897558200@balsamlakelodge.com
SUMMARY:Breakfast & Bloody Mary Bar
DESCRIPTION:
URL:https://balsamlakelodge.com/events-2/breakfast-bloody-mary-bar-2-2/2030-02-17/
LOCATION:Balsam Lake Lodge Event Venue\, 264 Cty Rd I\, Balsam Lake\, WI\, 54810\, United States
END:VEVENT
BEGIN:VEVENT
DTSTART;TZID=America/Chicago:20300218T180000
DTEND;TZID=America/Chicago:20300218T200000
DTSTAMP:20260422T175425
CREATED:20250311T172607Z
LAST-MODIFIED:20250311T172607Z
UID:10004642-1897668000-1897675200@balsamlakelodge.com
SUMMARY:Monday Night Bingo
DESCRIPTION:
URL:https://balsamlakelodge.com/events-2/monday-night-bingo/2030-02-18/
LOCATION:Balsam Lake Lodge Event Venue\, 264 Cty Rd I\, Balsam Lake\, WI\, 54810\, United States
CATEGORIES:Bingo
END:VEVENT
BEGIN:VEVENT
DTSTART;TZID=America/Chicago:20300221T183000
DTEND;TZID=America/Chicago:20300221T193000
DTSTAMP:20260422T175425
CREATED:20251209T085612Z
LAST-MODIFIED:20251209T085612Z
UID:10005034-1897929000-1897932600@balsamlakelodge.com
SUMMARY:Eagle Brook Church Viewing Service
DESCRIPTION:
URL:https://balsamlakelodge.com/events-2/eagle-brook-church-viewing-service/2030-02-21/
LOCATION:Balsam Lake Lodge Event Venue\, 264 Cty Rd I\, Balsam Lake\, WI\, 54810\, United States
END:VEVENT
BEGIN:VEVENT
DTSTART;TZID=America/Chicago:20300223T080000
DTEND;TZID=America/Chicago:20300223T113000
DTSTAMP:20260422T175425
CREATED:20250407T141743Z
LAST-MODIFIED:20250407T141745Z
UID:10004700-1898064000-1898076600@balsamlakelodge.com
SUMMARY:Breakfast & Bloody Mary Bar
DESCRIPTION:
URL:https://balsamlakelodge.com/events-2/breakfast-bloody-mary-bar-2-2/2030-02-23/
LOCATION:Balsam Lake Lodge Event Venue\, 264 Cty Rd I\, Balsam Lake\, WI\, 54810\, United States
END:VEVENT
BEGIN:VEVENT
DTSTART;TZID=America/Chicago:20300224T080000
DTEND;TZID=America/Chicago:20300224T113000
DTSTAMP:20260422T175425
CREATED:20250407T141743Z
LAST-MODIFIED:20250407T141745Z
UID:10004701-1898150400-1898163000@balsamlakelodge.com
SUMMARY:Breakfast & Bloody Mary Bar
DESCRIPTION:
URL:https://balsamlakelodge.com/events-2/breakfast-bloody-mary-bar-2-2/2030-02-24/
LOCATION:Balsam Lake Lodge Event Venue\, 264 Cty Rd I\, Balsam Lake\, WI\, 54810\, United States
END:VEVENT
BEGIN:VEVENT
DTSTART;TZID=America/Chicago:20300225T180000
DTEND;TZID=America/Chicago:20300225T200000
DTSTAMP:20260422T175425
CREATED:20250311T172607Z
LAST-MODIFIED:20250311T172607Z
UID:10004643-1898272800-1898280000@balsamlakelodge.com
SUMMARY:Monday Night Bingo
DESCRIPTION:
URL:https://balsamlakelodge.com/events-2/monday-night-bingo/2030-02-25/
LOCATION:Balsam Lake Lodge Event Venue\, 264 Cty Rd I\, Balsam Lake\, WI\, 54810\, United States
CATEGORIES:Bingo
END:VEVENT
BEGIN:VEVENT
DTSTART;TZID=America/Chicago:20300228T183000
DTEND;TZID=America/Chicago:20300228T193000
DTSTAMP:20260422T175425
CREATED:20251209T085612Z
LAST-MODIFIED:20251209T085612Z
UID:10005035-1898533800-1898537400@balsamlakelodge.com
SUMMARY:Eagle Brook Church Viewing Service
DESCRIPTION:
URL:https://balsamlakelodge.com/events-2/eagle-brook-church-viewing-service/2030-02-28/
LOCATION:Balsam Lake Lodge Event Venue\, 264 Cty Rd I\, Balsam Lake\, WI\, 54810\, United States
END:VEVENT
BEGIN:VEVENT
DTSTART;TZID=America/Chicago:20300302T080000
DTEND;TZID=America/Chicago:20300302T113000
DTSTAMP:20260422T175425
CREATED:20250407T141743Z
LAST-MODIFIED:20250407T141745Z
UID:10004702-1898668800-1898681400@balsamlakelodge.com
SUMMARY:Breakfast & Bloody Mary Bar
DESCRIPTION:
URL:https://balsamlakelodge.com/events-2/breakfast-bloody-mary-bar-2-2/2030-03-02/
LOCATION:Balsam Lake Lodge Event Venue\, 264 Cty Rd I\, Balsam Lake\, WI\, 54810\, United States
END:VEVENT
BEGIN:VEVENT
DTSTART;TZID=America/Chicago:20300303T080000
DTEND;TZID=America/Chicago:20300303T113000
DTSTAMP:20260422T175425
CREATED:20250407T141743Z
LAST-MODIFIED:20250407T141745Z
UID:10004703-1898755200-1898767800@balsamlakelodge.com
SUMMARY:Breakfast & Bloody Mary Bar
DESCRIPTION:
URL:https://balsamlakelodge.com/events-2/breakfast-bloody-mary-bar-2-2/2030-03-03/
LOCATION:Balsam Lake Lodge Event Venue\, 264 Cty Rd I\, Balsam Lake\, WI\, 54810\, United States
END:VEVENT
BEGIN:VEVENT
DTSTART;TZID=America/Chicago:20300304T180000
DTEND;TZID=America/Chicago:20300304T200000
DTSTAMP:20260422T175425
CREATED:20250311T172607Z
LAST-MODIFIED:20250311T172607Z
UID:10004644-1898877600-1898884800@balsamlakelodge.com
SUMMARY:Monday Night Bingo
DESCRIPTION:
URL:https://balsamlakelodge.com/events-2/monday-night-bingo/2030-03-04/
LOCATION:Balsam Lake Lodge Event Venue\, 264 Cty Rd I\, Balsam Lake\, WI\, 54810\, United States
CATEGORIES:Bingo
END:VEVENT
END:VCALENDAR