BEGIN:VCALENDAR
VERSION:2.0
PRODID:-//Balsam Lake Lodge - ECPv6.15.20//NONSGML v1.0//EN
CALSCALE:GREGORIAN
METHOD:PUBLISH
X-ORIGINAL-URL:https://balsamlakelodge.com
X-WR-CALDESC:Events for Balsam Lake Lodge
REFRESH-INTERVAL;VALUE=DURATION:PT1H
X-Robots-Tag:noindex
X-PUBLISHED-TTL:PT1H
BEGIN:VTIMEZONE
TZID:America/Chicago
BEGIN:DAYLIGHT
TZOFFSETFROM:-0600
TZOFFSETTO:-0500
TZNAME:CDT
DTSTART:20290311T080000
END:DAYLIGHT
BEGIN:STANDARD
TZOFFSETFROM:-0500
TZOFFSETTO:-0600
TZNAME:CST
DTSTART:20291104T070000
END:STANDARD
BEGIN:DAYLIGHT
TZOFFSETFROM:-0600
TZOFFSETTO:-0500
TZNAME:CDT
DTSTART:20300310T080000
END:DAYLIGHT
BEGIN:STANDARD
TZOFFSETFROM:-0500
TZOFFSETTO:-0600
TZNAME:CST
DTSTART:20301103T070000
END:STANDARD
BEGIN:DAYLIGHT
TZOFFSETFROM:-0600
TZOFFSETTO:-0500
TZNAME:CDT
DTSTART:20310309T080000
END:DAYLIGHT
BEGIN:STANDARD
TZOFFSETFROM:-0500
TZOFFSETTO:-0600
TZNAME:CST
DTSTART:20311102T070000
END:STANDARD
END:VTIMEZONE
BEGIN:VEVENT
DTSTART;TZID=America/Chicago:20300323T080000
DTEND;TZID=America/Chicago:20300323T113000
DTSTAMP:20260422T175400
CREATED:20250407T141743Z
LAST-MODIFIED:20250407T141745Z
UID:10004712-1900483200-1900495800@balsamlakelodge.com
SUMMARY:Breakfast & Bloody Mary Bar
DESCRIPTION:
URL:https://balsamlakelodge.com/events-2/breakfast-bloody-mary-bar-2-2/2030-03-23/
LOCATION:Balsam Lake Lodge Event Venue\, 264 Cty Rd I\, Balsam Lake\, WI\, 54810\, United States
END:VEVENT
BEGIN:VEVENT
DTSTART;TZID=America/Chicago:20300324T080000
DTEND;TZID=America/Chicago:20300324T113000
DTSTAMP:20260422T175400
CREATED:20250407T141743Z
LAST-MODIFIED:20250407T141745Z
UID:10004713-1900569600-1900582200@balsamlakelodge.com
SUMMARY:Breakfast & Bloody Mary Bar
DESCRIPTION:
URL:https://balsamlakelodge.com/events-2/breakfast-bloody-mary-bar-2-2/2030-03-24/
LOCATION:Balsam Lake Lodge Event Venue\, 264 Cty Rd I\, Balsam Lake\, WI\, 54810\, United States
END:VEVENT
BEGIN:VEVENT
DTSTART;TZID=America/Chicago:20300325T180000
DTEND;TZID=America/Chicago:20300325T200000
DTSTAMP:20260422T175400
CREATED:20250311T172607Z
LAST-MODIFIED:20250311T172607Z
UID:10005095-1900692000-1900699200@balsamlakelodge.com
SUMMARY:Monday Night Bingo
DESCRIPTION:
URL:https://balsamlakelodge.com/events-2/monday-night-bingo/2030-03-25/
LOCATION:Balsam Lake Lodge Event Venue\, 264 Cty Rd I\, Balsam Lake\, WI\, 54810\, United States
CATEGORIES:Bingo
END:VEVENT
BEGIN:VEVENT
DTSTART;TZID=America/Chicago:20300328T183000
DTEND;TZID=America/Chicago:20300328T193000
DTSTAMP:20260422T175400
CREATED:20251209T085612Z
LAST-MODIFIED:20251209T085612Z
UID:10005039-1900953000-1900956600@balsamlakelodge.com
SUMMARY:Eagle Brook Church Viewing Service
DESCRIPTION:
URL:https://balsamlakelodge.com/events-2/eagle-brook-church-viewing-service/2030-03-28/
LOCATION:Balsam Lake Lodge Event Venue\, 264 Cty Rd I\, Balsam Lake\, WI\, 54810\, United States
END:VEVENT
BEGIN:VEVENT
DTSTART;TZID=America/Chicago:20300330T080000
DTEND;TZID=America/Chicago:20300330T113000
DTSTAMP:20260422T175400
CREATED:20250407T141743Z
LAST-MODIFIED:20250407T141745Z
UID:10004714-1901088000-1901100600@balsamlakelodge.com
SUMMARY:Breakfast & Bloody Mary Bar
DESCRIPTION:
URL:https://balsamlakelodge.com/events-2/breakfast-bloody-mary-bar-2-2/2030-03-30/
LOCATION:Balsam Lake Lodge Event Venue\, 264 Cty Rd I\, Balsam Lake\, WI\, 54810\, United States
END:VEVENT
BEGIN:VEVENT
DTSTART;TZID=America/Chicago:20300331T080000
DTEND;TZID=America/Chicago:20300331T113000
DTSTAMP:20260422T175400
CREATED:20250407T141743Z
LAST-MODIFIED:20250407T141745Z
UID:10004715-1901174400-1901187000@balsamlakelodge.com
SUMMARY:Breakfast & Bloody Mary Bar
DESCRIPTION:
URL:https://balsamlakelodge.com/events-2/breakfast-bloody-mary-bar-2-2/2030-03-31/
LOCATION:Balsam Lake Lodge Event Venue\, 264 Cty Rd I\, Balsam Lake\, WI\, 54810\, United States
END:VEVENT
BEGIN:VEVENT
DTSTART;TZID=America/Chicago:20300401T180000
DTEND;TZID=America/Chicago:20300401T200000
DTSTAMP:20260422T175400
CREATED:20250311T172607Z
LAST-MODIFIED:20250311T172607Z
UID:10005096-1901296800-1901304000@balsamlakelodge.com
SUMMARY:Monday Night Bingo
DESCRIPTION:
URL:https://balsamlakelodge.com/events-2/monday-night-bingo/2030-04-01/
LOCATION:Balsam Lake Lodge Event Venue\, 264 Cty Rd I\, Balsam Lake\, WI\, 54810\, United States
CATEGORIES:Bingo
END:VEVENT
BEGIN:VEVENT
DTSTART;TZID=America/Chicago:20300404T183000
DTEND;TZID=America/Chicago:20300404T193000
DTSTAMP:20260422T175400
CREATED:20251209T085612Z
LAST-MODIFIED:20251209T085612Z
UID:10005040-1901557800-1901561400@balsamlakelodge.com
SUMMARY:Eagle Brook Church Viewing Service
DESCRIPTION:
URL:https://balsamlakelodge.com/events-2/eagle-brook-church-viewing-service/2030-04-04/
LOCATION:Balsam Lake Lodge Event Venue\, 264 Cty Rd I\, Balsam Lake\, WI\, 54810\, United States
END:VEVENT
BEGIN:VEVENT
DTSTART;TZID=America/Chicago:20300406T080000
DTEND;TZID=America/Chicago:20300406T113000
DTSTAMP:20260422T175400
CREATED:20250407T141743Z
LAST-MODIFIED:20250407T141745Z
UID:10004723-1901692800-1901705400@balsamlakelodge.com
SUMMARY:Breakfast & Bloody Mary Bar
DESCRIPTION:
URL:https://balsamlakelodge.com/events-2/breakfast-bloody-mary-bar-2-2/2030-04-06/
LOCATION:Balsam Lake Lodge Event Venue\, 264 Cty Rd I\, Balsam Lake\, WI\, 54810\, United States
END:VEVENT
BEGIN:VEVENT
DTSTART;TZID=America/Chicago:20300407T080000
DTEND;TZID=America/Chicago:20300407T113000
DTSTAMP:20260422T175400
CREATED:20250407T141743Z
LAST-MODIFIED:20250407T141745Z
UID:10004724-1901779200-1901791800@balsamlakelodge.com
SUMMARY:Breakfast & Bloody Mary Bar
DESCRIPTION:
URL:https://balsamlakelodge.com/events-2/breakfast-bloody-mary-bar-2-2/2030-04-07/
LOCATION:Balsam Lake Lodge Event Venue\, 264 Cty Rd I\, Balsam Lake\, WI\, 54810\, United States
END:VEVENT
BEGIN:VEVENT
DTSTART;TZID=America/Chicago:20300408T180000
DTEND;TZID=America/Chicago:20300408T200000
DTSTAMP:20260422T175400
CREATED:20250311T172607Z
LAST-MODIFIED:20250311T172607Z
UID:10005097-1901901600-1901908800@balsamlakelodge.com
SUMMARY:Monday Night Bingo
DESCRIPTION:
URL:https://balsamlakelodge.com/events-2/monday-night-bingo/2030-04-08/
LOCATION:Balsam Lake Lodge Event Venue\, 264 Cty Rd I\, Balsam Lake\, WI\, 54810\, United States
CATEGORIES:Bingo
END:VEVENT
BEGIN:VEVENT
DTSTART;TZID=America/Chicago:20300411T183000
DTEND;TZID=America/Chicago:20300411T193000
DTSTAMP:20260422T175400
CREATED:20251209T085612Z
LAST-MODIFIED:20251209T085612Z
UID:10005041-1902162600-1902166200@balsamlakelodge.com
SUMMARY:Eagle Brook Church Viewing Service
DESCRIPTION:
URL:https://balsamlakelodge.com/events-2/eagle-brook-church-viewing-service/2030-04-11/
LOCATION:Balsam Lake Lodge Event Venue\, 264 Cty Rd I\, Balsam Lake\, WI\, 54810\, United States
END:VEVENT
BEGIN:VEVENT
DTSTART;TZID=America/Chicago:20300413T080000
DTEND;TZID=America/Chicago:20300413T113000
DTSTAMP:20260422T175400
CREATED:20250407T141743Z
LAST-MODIFIED:20250407T141745Z
UID:10005165-1902297600-1902310200@balsamlakelodge.com
SUMMARY:Breakfast & Bloody Mary Bar
DESCRIPTION:
URL:https://balsamlakelodge.com/events-2/breakfast-bloody-mary-bar-2-2/2030-04-13/
LOCATION:Balsam Lake Lodge Event Venue\, 264 Cty Rd I\, Balsam Lake\, WI\, 54810\, United States
END:VEVENT
BEGIN:VEVENT
DTSTART;TZID=America/Chicago:20300414T080000
DTEND;TZID=America/Chicago:20300414T113000
DTSTAMP:20260422T175400
CREATED:20250407T141743Z
LAST-MODIFIED:20250407T141745Z
UID:10005166-1902384000-1902396600@balsamlakelodge.com
SUMMARY:Breakfast & Bloody Mary Bar
DESCRIPTION:
URL:https://balsamlakelodge.com/events-2/breakfast-bloody-mary-bar-2-2/2030-04-14/
LOCATION:Balsam Lake Lodge Event Venue\, 264 Cty Rd I\, Balsam Lake\, WI\, 54810\, United States
END:VEVENT
BEGIN:VEVENT
DTSTART;TZID=America/Chicago:20300415T180000
DTEND;TZID=America/Chicago:20300415T200000
DTSTAMP:20260422T175400
CREATED:20250311T172607Z
LAST-MODIFIED:20250311T172607Z
UID:10005098-1902506400-1902513600@balsamlakelodge.com
SUMMARY:Monday Night Bingo
DESCRIPTION:
URL:https://balsamlakelodge.com/events-2/monday-night-bingo/2030-04-15/
LOCATION:Balsam Lake Lodge Event Venue\, 264 Cty Rd I\, Balsam Lake\, WI\, 54810\, United States
CATEGORIES:Bingo
END:VEVENT
BEGIN:VEVENT
DTSTART;TZID=America/Chicago:20300418T183000
DTEND;TZID=America/Chicago:20300418T193000
DTSTAMP:20260422T175400
CREATED:20251209T085612Z
LAST-MODIFIED:20251209T085612Z
UID:10005042-1902767400-1902771000@balsamlakelodge.com
SUMMARY:Eagle Brook Church Viewing Service
DESCRIPTION:
URL:https://balsamlakelodge.com/events-2/eagle-brook-church-viewing-service/2030-04-18/
LOCATION:Balsam Lake Lodge Event Venue\, 264 Cty Rd I\, Balsam Lake\, WI\, 54810\, United States
END:VEVENT
BEGIN:VEVENT
DTSTART;TZID=America/Chicago:20300420T080000
DTEND;TZID=America/Chicago:20300420T113000
DTSTAMP:20260422T175400
CREATED:20250407T141743Z
LAST-MODIFIED:20250407T141745Z
UID:10005167-1902902400-1902915000@balsamlakelodge.com
SUMMARY:Breakfast & Bloody Mary Bar
DESCRIPTION:
URL:https://balsamlakelodge.com/events-2/breakfast-bloody-mary-bar-2-2/2030-04-20/
LOCATION:Balsam Lake Lodge Event Venue\, 264 Cty Rd I\, Balsam Lake\, WI\, 54810\, United States
END:VEVENT
BEGIN:VEVENT
DTSTART;TZID=America/Chicago:20300421T080000
DTEND;TZID=America/Chicago:20300421T113000
DTSTAMP:20260422T175400
CREATED:20250407T141743Z
LAST-MODIFIED:20250407T141745Z
UID:10005168-1902988800-1903001400@balsamlakelodge.com
SUMMARY:Breakfast & Bloody Mary Bar
DESCRIPTION:
URL:https://balsamlakelodge.com/events-2/breakfast-bloody-mary-bar-2-2/2030-04-21/
LOCATION:Balsam Lake Lodge Event Venue\, 264 Cty Rd I\, Balsam Lake\, WI\, 54810\, United States
END:VEVENT
BEGIN:VEVENT
DTSTART;TZID=America/Chicago:20300422T180000
DTEND;TZID=America/Chicago:20300422T200000
DTSTAMP:20260422T175400
CREATED:20250311T172607Z
LAST-MODIFIED:20250311T172607Z
UID:10005099-1903111200-1903118400@balsamlakelodge.com
SUMMARY:Monday Night Bingo
DESCRIPTION:
URL:https://balsamlakelodge.com/events-2/monday-night-bingo/2030-04-22/
LOCATION:Balsam Lake Lodge Event Venue\, 264 Cty Rd I\, Balsam Lake\, WI\, 54810\, United States
CATEGORIES:Bingo
END:VEVENT
BEGIN:VEVENT
DTSTART;TZID=America/Chicago:20300425T183000
DTEND;TZID=America/Chicago:20300425T193000
DTSTAMP:20260422T175400
CREATED:20251209T085612Z
LAST-MODIFIED:20251209T085612Z
UID:10005043-1903372200-1903375800@balsamlakelodge.com
SUMMARY:Eagle Brook Church Viewing Service
DESCRIPTION:
URL:https://balsamlakelodge.com/events-2/eagle-brook-church-viewing-service/2030-04-25/
LOCATION:Balsam Lake Lodge Event Venue\, 264 Cty Rd I\, Balsam Lake\, WI\, 54810\, United States
END:VEVENT
BEGIN:VEVENT
DTSTART;TZID=America/Chicago:20300427T080000
DTEND;TZID=America/Chicago:20300427T113000
DTSTAMP:20260422T175400
CREATED:20250407T141743Z
LAST-MODIFIED:20250407T141745Z
UID:10005169-1903507200-1903519800@balsamlakelodge.com
SUMMARY:Breakfast & Bloody Mary Bar
DESCRIPTION:
URL:https://balsamlakelodge.com/events-2/breakfast-bloody-mary-bar-2-2/2030-04-27/
LOCATION:Balsam Lake Lodge Event Venue\, 264 Cty Rd I\, Balsam Lake\, WI\, 54810\, United States
END:VEVENT
BEGIN:VEVENT
DTSTART;TZID=America/Chicago:20300428T080000
DTEND;TZID=America/Chicago:20300428T113000
DTSTAMP:20260422T175400
CREATED:20250407T141743Z
LAST-MODIFIED:20250407T141745Z
UID:10005170-1903593600-1903606200@balsamlakelodge.com
SUMMARY:Breakfast & Bloody Mary Bar
DESCRIPTION:
URL:https://balsamlakelodge.com/events-2/breakfast-bloody-mary-bar-2-2/2030-04-28/
LOCATION:Balsam Lake Lodge Event Venue\, 264 Cty Rd I\, Balsam Lake\, WI\, 54810\, United States
END:VEVENT
BEGIN:VEVENT
DTSTART;TZID=America/Chicago:20300429T180000
DTEND;TZID=America/Chicago:20300429T200000
DTSTAMP:20260422T175400
CREATED:20250311T172607Z
LAST-MODIFIED:20250311T172607Z
UID:10005100-1903716000-1903723200@balsamlakelodge.com
SUMMARY:Monday Night Bingo
DESCRIPTION:
URL:https://balsamlakelodge.com/events-2/monday-night-bingo/2030-04-29/
LOCATION:Balsam Lake Lodge Event Venue\, 264 Cty Rd I\, Balsam Lake\, WI\, 54810\, United States
CATEGORIES:Bingo
END:VEVENT
BEGIN:VEVENT
DTSTART;TZID=America/Chicago:20300502T183000
DTEND;TZID=America/Chicago:20300502T193000
DTSTAMP:20260422T175400
CREATED:20251209T085612Z
LAST-MODIFIED:20251209T085612Z
UID:10005044-1903977000-1903980600@balsamlakelodge.com
SUMMARY:Eagle Brook Church Viewing Service
DESCRIPTION:
URL:https://balsamlakelodge.com/events-2/eagle-brook-church-viewing-service/2030-05-02/
LOCATION:Balsam Lake Lodge Event Venue\, 264 Cty Rd I\, Balsam Lake\, WI\, 54810\, United States
END:VEVENT
BEGIN:VEVENT
DTSTART;TZID=America/Chicago:20300504T080000
DTEND;TZID=America/Chicago:20300504T113000
DTSTAMP:20260422T175400
CREATED:20250407T141743Z
LAST-MODIFIED:20250407T141745Z
UID:10005171-1904112000-1904124600@balsamlakelodge.com
SUMMARY:Breakfast & Bloody Mary Bar
DESCRIPTION:
URL:https://balsamlakelodge.com/events-2/breakfast-bloody-mary-bar-2-2/2030-05-04/
LOCATION:Balsam Lake Lodge Event Venue\, 264 Cty Rd I\, Balsam Lake\, WI\, 54810\, United States
END:VEVENT
BEGIN:VEVENT
DTSTART;TZID=America/Chicago:20300505T080000
DTEND;TZID=America/Chicago:20300505T113000
DTSTAMP:20260422T175400
CREATED:20250407T141743Z
LAST-MODIFIED:20250407T141745Z
UID:10005172-1904198400-1904211000@balsamlakelodge.com
SUMMARY:Breakfast & Bloody Mary Bar
DESCRIPTION:
URL:https://balsamlakelodge.com/events-2/breakfast-bloody-mary-bar-2-2/2030-05-05/
LOCATION:Balsam Lake Lodge Event Venue\, 264 Cty Rd I\, Balsam Lake\, WI\, 54810\, United States
END:VEVENT
BEGIN:VEVENT
DTSTART;TZID=America/Chicago:20300506T180000
DTEND;TZID=America/Chicago:20300506T200000
DTSTAMP:20260422T175400
CREATED:20250311T172607Z
LAST-MODIFIED:20250311T172607Z
UID:10005101-1904320800-1904328000@balsamlakelodge.com
SUMMARY:Monday Night Bingo
DESCRIPTION:
URL:https://balsamlakelodge.com/events-2/monday-night-bingo/2030-05-06/
LOCATION:Balsam Lake Lodge Event Venue\, 264 Cty Rd I\, Balsam Lake\, WI\, 54810\, United States
CATEGORIES:Bingo
END:VEVENT
BEGIN:VEVENT
DTSTART;TZID=America/Chicago:20300509T183000
DTEND;TZID=America/Chicago:20300509T193000
DTSTAMP:20260422T175400
CREATED:20251209T085612Z
LAST-MODIFIED:20251209T085612Z
UID:10005045-1904581800-1904585400@balsamlakelodge.com
SUMMARY:Eagle Brook Church Viewing Service
DESCRIPTION:
URL:https://balsamlakelodge.com/events-2/eagle-brook-church-viewing-service/2030-05-09/
LOCATION:Balsam Lake Lodge Event Venue\, 264 Cty Rd I\, Balsam Lake\, WI\, 54810\, United States
END:VEVENT
BEGIN:VEVENT
DTSTART;TZID=America/Chicago:20300511T080000
DTEND;TZID=America/Chicago:20300511T113000
DTSTAMP:20260422T175400
CREATED:20250407T141743Z
LAST-MODIFIED:20250407T141745Z
UID:10005173-1904716800-1904729400@balsamlakelodge.com
SUMMARY:Breakfast & Bloody Mary Bar
DESCRIPTION:
URL:https://balsamlakelodge.com/events-2/breakfast-bloody-mary-bar-2-2/2030-05-11/
LOCATION:Balsam Lake Lodge Event Venue\, 264 Cty Rd I\, Balsam Lake\, WI\, 54810\, United States
END:VEVENT
BEGIN:VEVENT
DTSTART;TZID=America/Chicago:20300512T080000
DTEND;TZID=America/Chicago:20300512T113000
DTSTAMP:20260422T175400
CREATED:20250407T141743Z
LAST-MODIFIED:20250407T141745Z
UID:10005174-1904803200-1904815800@balsamlakelodge.com
SUMMARY:Breakfast & Bloody Mary Bar
DESCRIPTION:
URL:https://balsamlakelodge.com/events-2/breakfast-bloody-mary-bar-2-2/2030-05-12/
LOCATION:Balsam Lake Lodge Event Venue\, 264 Cty Rd I\, Balsam Lake\, WI\, 54810\, United States
END:VEVENT
END:VCALENDAR