BEGIN:VCALENDAR
VERSION:2.0
PRODID:-//Balsam Lake Lodge - ECPv6.15.20//NONSGML v1.0//EN
CALSCALE:GREGORIAN
METHOD:PUBLISH
X-WR-CALNAME:Balsam Lake Lodge
X-ORIGINAL-URL:https://balsamlakelodge.com
X-WR-CALDESC:Events for Balsam Lake Lodge
REFRESH-INTERVAL;VALUE=DURATION:PT1H
X-Robots-Tag:noindex
X-PUBLISHED-TTL:PT1H
BEGIN:VTIMEZONE
TZID:America/Chicago
BEGIN:DAYLIGHT
TZOFFSETFROM:-0600
TZOFFSETTO:-0500
TZNAME:CDT
DTSTART:20290311T080000
END:DAYLIGHT
BEGIN:STANDARD
TZOFFSETFROM:-0500
TZOFFSETTO:-0600
TZNAME:CST
DTSTART:20291104T070000
END:STANDARD
BEGIN:DAYLIGHT
TZOFFSETFROM:-0600
TZOFFSETTO:-0500
TZNAME:CDT
DTSTART:20300310T080000
END:DAYLIGHT
BEGIN:STANDARD
TZOFFSETFROM:-0500
TZOFFSETTO:-0600
TZNAME:CST
DTSTART:20301103T070000
END:STANDARD
BEGIN:DAYLIGHT
TZOFFSETFROM:-0600
TZOFFSETTO:-0500
TZNAME:CDT
DTSTART:20310309T080000
END:DAYLIGHT
BEGIN:STANDARD
TZOFFSETFROM:-0500
TZOFFSETTO:-0600
TZNAME:CST
DTSTART:20311102T070000
END:STANDARD
END:VTIMEZONE
BEGIN:VEVENT
DTSTART;TZID=America/Chicago:20300629T080000
DTEND;TZID=America/Chicago:20300629T113000
DTSTAMP:20260423T053903
CREATED:20250407T141743Z
LAST-MODIFIED:20250407T141745Z
UID:10005187-1908950400-1908963000@balsamlakelodge.com
SUMMARY:Breakfast & Bloody Mary Bar
DESCRIPTION:
URL:https://balsamlakelodge.com/events-2/breakfast-bloody-mary-bar-2-2/2030-06-29/
LOCATION:Balsam Lake Lodge Event Venue\, 264 Cty Rd I\, Balsam Lake\, WI\, 54810\, United States
END:VEVENT
BEGIN:VEVENT
DTSTART;TZID=America/Chicago:20300630T080000
DTEND;TZID=America/Chicago:20300630T113000
DTSTAMP:20260423T053903
CREATED:20250407T141743Z
LAST-MODIFIED:20250407T141745Z
UID:10005188-1909036800-1909049400@balsamlakelodge.com
SUMMARY:Breakfast & Bloody Mary Bar
DESCRIPTION:
URL:https://balsamlakelodge.com/events-2/breakfast-bloody-mary-bar-2-2/2030-06-30/
LOCATION:Balsam Lake Lodge Event Venue\, 264 Cty Rd I\, Balsam Lake\, WI\, 54810\, United States
END:VEVENT
BEGIN:VEVENT
DTSTART;TZID=America/Chicago:20300701T180000
DTEND;TZID=America/Chicago:20300701T200000
DTSTAMP:20260423T053903
CREATED:20250311T172607Z
LAST-MODIFIED:20250311T172607Z
UID:10005109-1909159200-1909166400@balsamlakelodge.com
SUMMARY:Monday Night Bingo
DESCRIPTION:
URL:https://balsamlakelodge.com/events-2/monday-night-bingo/2030-07-01/
LOCATION:Balsam Lake Lodge Event Venue\, 264 Cty Rd I\, Balsam Lake\, WI\, 54810\, United States
CATEGORIES:Bingo
END:VEVENT
BEGIN:VEVENT
DTSTART;TZID=America/Chicago:20300704T183000
DTEND;TZID=America/Chicago:20300704T193000
DTSTAMP:20260423T053903
CREATED:20251209T085612Z
LAST-MODIFIED:20251209T085612Z
UID:10005053-1909420200-1909423800@balsamlakelodge.com
SUMMARY:Eagle Brook Church Viewing Service
DESCRIPTION:
URL:https://balsamlakelodge.com/events-2/eagle-brook-church-viewing-service/2030-07-04/
LOCATION:Balsam Lake Lodge Event Venue\, 264 Cty Rd I\, Balsam Lake\, WI\, 54810\, United States
END:VEVENT
BEGIN:VEVENT
DTSTART;TZID=America/Chicago:20300706T080000
DTEND;TZID=America/Chicago:20300706T113000
DTSTAMP:20260423T053903
CREATED:20250407T141743Z
LAST-MODIFIED:20250407T141745Z
UID:10005189-1909555200-1909567800@balsamlakelodge.com
SUMMARY:Breakfast & Bloody Mary Bar
DESCRIPTION:
URL:https://balsamlakelodge.com/events-2/breakfast-bloody-mary-bar-2-2/2030-07-06/
LOCATION:Balsam Lake Lodge Event Venue\, 264 Cty Rd I\, Balsam Lake\, WI\, 54810\, United States
END:VEVENT
BEGIN:VEVENT
DTSTART;TZID=America/Chicago:20300707T080000
DTEND;TZID=America/Chicago:20300707T113000
DTSTAMP:20260423T053903
CREATED:20250407T141743Z
LAST-MODIFIED:20250407T141745Z
UID:10005190-1909641600-1909654200@balsamlakelodge.com
SUMMARY:Breakfast & Bloody Mary Bar
DESCRIPTION:
URL:https://balsamlakelodge.com/events-2/breakfast-bloody-mary-bar-2-2/2030-07-07/
LOCATION:Balsam Lake Lodge Event Venue\, 264 Cty Rd I\, Balsam Lake\, WI\, 54810\, United States
END:VEVENT
BEGIN:VEVENT
DTSTART;TZID=America/Chicago:20300708T180000
DTEND;TZID=America/Chicago:20300708T200000
DTSTAMP:20260423T053903
CREATED:20250311T172607Z
LAST-MODIFIED:20250311T172607Z
UID:10005110-1909764000-1909771200@balsamlakelodge.com
SUMMARY:Monday Night Bingo
DESCRIPTION:
URL:https://balsamlakelodge.com/events-2/monday-night-bingo/2030-07-08/
LOCATION:Balsam Lake Lodge Event Venue\, 264 Cty Rd I\, Balsam Lake\, WI\, 54810\, United States
CATEGORIES:Bingo
END:VEVENT
BEGIN:VEVENT
DTSTART;TZID=America/Chicago:20300711T183000
DTEND;TZID=America/Chicago:20300711T193000
DTSTAMP:20260423T053903
CREATED:20251209T085612Z
LAST-MODIFIED:20251209T085612Z
UID:10005054-1910025000-1910028600@balsamlakelodge.com
SUMMARY:Eagle Brook Church Viewing Service
DESCRIPTION:
URL:https://balsamlakelodge.com/events-2/eagle-brook-church-viewing-service/2030-07-11/
LOCATION:Balsam Lake Lodge Event Venue\, 264 Cty Rd I\, Balsam Lake\, WI\, 54810\, United States
END:VEVENT
BEGIN:VEVENT
DTSTART;TZID=America/Chicago:20300713T080000
DTEND;TZID=America/Chicago:20300713T113000
DTSTAMP:20260423T053903
CREATED:20250407T141743Z
LAST-MODIFIED:20250407T141745Z
UID:10005191-1910160000-1910172600@balsamlakelodge.com
SUMMARY:Breakfast & Bloody Mary Bar
DESCRIPTION:
URL:https://balsamlakelodge.com/events-2/breakfast-bloody-mary-bar-2-2/2030-07-13/
LOCATION:Balsam Lake Lodge Event Venue\, 264 Cty Rd I\, Balsam Lake\, WI\, 54810\, United States
END:VEVENT
BEGIN:VEVENT
DTSTART;TZID=America/Chicago:20300714T080000
DTEND;TZID=America/Chicago:20300714T113000
DTSTAMP:20260423T053903
CREATED:20250407T141743Z
LAST-MODIFIED:20250407T141745Z
UID:10005192-1910246400-1910259000@balsamlakelodge.com
SUMMARY:Breakfast & Bloody Mary Bar
DESCRIPTION:
URL:https://balsamlakelodge.com/events-2/breakfast-bloody-mary-bar-2-2/2030-07-14/
LOCATION:Balsam Lake Lodge Event Venue\, 264 Cty Rd I\, Balsam Lake\, WI\, 54810\, United States
END:VEVENT
BEGIN:VEVENT
DTSTART;TZID=America/Chicago:20300715T180000
DTEND;TZID=America/Chicago:20300715T200000
DTSTAMP:20260423T053903
CREATED:20250311T172607Z
LAST-MODIFIED:20250311T172607Z
UID:10005111-1910368800-1910376000@balsamlakelodge.com
SUMMARY:Monday Night Bingo
DESCRIPTION:
URL:https://balsamlakelodge.com/events-2/monday-night-bingo/2030-07-15/
LOCATION:Balsam Lake Lodge Event Venue\, 264 Cty Rd I\, Balsam Lake\, WI\, 54810\, United States
CATEGORIES:Bingo
END:VEVENT
BEGIN:VEVENT
DTSTART;TZID=America/Chicago:20300718T183000
DTEND;TZID=America/Chicago:20300718T193000
DTSTAMP:20260423T053903
CREATED:20251209T085612Z
LAST-MODIFIED:20251209T085612Z
UID:10005055-1910629800-1910633400@balsamlakelodge.com
SUMMARY:Eagle Brook Church Viewing Service
DESCRIPTION:
URL:https://balsamlakelodge.com/events-2/eagle-brook-church-viewing-service/2030-07-18/
LOCATION:Balsam Lake Lodge Event Venue\, 264 Cty Rd I\, Balsam Lake\, WI\, 54810\, United States
END:VEVENT
BEGIN:VEVENT
DTSTART;TZID=America/Chicago:20300720T080000
DTEND;TZID=America/Chicago:20300720T113000
DTSTAMP:20260423T053903
CREATED:20250407T141743Z
LAST-MODIFIED:20250407T141745Z
UID:10005193-1910764800-1910777400@balsamlakelodge.com
SUMMARY:Breakfast & Bloody Mary Bar
DESCRIPTION:
URL:https://balsamlakelodge.com/events-2/breakfast-bloody-mary-bar-2-2/2030-07-20/
LOCATION:Balsam Lake Lodge Event Venue\, 264 Cty Rd I\, Balsam Lake\, WI\, 54810\, United States
END:VEVENT
BEGIN:VEVENT
DTSTART;TZID=America/Chicago:20300721T080000
DTEND;TZID=America/Chicago:20300721T113000
DTSTAMP:20260423T053903
CREATED:20250407T141743Z
LAST-MODIFIED:20250407T141745Z
UID:10005194-1910851200-1910863800@balsamlakelodge.com
SUMMARY:Breakfast & Bloody Mary Bar
DESCRIPTION:
URL:https://balsamlakelodge.com/events-2/breakfast-bloody-mary-bar-2-2/2030-07-21/
LOCATION:Balsam Lake Lodge Event Venue\, 264 Cty Rd I\, Balsam Lake\, WI\, 54810\, United States
END:VEVENT
BEGIN:VEVENT
DTSTART;TZID=America/Chicago:20300722T180000
DTEND;TZID=America/Chicago:20300722T200000
DTSTAMP:20260423T053903
CREATED:20250311T172607Z
LAST-MODIFIED:20250311T172607Z
UID:10005112-1910973600-1910980800@balsamlakelodge.com
SUMMARY:Monday Night Bingo
DESCRIPTION:
URL:https://balsamlakelodge.com/events-2/monday-night-bingo/2030-07-22/
LOCATION:Balsam Lake Lodge Event Venue\, 264 Cty Rd I\, Balsam Lake\, WI\, 54810\, United States
CATEGORIES:Bingo
END:VEVENT
BEGIN:VEVENT
DTSTART;TZID=America/Chicago:20300725T183000
DTEND;TZID=America/Chicago:20300725T193000
DTSTAMP:20260423T053903
CREATED:20251209T085612Z
LAST-MODIFIED:20251209T085612Z
UID:10005056-1911234600-1911238200@balsamlakelodge.com
SUMMARY:Eagle Brook Church Viewing Service
DESCRIPTION:
URL:https://balsamlakelodge.com/events-2/eagle-brook-church-viewing-service/2030-07-25/
LOCATION:Balsam Lake Lodge Event Venue\, 264 Cty Rd I\, Balsam Lake\, WI\, 54810\, United States
END:VEVENT
BEGIN:VEVENT
DTSTART;TZID=America/Chicago:20300727T080000
DTEND;TZID=America/Chicago:20300727T113000
DTSTAMP:20260423T053903
CREATED:20250407T141743Z
LAST-MODIFIED:20250407T141745Z
UID:10005195-1911369600-1911382200@balsamlakelodge.com
SUMMARY:Breakfast & Bloody Mary Bar
DESCRIPTION:
URL:https://balsamlakelodge.com/events-2/breakfast-bloody-mary-bar-2-2/2030-07-27/
LOCATION:Balsam Lake Lodge Event Venue\, 264 Cty Rd I\, Balsam Lake\, WI\, 54810\, United States
END:VEVENT
BEGIN:VEVENT
DTSTART;TZID=America/Chicago:20300728T080000
DTEND;TZID=America/Chicago:20300728T113000
DTSTAMP:20260423T053903
CREATED:20250407T141743Z
LAST-MODIFIED:20250407T141745Z
UID:10005196-1911456000-1911468600@balsamlakelodge.com
SUMMARY:Breakfast & Bloody Mary Bar
DESCRIPTION:
URL:https://balsamlakelodge.com/events-2/breakfast-bloody-mary-bar-2-2/2030-07-28/
LOCATION:Balsam Lake Lodge Event Venue\, 264 Cty Rd I\, Balsam Lake\, WI\, 54810\, United States
END:VEVENT
BEGIN:VEVENT
DTSTART;TZID=America/Chicago:20300729T180000
DTEND;TZID=America/Chicago:20300729T200000
DTSTAMP:20260423T053903
CREATED:20250311T172607Z
LAST-MODIFIED:20250311T172607Z
UID:10005113-1911578400-1911585600@balsamlakelodge.com
SUMMARY:Monday Night Bingo
DESCRIPTION:
URL:https://balsamlakelodge.com/events-2/monday-night-bingo/2030-07-29/
LOCATION:Balsam Lake Lodge Event Venue\, 264 Cty Rd I\, Balsam Lake\, WI\, 54810\, United States
CATEGORIES:Bingo
END:VEVENT
BEGIN:VEVENT
DTSTART;TZID=America/Chicago:20300801T183000
DTEND;TZID=America/Chicago:20300801T193000
DTSTAMP:20260423T053903
CREATED:20251209T085612Z
LAST-MODIFIED:20251209T085612Z
UID:10005057-1911839400-1911843000@balsamlakelodge.com
SUMMARY:Eagle Brook Church Viewing Service
DESCRIPTION:
URL:https://balsamlakelodge.com/events-2/eagle-brook-church-viewing-service/2030-08-01/
LOCATION:Balsam Lake Lodge Event Venue\, 264 Cty Rd I\, Balsam Lake\, WI\, 54810\, United States
END:VEVENT
BEGIN:VEVENT
DTSTART;TZID=America/Chicago:20300803T080000
DTEND;TZID=America/Chicago:20300803T113000
DTSTAMP:20260423T053903
CREATED:20250407T141743Z
LAST-MODIFIED:20250407T141745Z
UID:10005197-1911974400-1911987000@balsamlakelodge.com
SUMMARY:Breakfast & Bloody Mary Bar
DESCRIPTION:
URL:https://balsamlakelodge.com/events-2/breakfast-bloody-mary-bar-2-2/2030-08-03/
LOCATION:Balsam Lake Lodge Event Venue\, 264 Cty Rd I\, Balsam Lake\, WI\, 54810\, United States
END:VEVENT
BEGIN:VEVENT
DTSTART;TZID=America/Chicago:20300804T080000
DTEND;TZID=America/Chicago:20300804T113000
DTSTAMP:20260423T053903
CREATED:20250407T141743Z
LAST-MODIFIED:20250407T141745Z
UID:10005198-1912060800-1912073400@balsamlakelodge.com
SUMMARY:Breakfast & Bloody Mary Bar
DESCRIPTION:
URL:https://balsamlakelodge.com/events-2/breakfast-bloody-mary-bar-2-2/2030-08-04/
LOCATION:Balsam Lake Lodge Event Venue\, 264 Cty Rd I\, Balsam Lake\, WI\, 54810\, United States
END:VEVENT
BEGIN:VEVENT
DTSTART;TZID=America/Chicago:20300805T180000
DTEND;TZID=America/Chicago:20300805T200000
DTSTAMP:20260423T053903
CREATED:20250311T172607Z
LAST-MODIFIED:20250311T172607Z
UID:10005114-1912183200-1912190400@balsamlakelodge.com
SUMMARY:Monday Night Bingo
DESCRIPTION:
URL:https://balsamlakelodge.com/events-2/monday-night-bingo/2030-08-05/
LOCATION:Balsam Lake Lodge Event Venue\, 264 Cty Rd I\, Balsam Lake\, WI\, 54810\, United States
CATEGORIES:Bingo
END:VEVENT
BEGIN:VEVENT
DTSTART;TZID=America/Chicago:20300808T183000
DTEND;TZID=America/Chicago:20300808T193000
DTSTAMP:20260423T053903
CREATED:20251209T085612Z
LAST-MODIFIED:20251209T085612Z
UID:10005058-1912444200-1912447800@balsamlakelodge.com
SUMMARY:Eagle Brook Church Viewing Service
DESCRIPTION:
URL:https://balsamlakelodge.com/events-2/eagle-brook-church-viewing-service/2030-08-08/
LOCATION:Balsam Lake Lodge Event Venue\, 264 Cty Rd I\, Balsam Lake\, WI\, 54810\, United States
END:VEVENT
BEGIN:VEVENT
DTSTART;TZID=America/Chicago:20300810T080000
DTEND;TZID=America/Chicago:20300810T113000
DTSTAMP:20260423T053903
CREATED:20250407T141743Z
LAST-MODIFIED:20250407T141745Z
UID:10005199-1912579200-1912591800@balsamlakelodge.com
SUMMARY:Breakfast & Bloody Mary Bar
DESCRIPTION:
URL:https://balsamlakelodge.com/events-2/breakfast-bloody-mary-bar-2-2/2030-08-10/
LOCATION:Balsam Lake Lodge Event Venue\, 264 Cty Rd I\, Balsam Lake\, WI\, 54810\, United States
END:VEVENT
BEGIN:VEVENT
DTSTART;TZID=America/Chicago:20300811T080000
DTEND;TZID=America/Chicago:20300811T113000
DTSTAMP:20260423T053903
CREATED:20250407T141743Z
LAST-MODIFIED:20250407T141745Z
UID:10005200-1912665600-1912678200@balsamlakelodge.com
SUMMARY:Breakfast & Bloody Mary Bar
DESCRIPTION:
URL:https://balsamlakelodge.com/events-2/breakfast-bloody-mary-bar-2-2/2030-08-11/
LOCATION:Balsam Lake Lodge Event Venue\, 264 Cty Rd I\, Balsam Lake\, WI\, 54810\, United States
END:VEVENT
BEGIN:VEVENT
DTSTART;TZID=America/Chicago:20300812T180000
DTEND;TZID=America/Chicago:20300812T200000
DTSTAMP:20260423T053903
CREATED:20250311T172607Z
LAST-MODIFIED:20250311T172607Z
UID:10005115-1912788000-1912795200@balsamlakelodge.com
SUMMARY:Monday Night Bingo
DESCRIPTION:
URL:https://balsamlakelodge.com/events-2/monday-night-bingo/2030-08-12/
LOCATION:Balsam Lake Lodge Event Venue\, 264 Cty Rd I\, Balsam Lake\, WI\, 54810\, United States
CATEGORIES:Bingo
END:VEVENT
BEGIN:VEVENT
DTSTART;TZID=America/Chicago:20300815T183000
DTEND;TZID=America/Chicago:20300815T193000
DTSTAMP:20260423T053903
CREATED:20251209T085612Z
LAST-MODIFIED:20251209T085612Z
UID:10005059-1913049000-1913052600@balsamlakelodge.com
SUMMARY:Eagle Brook Church Viewing Service
DESCRIPTION:
URL:https://balsamlakelodge.com/events-2/eagle-brook-church-viewing-service/2030-08-15/
LOCATION:Balsam Lake Lodge Event Venue\, 264 Cty Rd I\, Balsam Lake\, WI\, 54810\, United States
END:VEVENT
BEGIN:VEVENT
DTSTART;TZID=America/Chicago:20300817T080000
DTEND;TZID=America/Chicago:20300817T113000
DTSTAMP:20260423T053903
CREATED:20250407T141743Z
LAST-MODIFIED:20250407T141745Z
UID:10005201-1913184000-1913196600@balsamlakelodge.com
SUMMARY:Breakfast & Bloody Mary Bar
DESCRIPTION:
URL:https://balsamlakelodge.com/events-2/breakfast-bloody-mary-bar-2-2/2030-08-17/
LOCATION:Balsam Lake Lodge Event Venue\, 264 Cty Rd I\, Balsam Lake\, WI\, 54810\, United States
END:VEVENT
BEGIN:VEVENT
DTSTART;TZID=America/Chicago:20300818T080000
DTEND;TZID=America/Chicago:20300818T113000
DTSTAMP:20260423T053903
CREATED:20250407T141743Z
LAST-MODIFIED:20250407T141745Z
UID:10005202-1913270400-1913283000@balsamlakelodge.com
SUMMARY:Breakfast & Bloody Mary Bar
DESCRIPTION:
URL:https://balsamlakelodge.com/events-2/breakfast-bloody-mary-bar-2-2/2030-08-18/
LOCATION:Balsam Lake Lodge Event Venue\, 264 Cty Rd I\, Balsam Lake\, WI\, 54810\, United States
END:VEVENT
END:VCALENDAR