BEGIN:VCALENDAR
VERSION:2.0
PRODID:-//Balsam Lake Lodge - ECPv6.15.20//NONSGML v1.0//EN
CALSCALE:GREGORIAN
METHOD:PUBLISH
X-ORIGINAL-URL:https://balsamlakelodge.com
X-WR-CALDESC:Events for Balsam Lake Lodge
REFRESH-INTERVAL;VALUE=DURATION:PT1H
X-Robots-Tag:noindex
X-PUBLISHED-TTL:PT1H
BEGIN:VTIMEZONE
TZID:America/Chicago
BEGIN:DAYLIGHT
TZOFFSETFROM:-0600
TZOFFSETTO:-0500
TZNAME:CDT
DTSTART:20300310T080000
END:DAYLIGHT
BEGIN:STANDARD
TZOFFSETFROM:-0500
TZOFFSETTO:-0600
TZNAME:CST
DTSTART:20301103T070000
END:STANDARD
BEGIN:DAYLIGHT
TZOFFSETFROM:-0600
TZOFFSETTO:-0500
TZNAME:CDT
DTSTART:20310309T080000
END:DAYLIGHT
BEGIN:STANDARD
TZOFFSETFROM:-0500
TZOFFSETTO:-0600
TZNAME:CST
DTSTART:20311102T070000
END:STANDARD
BEGIN:DAYLIGHT
TZOFFSETFROM:-0600
TZOFFSETTO:-0500
TZNAME:CDT
DTSTART:20320314T080000
END:DAYLIGHT
BEGIN:STANDARD
TZOFFSETFROM:-0500
TZOFFSETTO:-0600
TZNAME:CST
DTSTART:20321107T070000
END:STANDARD
END:VTIMEZONE
BEGIN:VEVENT
DTSTART;TZID=America/Chicago:20310215T080000
DTEND;TZID=America/Chicago:20310215T113000
DTSTAMP:20260422T213932
CREATED:20250407T141743Z
LAST-MODIFIED:20250407T141745Z
UID:10005253-1928908800-1928921400@balsamlakelodge.com
SUMMARY:Breakfast & Bloody Mary Bar
DESCRIPTION:
URL:https://balsamlakelodge.com/events-2/breakfast-bloody-mary-bar-2-2/2031-02-15/
LOCATION:Balsam Lake Lodge Event Venue\, 264 Cty Rd I\, Balsam Lake\, WI\, 54810\, United States
END:VEVENT
BEGIN:VEVENT
DTSTART;TZID=America/Chicago:20310216T080000
DTEND;TZID=America/Chicago:20310216T113000
DTSTAMP:20260422T213932
CREATED:20250407T141743Z
LAST-MODIFIED:20250407T141745Z
UID:10005254-1928995200-1929007800@balsamlakelodge.com
SUMMARY:Breakfast & Bloody Mary Bar
DESCRIPTION:
URL:https://balsamlakelodge.com/events-2/breakfast-bloody-mary-bar-2-2/2031-02-16/
LOCATION:Balsam Lake Lodge Event Venue\, 264 Cty Rd I\, Balsam Lake\, WI\, 54810\, United States
END:VEVENT
BEGIN:VEVENT
DTSTART;TZID=America/Chicago:20310217T180000
DTEND;TZID=America/Chicago:20310217T200000
DTSTAMP:20260422T213932
CREATED:20250311T172607Z
LAST-MODIFIED:20250311T172607Z
UID:10005142-1929117600-1929124800@balsamlakelodge.com
SUMMARY:Monday Night Bingo
DESCRIPTION:
URL:https://balsamlakelodge.com/events-2/monday-night-bingo/2031-02-17/
LOCATION:Balsam Lake Lodge Event Venue\, 264 Cty Rd I\, Balsam Lake\, WI\, 54810\, United States
CATEGORIES:Bingo
END:VEVENT
BEGIN:VEVENT
DTSTART;TZID=America/Chicago:20310222T080000
DTEND;TZID=America/Chicago:20310222T113000
DTSTAMP:20260422T213932
CREATED:20250407T141743Z
LAST-MODIFIED:20250407T141745Z
UID:10005255-1929513600-1929526200@balsamlakelodge.com
SUMMARY:Breakfast & Bloody Mary Bar
DESCRIPTION:
URL:https://balsamlakelodge.com/events-2/breakfast-bloody-mary-bar-2-2/2031-02-22/
LOCATION:Balsam Lake Lodge Event Venue\, 264 Cty Rd I\, Balsam Lake\, WI\, 54810\, United States
END:VEVENT
BEGIN:VEVENT
DTSTART;TZID=America/Chicago:20310223T080000
DTEND;TZID=America/Chicago:20310223T113000
DTSTAMP:20260422T213932
CREATED:20250407T141743Z
LAST-MODIFIED:20250407T141745Z
UID:10005256-1929600000-1929612600@balsamlakelodge.com
SUMMARY:Breakfast & Bloody Mary Bar
DESCRIPTION:
URL:https://balsamlakelodge.com/events-2/breakfast-bloody-mary-bar-2-2/2031-02-23/
LOCATION:Balsam Lake Lodge Event Venue\, 264 Cty Rd I\, Balsam Lake\, WI\, 54810\, United States
END:VEVENT
BEGIN:VEVENT
DTSTART;TZID=America/Chicago:20310224T180000
DTEND;TZID=America/Chicago:20310224T200000
DTSTAMP:20260422T213932
CREATED:20250311T172607Z
LAST-MODIFIED:20250311T172607Z
UID:10005143-1929722400-1929729600@balsamlakelodge.com
SUMMARY:Monday Night Bingo
DESCRIPTION:
URL:https://balsamlakelodge.com/events-2/monday-night-bingo/2031-02-24/
LOCATION:Balsam Lake Lodge Event Venue\, 264 Cty Rd I\, Balsam Lake\, WI\, 54810\, United States
CATEGORIES:Bingo
END:VEVENT
BEGIN:VEVENT
DTSTART;TZID=America/Chicago:20310301T080000
DTEND;TZID=America/Chicago:20310301T113000
DTSTAMP:20260422T213932
CREATED:20250407T141743Z
LAST-MODIFIED:20250407T141745Z
UID:10005257-1930118400-1930131000@balsamlakelodge.com
SUMMARY:Breakfast & Bloody Mary Bar
DESCRIPTION:
URL:https://balsamlakelodge.com/events-2/breakfast-bloody-mary-bar-2-2/2031-03-01/
LOCATION:Balsam Lake Lodge Event Venue\, 264 Cty Rd I\, Balsam Lake\, WI\, 54810\, United States
END:VEVENT
BEGIN:VEVENT
DTSTART;TZID=America/Chicago:20310302T080000
DTEND;TZID=America/Chicago:20310302T113000
DTSTAMP:20260422T213932
CREATED:20250407T141743Z
LAST-MODIFIED:20250407T141745Z
UID:10005258-1930204800-1930217400@balsamlakelodge.com
SUMMARY:Breakfast & Bloody Mary Bar
DESCRIPTION:
URL:https://balsamlakelodge.com/events-2/breakfast-bloody-mary-bar-2-2/2031-03-02/
LOCATION:Balsam Lake Lodge Event Venue\, 264 Cty Rd I\, Balsam Lake\, WI\, 54810\, United States
END:VEVENT
BEGIN:VEVENT
DTSTART;TZID=America/Chicago:20310303T180000
DTEND;TZID=America/Chicago:20310303T200000
DTSTAMP:20260422T213932
CREATED:20250311T172607Z
LAST-MODIFIED:20250311T172607Z
UID:10005144-1930327200-1930334400@balsamlakelodge.com
SUMMARY:Monday Night Bingo
DESCRIPTION:
URL:https://balsamlakelodge.com/events-2/monday-night-bingo/2031-03-03/
LOCATION:Balsam Lake Lodge Event Venue\, 264 Cty Rd I\, Balsam Lake\, WI\, 54810\, United States
CATEGORIES:Bingo
END:VEVENT
BEGIN:VEVENT
DTSTART;TZID=America/Chicago:20310308T080000
DTEND;TZID=America/Chicago:20310308T113000
DTSTAMP:20260422T213932
CREATED:20250407T141743Z
LAST-MODIFIED:20250407T141745Z
UID:10005259-1930723200-1930735800@balsamlakelodge.com
SUMMARY:Breakfast & Bloody Mary Bar
DESCRIPTION:
URL:https://balsamlakelodge.com/events-2/breakfast-bloody-mary-bar-2-2/2031-03-08/
LOCATION:Balsam Lake Lodge Event Venue\, 264 Cty Rd I\, Balsam Lake\, WI\, 54810\, United States
END:VEVENT
BEGIN:VEVENT
DTSTART;TZID=America/Chicago:20310309T080000
DTEND;TZID=America/Chicago:20310309T113000
DTSTAMP:20260422T213932
CREATED:20250407T141743Z
LAST-MODIFIED:20250407T141745Z
UID:10005260-1930809600-1930822200@balsamlakelodge.com
SUMMARY:Breakfast & Bloody Mary Bar
DESCRIPTION:
URL:https://balsamlakelodge.com/events-2/breakfast-bloody-mary-bar-2-2/2031-03-09/
LOCATION:Balsam Lake Lodge Event Venue\, 264 Cty Rd I\, Balsam Lake\, WI\, 54810\, United States
END:VEVENT
BEGIN:VEVENT
DTSTART;TZID=America/Chicago:20310310T180000
DTEND;TZID=America/Chicago:20310310T200000
DTSTAMP:20260422T213932
CREATED:20250311T172607Z
LAST-MODIFIED:20250311T172607Z
UID:10005145-1930932000-1930939200@balsamlakelodge.com
SUMMARY:Monday Night Bingo
DESCRIPTION:
URL:https://balsamlakelodge.com/events-2/monday-night-bingo/2031-03-10/
LOCATION:Balsam Lake Lodge Event Venue\, 264 Cty Rd I\, Balsam Lake\, WI\, 54810\, United States
CATEGORIES:Bingo
END:VEVENT
BEGIN:VEVENT
DTSTART;TZID=America/Chicago:20310315T080000
DTEND;TZID=America/Chicago:20310315T113000
DTSTAMP:20260422T213932
CREATED:20250407T141743Z
LAST-MODIFIED:20250407T141745Z
UID:10005261-1931328000-1931340600@balsamlakelodge.com
SUMMARY:Breakfast & Bloody Mary Bar
DESCRIPTION:
URL:https://balsamlakelodge.com/events-2/breakfast-bloody-mary-bar-2-2/2031-03-15/
LOCATION:Balsam Lake Lodge Event Venue\, 264 Cty Rd I\, Balsam Lake\, WI\, 54810\, United States
END:VEVENT
BEGIN:VEVENT
DTSTART;TZID=America/Chicago:20310316T080000
DTEND;TZID=America/Chicago:20310316T113000
DTSTAMP:20260422T213932
CREATED:20250407T141743Z
LAST-MODIFIED:20250407T141745Z
UID:10005262-1931414400-1931427000@balsamlakelodge.com
SUMMARY:Breakfast & Bloody Mary Bar
DESCRIPTION:
URL:https://balsamlakelodge.com/events-2/breakfast-bloody-mary-bar-2-2/2031-03-16/
LOCATION:Balsam Lake Lodge Event Venue\, 264 Cty Rd I\, Balsam Lake\, WI\, 54810\, United States
END:VEVENT
BEGIN:VEVENT
DTSTART;TZID=America/Chicago:20310317T180000
DTEND;TZID=America/Chicago:20310317T200000
DTSTAMP:20260422T213932
CREATED:20250311T172607Z
LAST-MODIFIED:20250311T172607Z
UID:10005146-1931536800-1931544000@balsamlakelodge.com
SUMMARY:Monday Night Bingo
DESCRIPTION:
URL:https://balsamlakelodge.com/events-2/monday-night-bingo/2031-03-17/
LOCATION:Balsam Lake Lodge Event Venue\, 264 Cty Rd I\, Balsam Lake\, WI\, 54810\, United States
CATEGORIES:Bingo
END:VEVENT
BEGIN:VEVENT
DTSTART;TZID=America/Chicago:20310322T080000
DTEND;TZID=America/Chicago:20310322T113000
DTSTAMP:20260422T213932
CREATED:20250407T141743Z
LAST-MODIFIED:20250407T141745Z
UID:10005263-1931932800-1931945400@balsamlakelodge.com
SUMMARY:Breakfast & Bloody Mary Bar
DESCRIPTION:
URL:https://balsamlakelodge.com/events-2/breakfast-bloody-mary-bar-2-2/2031-03-22/
LOCATION:Balsam Lake Lodge Event Venue\, 264 Cty Rd I\, Balsam Lake\, WI\, 54810\, United States
END:VEVENT
BEGIN:VEVENT
DTSTART;TZID=America/Chicago:20310323T080000
DTEND;TZID=America/Chicago:20310323T113000
DTSTAMP:20260422T213932
CREATED:20250407T141743Z
LAST-MODIFIED:20250407T141745Z
UID:10005264-1932019200-1932031800@balsamlakelodge.com
SUMMARY:Breakfast & Bloody Mary Bar
DESCRIPTION:
URL:https://balsamlakelodge.com/events-2/breakfast-bloody-mary-bar-2-2/2031-03-23/
LOCATION:Balsam Lake Lodge Event Venue\, 264 Cty Rd I\, Balsam Lake\, WI\, 54810\, United States
END:VEVENT
BEGIN:VEVENT
DTSTART;TZID=America/Chicago:20310324T180000
DTEND;TZID=America/Chicago:20310324T200000
DTSTAMP:20260422T213932
CREATED:20250311T172607Z
LAST-MODIFIED:20250311T172607Z
UID:10005162-1932141600-1932148800@balsamlakelodge.com
SUMMARY:Monday Night Bingo
DESCRIPTION:
URL:https://balsamlakelodge.com/events-2/monday-night-bingo/2031-03-24/
LOCATION:Balsam Lake Lodge Event Venue\, 264 Cty Rd I\, Balsam Lake\, WI\, 54810\, United States
CATEGORIES:Bingo
END:VEVENT
BEGIN:VEVENT
DTSTART;TZID=America/Chicago:20310329T080000
DTEND;TZID=America/Chicago:20310329T113000
DTSTAMP:20260422T213932
CREATED:20250407T141743Z
LAST-MODIFIED:20250407T141745Z
UID:10005265-1932537600-1932550200@balsamlakelodge.com
SUMMARY:Breakfast & Bloody Mary Bar
DESCRIPTION:
URL:https://balsamlakelodge.com/events-2/breakfast-bloody-mary-bar-2-2/2031-03-29/
LOCATION:Balsam Lake Lodge Event Venue\, 264 Cty Rd I\, Balsam Lake\, WI\, 54810\, United States
END:VEVENT
BEGIN:VEVENT
DTSTART;TZID=America/Chicago:20310330T080000
DTEND;TZID=America/Chicago:20310330T113000
DTSTAMP:20260422T213932
CREATED:20250407T141743Z
LAST-MODIFIED:20250407T141745Z
UID:10005266-1932624000-1932636600@balsamlakelodge.com
SUMMARY:Breakfast & Bloody Mary Bar
DESCRIPTION:
URL:https://balsamlakelodge.com/events-2/breakfast-bloody-mary-bar-2-2/2031-03-30/
LOCATION:Balsam Lake Lodge Event Venue\, 264 Cty Rd I\, Balsam Lake\, WI\, 54810\, United States
END:VEVENT
BEGIN:VEVENT
DTSTART;TZID=America/Chicago:20310331T180000
DTEND;TZID=America/Chicago:20310331T200000
DTSTAMP:20260422T213932
CREATED:20250311T172607Z
LAST-MODIFIED:20250311T172607Z
UID:10005163-1932746400-1932753600@balsamlakelodge.com
SUMMARY:Monday Night Bingo
DESCRIPTION:
URL:https://balsamlakelodge.com/events-2/monday-night-bingo/2031-03-31/
LOCATION:Balsam Lake Lodge Event Venue\, 264 Cty Rd I\, Balsam Lake\, WI\, 54810\, United States
CATEGORIES:Bingo
END:VEVENT
BEGIN:VEVENT
DTSTART;TZID=America/Chicago:20310405T080000
DTEND;TZID=America/Chicago:20310405T113000
DTSTAMP:20260422T213932
CREATED:20250407T141743Z
LAST-MODIFIED:20250407T141745Z
UID:10005267-1933142400-1933155000@balsamlakelodge.com
SUMMARY:Breakfast & Bloody Mary Bar
DESCRIPTION:
URL:https://balsamlakelodge.com/events-2/breakfast-bloody-mary-bar-2-2/2031-04-05/
LOCATION:Balsam Lake Lodge Event Venue\, 264 Cty Rd I\, Balsam Lake\, WI\, 54810\, United States
END:VEVENT
BEGIN:VEVENT
DTSTART;TZID=America/Chicago:20310406T080000
DTEND;TZID=America/Chicago:20310406T113000
DTSTAMP:20260422T213932
CREATED:20250407T141743Z
LAST-MODIFIED:20250407T141745Z
UID:10005268-1933228800-1933241400@balsamlakelodge.com
SUMMARY:Breakfast & Bloody Mary Bar
DESCRIPTION:
URL:https://balsamlakelodge.com/events-2/breakfast-bloody-mary-bar-2-2/2031-04-06/
LOCATION:Balsam Lake Lodge Event Venue\, 264 Cty Rd I\, Balsam Lake\, WI\, 54810\, United States
END:VEVENT
BEGIN:VEVENT
DTSTART;TZID=America/Chicago:20310407T180000
DTEND;TZID=America/Chicago:20310407T200000
DTSTAMP:20260422T213932
CREATED:20250311T172607Z
LAST-MODIFIED:20250311T172607Z
UID:10005164-1933351200-1933358400@balsamlakelodge.com
SUMMARY:Monday Night Bingo
DESCRIPTION:
URL:https://balsamlakelodge.com/events-2/monday-night-bingo/2031-04-07/
LOCATION:Balsam Lake Lodge Event Venue\, 264 Cty Rd I\, Balsam Lake\, WI\, 54810\, United States
CATEGORIES:Bingo
END:VEVENT
BEGIN:VEVENT
DTSTART;TZID=America/Chicago:20310412T080000
DTEND;TZID=America/Chicago:20310412T113000
DTSTAMP:20260422T213932
CREATED:20250407T141743Z
LAST-MODIFIED:20250407T141745Z
UID:10005269-1933747200-1933759800@balsamlakelodge.com
SUMMARY:Breakfast & Bloody Mary Bar
DESCRIPTION:
URL:https://balsamlakelodge.com/events-2/breakfast-bloody-mary-bar-2-2/2031-04-12/
LOCATION:Balsam Lake Lodge Event Venue\, 264 Cty Rd I\, Balsam Lake\, WI\, 54810\, United States
END:VEVENT
BEGIN:VEVENT
DTSTART;TZID=America/Chicago:20310413T080000
DTEND;TZID=America/Chicago:20310413T113000
DTSTAMP:20260422T213932
CREATED:20250407T141743Z
LAST-MODIFIED:20250407T141745Z
UID:10005270-1933833600-1933846200@balsamlakelodge.com
SUMMARY:Breakfast & Bloody Mary Bar
DESCRIPTION:
URL:https://balsamlakelodge.com/events-2/breakfast-bloody-mary-bar-2-2/2031-04-13/
LOCATION:Balsam Lake Lodge Event Venue\, 264 Cty Rd I\, Balsam Lake\, WI\, 54810\, United States
END:VEVENT
BEGIN:VEVENT
DTSTART;TZID=America/Chicago:20310414T180000
DTEND;TZID=America/Chicago:20310414T200000
DTSTAMP:20260422T213932
CREATED:20250311T172607Z
LAST-MODIFIED:20250311T172607Z
UID:10005271-1933956000-1933963200@balsamlakelodge.com
SUMMARY:Monday Night Bingo
DESCRIPTION:
URL:https://balsamlakelodge.com/events-2/monday-night-bingo/2031-04-14/
LOCATION:Balsam Lake Lodge Event Venue\, 264 Cty Rd I\, Balsam Lake\, WI\, 54810\, United States
CATEGORIES:Bingo
END:VEVENT
BEGIN:VEVENT
DTSTART;TZID=America/Chicago:20310419T080000
DTEND;TZID=America/Chicago:20310419T113000
DTSTAMP:20260422T213932
CREATED:20250407T141743Z
LAST-MODIFIED:20250407T141745Z
UID:10005281-1934352000-1934364600@balsamlakelodge.com
SUMMARY:Breakfast & Bloody Mary Bar
DESCRIPTION:
URL:https://balsamlakelodge.com/events-2/breakfast-bloody-mary-bar-2-2/2031-04-19/
LOCATION:Balsam Lake Lodge Event Venue\, 264 Cty Rd I\, Balsam Lake\, WI\, 54810\, United States
END:VEVENT
BEGIN:VEVENT
DTSTART;TZID=America/Chicago:20310420T080000
DTEND;TZID=America/Chicago:20310420T113000
DTSTAMP:20260422T213932
CREATED:20250407T141743Z
LAST-MODIFIED:20250407T141745Z
UID:10005282-1934438400-1934451000@balsamlakelodge.com
SUMMARY:Breakfast & Bloody Mary Bar
DESCRIPTION:
URL:https://balsamlakelodge.com/events-2/breakfast-bloody-mary-bar-2-2/2031-04-20/
LOCATION:Balsam Lake Lodge Event Venue\, 264 Cty Rd I\, Balsam Lake\, WI\, 54810\, United States
END:VEVENT
BEGIN:VEVENT
DTSTART;TZID=America/Chicago:20310421T180000
DTEND;TZID=America/Chicago:20310421T200000
DTSTAMP:20260422T213932
CREATED:20250311T172607Z
LAST-MODIFIED:20250311T172607Z
UID:10005283-1934560800-1934568000@balsamlakelodge.com
SUMMARY:Monday Night Bingo
DESCRIPTION:
URL:https://balsamlakelodge.com/events-2/monday-night-bingo/2031-04-21/
LOCATION:Balsam Lake Lodge Event Venue\, 264 Cty Rd I\, Balsam Lake\, WI\, 54810\, United States
CATEGORIES:Bingo
END:VEVENT
END:VCALENDAR