BEGIN:VCALENDAR
VERSION:2.0
PRODID:-//Balsam Lake Lodge - ECPv6.15.20//NONSGML v1.0//EN
CALSCALE:GREGORIAN
METHOD:PUBLISH
X-WR-CALNAME:Balsam Lake Lodge
X-ORIGINAL-URL:https://balsamlakelodge.com
X-WR-CALDESC:Events for Balsam Lake Lodge
REFRESH-INTERVAL;VALUE=DURATION:PT1H
X-Robots-Tag:noindex
X-PUBLISHED-TTL:PT1H
BEGIN:VTIMEZONE
TZID:America/Chicago
BEGIN:DAYLIGHT
TZOFFSETFROM:-0600
TZOFFSETTO:-0500
TZNAME:CDT
DTSTART:20240310T080000
END:DAYLIGHT
BEGIN:STANDARD
TZOFFSETFROM:-0500
TZOFFSETTO:-0600
TZNAME:CST
DTSTART:20241103T070000
END:STANDARD
BEGIN:DAYLIGHT
TZOFFSETFROM:-0600
TZOFFSETTO:-0500
TZNAME:CDT
DTSTART:20250309T080000
END:DAYLIGHT
BEGIN:STANDARD
TZOFFSETFROM:-0500
TZOFFSETTO:-0600
TZNAME:CST
DTSTART:20251102T070000
END:STANDARD
BEGIN:DAYLIGHT
TZOFFSETFROM:-0600
TZOFFSETTO:-0500
TZNAME:CDT
DTSTART:20260308T080000
END:DAYLIGHT
BEGIN:STANDARD
TZOFFSETFROM:-0500
TZOFFSETTO:-0600
TZNAME:CST
DTSTART:20261101T070000
END:STANDARD
END:VTIMEZONE
BEGIN:VEVENT
DTSTART;TZID=America/Chicago:20251010T183000
DTEND;TZID=America/Chicago:20251010T200000
DTSTAMP:20260420T002004
CREATED:20250827T205656Z
LAST-MODIFIED:20250827T205859Z
UID:10004761-1760121000-1760126400@balsamlakelodge.com
SUMMARY:Tequila Pairing Dinner
DESCRIPTION:Book Your Tequila Pairing Dinner at Balsam Lake Lodge & Restaurant on Resy
URL:https://balsamlakelodge.com/events-2/tequila-pairing-dinner/
LOCATION:Balsam Lake Lodge Event Venue\, 264 Cty Rd I\, Balsam Lake\, WI\, 54810\, United States
CATEGORIES:Special Event
END:VEVENT
BEGIN:VEVENT
DTSTART;TZID=America/Chicago:20251010T190000
DTEND;TZID=America/Chicago:20251010T220000
DTSTAMP:20260420T002004
CREATED:20250812T174530Z
LAST-MODIFIED:20250812T174530Z
UID:10004745-1760122800-1760133600@balsamlakelodge.com
SUMMARY:Live Music Fridays - The Studebakers
DESCRIPTION:
URL:https://balsamlakelodge.com/events-2/live-music-fridays-the-studebakers/
LOCATION:Balsam Lake Lodge Event Venue\, 264 Cty Rd I\, Balsam Lake\, WI\, 54810\, United States
END:VEVENT
BEGIN:VEVENT
DTSTART;TZID=America/Chicago:20251011T080000
DTEND;TZID=America/Chicago:20251011T113000
DTSTAMP:20260420T002004
CREATED:20250407T141743Z
LAST-MODIFIED:20250407T141745Z
UID:10001379-1760169600-1760182200@balsamlakelodge.com
SUMMARY:Breakfast & Bloody Mary Bar
DESCRIPTION:
URL:https://balsamlakelodge.com/events-2/breakfast-bloody-mary-bar-2-2/2025-10-11/
LOCATION:Balsam Lake Lodge Event Venue\, 264 Cty Rd I\, Balsam Lake\, WI\, 54810\, United States
END:VEVENT
BEGIN:VEVENT
DTSTART;TZID=America/Chicago:20251012T080000
DTEND;TZID=America/Chicago:20251012T113000
DTSTAMP:20260420T002004
CREATED:20250407T141743Z
LAST-MODIFIED:20250407T141745Z
UID:10001380-1760256000-1760268600@balsamlakelodge.com
SUMMARY:Breakfast & Bloody Mary Bar
DESCRIPTION:
URL:https://balsamlakelodge.com/events-2/breakfast-bloody-mary-bar-2-2/2025-10-12/
LOCATION:Balsam Lake Lodge Event Venue\, 264 Cty Rd I\, Balsam Lake\, WI\, 54810\, United States
END:VEVENT
BEGIN:VEVENT
DTSTART;TZID=America/Chicago:20251012T120000
DTEND;TZID=America/Chicago:20251012T120000
DTSTAMP:20260420T002004
CREATED:20250825T164232Z
LAST-MODIFIED:20250825T164247Z
UID:10004753-1760270400-1760270400@balsamlakelodge.com
SUMMARY:Charity Meat Raffle
DESCRIPTION:
URL:https://balsamlakelodge.com/events-2/charity-meat-raffle-7/
LOCATION:Balsam Lake Lodge Event Venue\, 264 Cty Rd I\, Balsam Lake\, WI\, 54810\, United States
END:VEVENT
BEGIN:VEVENT
DTSTART;TZID=America/Chicago:20251013T180000
DTEND;TZID=America/Chicago:20251013T200000
DTSTAMP:20260420T002004
CREATED:20250311T172607Z
LAST-MODIFIED:20250311T172607Z
UID:10004415-1760378400-1760385600@balsamlakelodge.com
SUMMARY:Monday Night Bingo
DESCRIPTION:
URL:https://balsamlakelodge.com/events-2/monday-night-bingo/2025-10-13/
LOCATION:Balsam Lake Lodge Event Venue\, 264 Cty Rd I\, Balsam Lake\, WI\, 54810\, United States
CATEGORIES:Bingo
END:VEVENT
BEGIN:VEVENT
DTSTART;TZID=America/Chicago:20251017T190000
DTEND;TZID=America/Chicago:20251017T220000
DTSTAMP:20260420T002004
CREATED:20250825T164508Z
LAST-MODIFIED:20250825T164508Z
UID:10004756-1760727600-1760738400@balsamlakelodge.com
SUMMARY:Live Music Fridays - Allison Dyg
DESCRIPTION:
URL:https://balsamlakelodge.com/events-2/live-music-fridays-allison-dyg/
LOCATION:Balsam Lake Lodge Event Venue\, 264 Cty Rd I\, Balsam Lake\, WI\, 54810\, United States
CATEGORIES:Music
END:VEVENT
BEGIN:VEVENT
DTSTART;TZID=America/Chicago:20251018T080000
DTEND;TZID=America/Chicago:20251018T113000
DTSTAMP:20260420T002004
CREATED:20250407T141743Z
LAST-MODIFIED:20250407T141745Z
UID:10001381-1760774400-1760787000@balsamlakelodge.com
SUMMARY:Breakfast & Bloody Mary Bar
DESCRIPTION:
URL:https://balsamlakelodge.com/events-2/breakfast-bloody-mary-bar-2-2/2025-10-18/
LOCATION:Balsam Lake Lodge Event Venue\, 264 Cty Rd I\, Balsam Lake\, WI\, 54810\, United States
END:VEVENT
BEGIN:VEVENT
DTSTART;TZID=America/Chicago:20251019T080000
DTEND;TZID=America/Chicago:20251019T113000
DTSTAMP:20260420T002004
CREATED:20250407T141743Z
LAST-MODIFIED:20250407T141745Z
UID:10001382-1760860800-1760873400@balsamlakelodge.com
SUMMARY:Breakfast & Bloody Mary Bar
DESCRIPTION:
URL:https://balsamlakelodge.com/events-2/breakfast-bloody-mary-bar-2-2/2025-10-19/
LOCATION:Balsam Lake Lodge Event Venue\, 264 Cty Rd I\, Balsam Lake\, WI\, 54810\, United States
END:VEVENT
BEGIN:VEVENT
DTSTART;TZID=America/Chicago:20251019T120000
DTEND;TZID=America/Chicago:20251019T120000
DTSTAMP:20260420T002004
CREATED:20250825T164306Z
LAST-MODIFIED:20250825T164322Z
UID:10004754-1760875200-1760875200@balsamlakelodge.com
SUMMARY:Charity Meat Raffle
DESCRIPTION:
URL:https://balsamlakelodge.com/events-2/charity-meat-raffle-8/
LOCATION:Balsam Lake Lodge Event Venue\, 264 Cty Rd I\, Balsam Lake\, WI\, 54810\, United States
END:VEVENT
BEGIN:VEVENT
DTSTART;TZID=America/Chicago:20251020T180000
DTEND;TZID=America/Chicago:20251020T200000
DTSTAMP:20260420T002004
CREATED:20250311T172607Z
LAST-MODIFIED:20250311T172607Z
UID:10004416-1760983200-1760990400@balsamlakelodge.com
SUMMARY:Monday Night Bingo
DESCRIPTION:
URL:https://balsamlakelodge.com/events-2/monday-night-bingo/2025-10-20/
LOCATION:Balsam Lake Lodge Event Venue\, 264 Cty Rd I\, Balsam Lake\, WI\, 54810\, United States
CATEGORIES:Bingo
END:VEVENT
BEGIN:VEVENT
DTSTART;TZID=America/Chicago:20251024T190000
DTEND;TZID=America/Chicago:20251024T220000
DTSTAMP:20260420T002004
CREATED:20250825T164604Z
LAST-MODIFIED:20251017T175713Z
UID:10004757-1761332400-1761343200@balsamlakelodge.com
SUMMARY:Live Music Fridays - Doug Wright
DESCRIPTION:
URL:https://balsamlakelodge.com/events-2/live-music-fridays-october-24th/
LOCATION:Balsam Lake Lodge Event Venue\, 264 Cty Rd I\, Balsam Lake\, WI\, 54810\, United States
CATEGORIES:Music
END:VEVENT
BEGIN:VEVENT
DTSTART;TZID=America/Chicago:20251025T080000
DTEND;TZID=America/Chicago:20251025T113000
DTSTAMP:20260420T002004
CREATED:20250407T141743Z
LAST-MODIFIED:20250407T141745Z
UID:10001383-1761379200-1761391800@balsamlakelodge.com
SUMMARY:Breakfast & Bloody Mary Bar
DESCRIPTION:
URL:https://balsamlakelodge.com/events-2/breakfast-bloody-mary-bar-2-2/2025-10-25/
LOCATION:Balsam Lake Lodge Event Venue\, 264 Cty Rd I\, Balsam Lake\, WI\, 54810\, United States
END:VEVENT
BEGIN:VEVENT
DTSTART;TZID=America/Chicago:20251026T080000
DTEND;TZID=America/Chicago:20251026T113000
DTSTAMP:20260420T002004
CREATED:20250407T141743Z
LAST-MODIFIED:20250407T141745Z
UID:10001384-1761465600-1761478200@balsamlakelodge.com
SUMMARY:Breakfast & Bloody Mary Bar
DESCRIPTION:
URL:https://balsamlakelodge.com/events-2/breakfast-bloody-mary-bar-2-2/2025-10-26/
LOCATION:Balsam Lake Lodge Event Venue\, 264 Cty Rd I\, Balsam Lake\, WI\, 54810\, United States
END:VEVENT
BEGIN:VEVENT
DTSTART;TZID=America/Chicago:20251026T120000
DTEND;TZID=America/Chicago:20251026T120000
DTSTAMP:20260420T002004
CREATED:20250825T164400Z
LAST-MODIFIED:20250825T164407Z
UID:10004755-1761480000-1761480000@balsamlakelodge.com
SUMMARY:Charity Meat Raffle
DESCRIPTION:
URL:https://balsamlakelodge.com/events-2/charity-meat-raffle-9/
LOCATION:Balsam Lake Lodge Event Venue\, 264 Cty Rd I\, Balsam Lake\, WI\, 54810\, United States
END:VEVENT
BEGIN:VEVENT
DTSTART;TZID=America/Chicago:20251027T180000
DTEND;TZID=America/Chicago:20251027T180000
DTSTAMP:20260420T002004
CREATED:20250825T164646Z
LAST-MODIFIED:20250825T164652Z
UID:10004758-1761588000-1761588000@balsamlakelodge.com
SUMMARY:Halloween Themed Bingo
DESCRIPTION:
URL:https://balsamlakelodge.com/events-2/halloween-themed-bingo-2/
LOCATION:Balsam Lake Lodge Event Venue\, 264 Cty Rd I\, Balsam Lake\, WI\, 54810\, United States
CATEGORIES:Bingo
END:VEVENT
BEGIN:VEVENT
DTSTART;TZID=America/Chicago:20251027T180000
DTEND;TZID=America/Chicago:20251027T200000
DTSTAMP:20260420T002004
CREATED:20250311T172607Z
LAST-MODIFIED:20250311T172607Z
UID:10004417-1761588000-1761595200@balsamlakelodge.com
SUMMARY:Monday Night Bingo
DESCRIPTION:
URL:https://balsamlakelodge.com/events-2/monday-night-bingo/2025-10-27/
LOCATION:Balsam Lake Lodge Event Venue\, 264 Cty Rd I\, Balsam Lake\, WI\, 54810\, United States
CATEGORIES:Bingo
END:VEVENT
BEGIN:VEVENT
DTSTART;TZID=America/Chicago:20251031T190000
DTEND;TZID=America/Chicago:20251031T220000
DTSTAMP:20260420T002004
CREATED:20250825T164817Z
LAST-MODIFIED:20250825T164817Z
UID:10004760-1761937200-1761948000@balsamlakelodge.com
SUMMARY:Live Music Fridays - The Studebakers
DESCRIPTION:
URL:https://balsamlakelodge.com/events-2/live-music-fridays-the-studebakers-2/
LOCATION:Balsam Lake Lodge Event Venue\, 264 Cty Rd I\, Balsam Lake\, WI\, 54810\, United States
CATEGORIES:Music
END:VEVENT
BEGIN:VEVENT
DTSTART;TZID=America/Chicago:20251101T080000
DTEND;TZID=America/Chicago:20251101T113000
DTSTAMP:20260420T002004
CREATED:20250407T141743Z
LAST-MODIFIED:20250407T141745Z
UID:10001385-1761984000-1761996600@balsamlakelodge.com
SUMMARY:Breakfast & Bloody Mary Bar
DESCRIPTION:
URL:https://balsamlakelodge.com/events-2/breakfast-bloody-mary-bar-2-2/2025-11-01/
LOCATION:Balsam Lake Lodge Event Venue\, 264 Cty Rd I\, Balsam Lake\, WI\, 54810\, United States
END:VEVENT
BEGIN:VEVENT
DTSTART;TZID=America/Chicago:20251102T080000
DTEND;TZID=America/Chicago:20251102T113000
DTSTAMP:20260420T002004
CREATED:20250407T141743Z
LAST-MODIFIED:20250407T141745Z
UID:10001386-1762070400-1762083000@balsamlakelodge.com
SUMMARY:Breakfast & Bloody Mary Bar
DESCRIPTION:
URL:https://balsamlakelodge.com/events-2/breakfast-bloody-mary-bar-2-2/2025-11-02/
LOCATION:Balsam Lake Lodge Event Venue\, 264 Cty Rd I\, Balsam Lake\, WI\, 54810\, United States
END:VEVENT
BEGIN:VEVENT
DTSTART;TZID=America/Chicago:20251103T180000
DTEND;TZID=America/Chicago:20251103T200000
DTSTAMP:20260420T002004
CREATED:20250311T172607Z
LAST-MODIFIED:20250311T172607Z
UID:10004418-1762192800-1762200000@balsamlakelodge.com
SUMMARY:Monday Night Bingo
DESCRIPTION:
URL:https://balsamlakelodge.com/events-2/monday-night-bingo/2025-11-03/
LOCATION:Balsam Lake Lodge Event Venue\, 264 Cty Rd I\, Balsam Lake\, WI\, 54810\, United States
CATEGORIES:Bingo
END:VEVENT
BEGIN:VEVENT
DTSTART;TZID=America/Chicago:20251107T190000
DTEND;TZID=America/Chicago:20251107T220000
DTSTAMP:20260420T002004
CREATED:20250923T194445Z
LAST-MODIFIED:20250923T194445Z
UID:10004762-1762542000-1762552800@balsamlakelodge.com
SUMMARY:Live Music Fridays - Austin Hamack 7-10pm
DESCRIPTION:
URL:https://balsamlakelodge.com/events-2/live-music-fridays-austin-hamack-7-10pm/
LOCATION:Balsam Lake Lodge Event Venue\, 264 Cty Rd I\, Balsam Lake\, WI\, 54810\, United States
END:VEVENT
BEGIN:VEVENT
DTSTART;TZID=America/Chicago:20251108T080000
DTEND;TZID=America/Chicago:20251108T113000
DTSTAMP:20260420T002004
CREATED:20250407T141743Z
LAST-MODIFIED:20250407T141745Z
UID:10001387-1762588800-1762601400@balsamlakelodge.com
SUMMARY:Breakfast & Bloody Mary Bar
DESCRIPTION:
URL:https://balsamlakelodge.com/events-2/breakfast-bloody-mary-bar-2-2/2025-11-08/
LOCATION:Balsam Lake Lodge Event Venue\, 264 Cty Rd I\, Balsam Lake\, WI\, 54810\, United States
END:VEVENT
BEGIN:VEVENT
DTSTART;TZID=America/Chicago:20251109T080000
DTEND;TZID=America/Chicago:20251109T113000
DTSTAMP:20260420T002004
CREATED:20250407T141743Z
LAST-MODIFIED:20250407T141745Z
UID:10001388-1762675200-1762687800@balsamlakelodge.com
SUMMARY:Breakfast & Bloody Mary Bar
DESCRIPTION:
URL:https://balsamlakelodge.com/events-2/breakfast-bloody-mary-bar-2-2/2025-11-09/
LOCATION:Balsam Lake Lodge Event Venue\, 264 Cty Rd I\, Balsam Lake\, WI\, 54810\, United States
END:VEVENT
BEGIN:VEVENT
DTSTART;TZID=America/Chicago:20251110T180000
DTEND;TZID=America/Chicago:20251110T200000
DTSTAMP:20260420T002004
CREATED:20250311T172607Z
LAST-MODIFIED:20250311T172607Z
UID:10004419-1762797600-1762804800@balsamlakelodge.com
SUMMARY:Monday Night Bingo
DESCRIPTION:
URL:https://balsamlakelodge.com/events-2/monday-night-bingo/2025-11-10/
LOCATION:Balsam Lake Lodge Event Venue\, 264 Cty Rd I\, Balsam Lake\, WI\, 54810\, United States
CATEGORIES:Bingo
END:VEVENT
BEGIN:VEVENT
DTSTART;TZID=America/Chicago:20251114T000000
DTEND;TZID=America/Chicago:20251114T000000
DTSTAMP:20260420T002004
CREATED:20250923T194600Z
LAST-MODIFIED:20251017T193434Z
UID:10004763-1763078400-1763078400@balsamlakelodge.com
SUMMARY:Christmas Pop Up Grand Opening
DESCRIPTION:
URL:https://balsamlakelodge.com/events-2/christmas-pop-up-grand-opening/
LOCATION:Balsam Lake Lodge Event Venue\, 264 Cty Rd I\, Balsam Lake\, WI\, 54810\, United States
CATEGORIES:Special Event
END:VEVENT
BEGIN:VEVENT
DTSTART;TZID=America/Chicago:20251114T190000
DTEND;TZID=America/Chicago:20251114T220000
DTSTAMP:20260420T002004
CREATED:20250923T194743Z
LAST-MODIFIED:20250923T194743Z
UID:10004764-1763146800-1763157600@balsamlakelodge.com
SUMMARY:Live Music Fridays - Matt Glenna 7-10pm
DESCRIPTION:
URL:https://balsamlakelodge.com/events-2/live-music-fridays-matt-glenna-7-10pm/
LOCATION:Balsam Lake Lodge Event Venue\, 264 Cty Rd I\, Balsam Lake\, WI\, 54810\, United States
CATEGORIES:Music
END:VEVENT
BEGIN:VEVENT
DTSTART;TZID=America/Chicago:20251115T080000
DTEND;TZID=America/Chicago:20251115T113000
DTSTAMP:20260420T002004
CREATED:20250407T141743Z
LAST-MODIFIED:20250407T141745Z
UID:10001389-1763193600-1763206200@balsamlakelodge.com
SUMMARY:Breakfast & Bloody Mary Bar
DESCRIPTION:
URL:https://balsamlakelodge.com/events-2/breakfast-bloody-mary-bar-2-2/2025-11-15/
LOCATION:Balsam Lake Lodge Event Venue\, 264 Cty Rd I\, Balsam Lake\, WI\, 54810\, United States
END:VEVENT
BEGIN:VEVENT
DTSTART;TZID=America/Chicago:20251115T200000
DTEND;TZID=America/Chicago:20251115T213000
DTSTAMP:20260420T002004
CREATED:20250923T194900Z
LAST-MODIFIED:20250923T194900Z
UID:10004765-1763236800-1763242200@balsamlakelodge.com
SUMMARY:11/15 Comedy Night 8-9:30pm
DESCRIPTION:
URL:https://balsamlakelodge.com/events-2/11-15-comedy-night-8-930pm/
LOCATION:Balsam Lake Lodge Event Venue\, 264 Cty Rd I\, Balsam Lake\, WI\, 54810\, United States
CATEGORIES:Special Event
END:VEVENT
BEGIN:VEVENT
DTSTART;TZID=America/Chicago:20251116T080000
DTEND;TZID=America/Chicago:20251116T113000
DTSTAMP:20260420T002004
CREATED:20250407T141743Z
LAST-MODIFIED:20250407T141745Z
UID:10001390-1763280000-1763292600@balsamlakelodge.com
SUMMARY:Breakfast & Bloody Mary Bar
DESCRIPTION:
URL:https://balsamlakelodge.com/events-2/breakfast-bloody-mary-bar-2-2/2025-11-16/
LOCATION:Balsam Lake Lodge Event Venue\, 264 Cty Rd I\, Balsam Lake\, WI\, 54810\, United States
END:VEVENT
END:VCALENDAR