BEGIN:VCALENDAR
VERSION:2.0
PRODID:-//Balsam Lake Lodge - ECPv6.15.20//NONSGML v1.0//EN
CALSCALE:GREGORIAN
METHOD:PUBLISH
X-ORIGINAL-URL:https://balsamlakelodge.com
X-WR-CALDESC:Events for Balsam Lake Lodge
REFRESH-INTERVAL;VALUE=DURATION:PT1H
X-Robots-Tag:noindex
X-PUBLISHED-TTL:PT1H
BEGIN:VTIMEZONE
TZID:America/Chicago
BEGIN:DAYLIGHT
TZOFFSETFROM:-0600
TZOFFSETTO:-0500
TZNAME:CDT
DTSTART:20240310T080000
END:DAYLIGHT
BEGIN:STANDARD
TZOFFSETFROM:-0500
TZOFFSETTO:-0600
TZNAME:CST
DTSTART:20241103T070000
END:STANDARD
BEGIN:DAYLIGHT
TZOFFSETFROM:-0600
TZOFFSETTO:-0500
TZNAME:CDT
DTSTART:20250309T080000
END:DAYLIGHT
BEGIN:STANDARD
TZOFFSETFROM:-0500
TZOFFSETTO:-0600
TZNAME:CST
DTSTART:20251102T070000
END:STANDARD
BEGIN:DAYLIGHT
TZOFFSETFROM:-0600
TZOFFSETTO:-0500
TZNAME:CDT
DTSTART:20260308T080000
END:DAYLIGHT
BEGIN:STANDARD
TZOFFSETFROM:-0500
TZOFFSETTO:-0600
TZNAME:CST
DTSTART:20261101T070000
END:STANDARD
BEGIN:DAYLIGHT
TZOFFSETFROM:-0600
TZOFFSETTO:-0500
TZNAME:CDT
DTSTART:20270314T080000
END:DAYLIGHT
BEGIN:STANDARD
TZOFFSETFROM:-0500
TZOFFSETTO:-0600
TZNAME:CST
DTSTART:20271107T070000
END:STANDARD
END:VTIMEZONE
BEGIN:VEVENT
DTSTART;TZID=America/Chicago:20251231T180000
DTEND;TZID=America/Chicago:20251231T210000
DTSTAMP:20260420T003115
CREATED:20251002T083659Z
LAST-MODIFIED:20251002T083709Z
UID:10004782-1767204000-1767214800@balsamlakelodge.com
SUMMARY:Live Music - Austin Hamack
DESCRIPTION:
URL:https://balsamlakelodge.com/events-2/live-music-austin-hamack/
LOCATION:Balsam Lake Lodge Event Venue\, 264 Cty Rd I\, Balsam Lake\, WI\, 54810\, United States
CATEGORIES:Music
END:VEVENT
BEGIN:VEVENT
DTSTART;TZID=America/Chicago:20260101T080000
DTEND;TZID=America/Chicago:20260101T140000
DTSTAMP:20260420T003115
CREATED:20251026T113505Z
LAST-MODIFIED:20251209T084725Z
UID:10004789-1767254400-1767276000@balsamlakelodge.com
SUMMARY:Breakfast & Ultimate Bloody Mary Bar
DESCRIPTION:
URL:https://balsamlakelodge.com/events-2/breakfast-ultimate-bloody-mary-bar/
LOCATION:Balsam Lake Lodge Event Venue\, 264 Cty Rd I\, Balsam Lake\, WI\, 54810\, United States
END:VEVENT
BEGIN:VEVENT
DTSTART;TZID=America/Chicago:20260101T170000
DTEND;TZID=America/Chicago:20260101T183000
DTSTAMP:20260420T003115
CREATED:20251026T113538Z
LAST-MODIFIED:20251209T085013Z
UID:10004790-1767286800-1767292200@balsamlakelodge.com
SUMMARY:Pajama Themed Bingo
DESCRIPTION:
URL:https://balsamlakelodge.com/events-2/pajama-themed-bingo/
LOCATION:Balsam Lake Lodge Event Venue\, 264 Cty Rd I\, Balsam Lake\, WI\, 54810\, United States
END:VEVENT
BEGIN:VEVENT
DTSTART;TZID=America/Chicago:20260101T183000
DTEND;TZID=America/Chicago:20260101T193000
DTSTAMP:20260420T003115
CREATED:20251209T085612Z
LAST-MODIFIED:20251209T085612Z
UID:10004818-1767292200-1767295800@balsamlakelodge.com
SUMMARY:Eagle Brook Church Viewing Service
DESCRIPTION:
URL:https://balsamlakelodge.com/events-2/eagle-brook-church-viewing-service/2026-01-01/
LOCATION:Balsam Lake Lodge Event Venue\, 264 Cty Rd I\, Balsam Lake\, WI\, 54810\, United States
END:VEVENT
BEGIN:VEVENT
DTSTART;TZID=America/Chicago:20260102T190000
DTEND;TZID=America/Chicago:20260102T220000
DTSTAMP:20260420T003115
CREATED:20251026T113725Z
LAST-MODIFIED:20251026T113725Z
UID:10004791-1767380400-1767391200@balsamlakelodge.com
SUMMARY:Live Music Fridays Hofft
DESCRIPTION:
URL:https://balsamlakelodge.com/events-2/live-music-fridays-hofft/
LOCATION:Balsam Lake Lodge Event Venue\, 264 Cty Rd I\, Balsam Lake\, WI\, 54810\, United States
END:VEVENT
BEGIN:VEVENT
DTSTART;TZID=America/Chicago:20260103T080000
DTEND;TZID=America/Chicago:20260103T113000
DTSTAMP:20260420T003115
CREATED:20250407T141743Z
LAST-MODIFIED:20250407T141745Z
UID:10001403-1767427200-1767439800@balsamlakelodge.com
SUMMARY:Breakfast & Bloody Mary Bar
DESCRIPTION:
URL:https://balsamlakelodge.com/events-2/breakfast-bloody-mary-bar-2-2/2026-01-03/
LOCATION:Balsam Lake Lodge Event Venue\, 264 Cty Rd I\, Balsam Lake\, WI\, 54810\, United States
END:VEVENT
BEGIN:VEVENT
DTSTART;TZID=America/Chicago:20260104T080000
DTEND;TZID=America/Chicago:20260104T113000
DTSTAMP:20260420T003115
CREATED:20250407T141743Z
LAST-MODIFIED:20250407T141745Z
UID:10001404-1767513600-1767526200@balsamlakelodge.com
SUMMARY:Breakfast & Bloody Mary Bar
DESCRIPTION:
URL:https://balsamlakelodge.com/events-2/breakfast-bloody-mary-bar-2-2/2026-01-04/
LOCATION:Balsam Lake Lodge Event Venue\, 264 Cty Rd I\, Balsam Lake\, WI\, 54810\, United States
END:VEVENT
BEGIN:VEVENT
DTSTART;TZID=America/Chicago:20260105T180000
DTEND;TZID=America/Chicago:20260105T200000
DTSTAMP:20260420T003115
CREATED:20250311T172607Z
LAST-MODIFIED:20250311T172607Z
UID:10004427-1767636000-1767643200@balsamlakelodge.com
SUMMARY:Monday Night Bingo
DESCRIPTION:
URL:https://balsamlakelodge.com/events-2/monday-night-bingo/2026-01-05/
LOCATION:Balsam Lake Lodge Event Venue\, 264 Cty Rd I\, Balsam Lake\, WI\, 54810\, United States
CATEGORIES:Bingo
END:VEVENT
BEGIN:VEVENT
DTSTART;TZID=America/Chicago:20260108T183000
DTEND;TZID=America/Chicago:20260108T193000
DTSTAMP:20260420T003115
CREATED:20251209T085612Z
LAST-MODIFIED:20251209T085612Z
UID:10004819-1767897000-1767900600@balsamlakelodge.com
SUMMARY:Eagle Brook Church Viewing Service
DESCRIPTION:
URL:https://balsamlakelodge.com/events-2/eagle-brook-church-viewing-service/2026-01-08/
LOCATION:Balsam Lake Lodge Event Venue\, 264 Cty Rd I\, Balsam Lake\, WI\, 54810\, United States
END:VEVENT
BEGIN:VEVENT
DTSTART;TZID=America/Chicago:20260109T190000
DTEND;TZID=America/Chicago:20260109T220000
DTSTAMP:20260420T003115
CREATED:20251026T113800Z
LAST-MODIFIED:20251026T113800Z
UID:10004792-1767985200-1767996000@balsamlakelodge.com
SUMMARY:Live Music Fridays Preston Gunderson
DESCRIPTION:
URL:https://balsamlakelodge.com/events-2/live-music-fridays-preston-gunderson/
LOCATION:Balsam Lake Lodge Event Venue\, 264 Cty Rd I\, Balsam Lake\, WI\, 54810\, United States
END:VEVENT
BEGIN:VEVENT
DTSTART;TZID=America/Chicago:20260110T080000
DTEND;TZID=America/Chicago:20260110T113000
DTSTAMP:20260420T003115
CREATED:20250407T141743Z
LAST-MODIFIED:20250407T141745Z
UID:10001405-1768032000-1768044600@balsamlakelodge.com
SUMMARY:Breakfast & Bloody Mary Bar
DESCRIPTION:
URL:https://balsamlakelodge.com/events-2/breakfast-bloody-mary-bar-2-2/2026-01-10/
LOCATION:Balsam Lake Lodge Event Venue\, 264 Cty Rd I\, Balsam Lake\, WI\, 54810\, United States
END:VEVENT
BEGIN:VEVENT
DTSTART;TZID=America/Chicago:20260111T080000
DTEND;TZID=America/Chicago:20260111T113000
DTSTAMP:20260420T003115
CREATED:20250407T141743Z
LAST-MODIFIED:20250407T141745Z
UID:10001406-1768118400-1768131000@balsamlakelodge.com
SUMMARY:Breakfast & Bloody Mary Bar
DESCRIPTION:
URL:https://balsamlakelodge.com/events-2/breakfast-bloody-mary-bar-2-2/2026-01-11/
LOCATION:Balsam Lake Lodge Event Venue\, 264 Cty Rd I\, Balsam Lake\, WI\, 54810\, United States
END:VEVENT
BEGIN:VEVENT
DTSTART;TZID=America/Chicago:20260112T180000
DTEND;TZID=America/Chicago:20260112T200000
DTSTAMP:20260420T003115
CREATED:20250311T172607Z
LAST-MODIFIED:20250311T172607Z
UID:10004428-1768240800-1768248000@balsamlakelodge.com
SUMMARY:Monday Night Bingo
DESCRIPTION:
URL:https://balsamlakelodge.com/events-2/monday-night-bingo/2026-01-12/
LOCATION:Balsam Lake Lodge Event Venue\, 264 Cty Rd I\, Balsam Lake\, WI\, 54810\, United States
CATEGORIES:Bingo
END:VEVENT
BEGIN:VEVENT
DTSTART;TZID=America/Chicago:20260115T183000
DTEND;TZID=America/Chicago:20260115T193000
DTSTAMP:20260420T003115
CREATED:20251209T085612Z
LAST-MODIFIED:20251209T085612Z
UID:10004820-1768501800-1768505400@balsamlakelodge.com
SUMMARY:Eagle Brook Church Viewing Service
DESCRIPTION:
URL:https://balsamlakelodge.com/events-2/eagle-brook-church-viewing-service/2026-01-15/
LOCATION:Balsam Lake Lodge Event Venue\, 264 Cty Rd I\, Balsam Lake\, WI\, 54810\, United States
END:VEVENT
BEGIN:VEVENT
DTSTART;TZID=America/Chicago:20260116T190000
DTEND;TZID=America/Chicago:20260116T220000
DTSTAMP:20260420T003115
CREATED:20251120T080949Z
LAST-MODIFIED:20251120T080949Z
UID:10004794-1768590000-1768600800@balsamlakelodge.com
SUMMARY:Live Music Friday - Josh Lassi
DESCRIPTION:
URL:https://balsamlakelodge.com/events-2/live-music-friday-josh-lassi/
LOCATION:Balsam Lake Lodge Event Venue\, 264 Cty Rd I\, Balsam Lake\, WI\, 54810\, United States
CATEGORIES:Music
END:VEVENT
BEGIN:VEVENT
DTSTART;TZID=America/Chicago:20260117T080000
DTEND;TZID=America/Chicago:20260117T113000
DTSTAMP:20260420T003115
CREATED:20250407T141743Z
LAST-MODIFIED:20250407T141745Z
UID:10001407-1768636800-1768649400@balsamlakelodge.com
SUMMARY:Breakfast & Bloody Mary Bar
DESCRIPTION:
URL:https://balsamlakelodge.com/events-2/breakfast-bloody-mary-bar-2-2/2026-01-17/
LOCATION:Balsam Lake Lodge Event Venue\, 264 Cty Rd I\, Balsam Lake\, WI\, 54810\, United States
END:VEVENT
BEGIN:VEVENT
DTSTART;TZID=America/Chicago:20260117T130000
DTEND;TZID=America/Chicago:20260117T170000
DTSTAMP:20260420T003115
CREATED:20251026T113838Z
LAST-MODIFIED:20260114T172835Z
UID:10004793-1768654800-1768669200@balsamlakelodge.com
SUMMARY:Indoor Fishing Contest
DESCRIPTION:
URL:https://balsamlakelodge.com/events-2/indoor-fishing-contest/
LOCATION:Balsam Lake Lodge Event Venue\, 264 Cty Rd I\, Balsam Lake\, WI\, 54810\, United States
END:VEVENT
BEGIN:VEVENT
DTSTART;TZID=America/Chicago:20260118T080000
DTEND;TZID=America/Chicago:20260118T113000
DTSTAMP:20260420T003115
CREATED:20250407T141743Z
LAST-MODIFIED:20250407T141745Z
UID:10001408-1768723200-1768735800@balsamlakelodge.com
SUMMARY:Breakfast & Bloody Mary Bar
DESCRIPTION:
URL:https://balsamlakelodge.com/events-2/breakfast-bloody-mary-bar-2-2/2026-01-18/
LOCATION:Balsam Lake Lodge Event Venue\, 264 Cty Rd I\, Balsam Lake\, WI\, 54810\, United States
END:VEVENT
BEGIN:VEVENT
DTSTART;TZID=America/Chicago:20260119T180000
DTEND;TZID=America/Chicago:20260119T200000
DTSTAMP:20260420T003115
CREATED:20250311T172607Z
LAST-MODIFIED:20250311T172607Z
UID:10004429-1768845600-1768852800@balsamlakelodge.com
SUMMARY:Monday Night Bingo
DESCRIPTION:
URL:https://balsamlakelodge.com/events-2/monday-night-bingo/2026-01-19/
LOCATION:Balsam Lake Lodge Event Venue\, 264 Cty Rd I\, Balsam Lake\, WI\, 54810\, United States
CATEGORIES:Bingo
END:VEVENT
BEGIN:VEVENT
DTSTART;TZID=America/Chicago:20260122T183000
DTEND;TZID=America/Chicago:20260122T193000
DTSTAMP:20260420T003115
CREATED:20251209T085612Z
LAST-MODIFIED:20251209T085612Z
UID:10004821-1769106600-1769110200@balsamlakelodge.com
SUMMARY:Eagle Brook Church Viewing Service
DESCRIPTION:
URL:https://balsamlakelodge.com/events-2/eagle-brook-church-viewing-service/2026-01-22/
LOCATION:Balsam Lake Lodge Event Venue\, 264 Cty Rd I\, Balsam Lake\, WI\, 54810\, United States
END:VEVENT
BEGIN:VEVENT
DTSTART;TZID=America/Chicago:20260123T190000
DTEND;TZID=America/Chicago:20260123T220000
DTSTAMP:20260420T003115
CREATED:20251120T081153Z
LAST-MODIFIED:20251209T085154Z
UID:10004795-1769194800-1769205600@balsamlakelodge.com
SUMMARY:Live Music Friday- Basic & Boring
DESCRIPTION:
URL:https://balsamlakelodge.com/events-2/live-music-friday-basic-boring/
LOCATION:Balsam Lake Lodge Event Venue\, 264 Cty Rd I\, Balsam Lake\, WI\, 54810\, United States
END:VEVENT
BEGIN:VEVENT
DTSTART;TZID=America/Chicago:20260124T080000
DTEND;TZID=America/Chicago:20260124T113000
DTSTAMP:20260420T003115
CREATED:20250407T141743Z
LAST-MODIFIED:20250407T141745Z
UID:10001409-1769241600-1769254200@balsamlakelodge.com
SUMMARY:Breakfast & Bloody Mary Bar
DESCRIPTION:
URL:https://balsamlakelodge.com/events-2/breakfast-bloody-mary-bar-2-2/2026-01-24/
LOCATION:Balsam Lake Lodge Event Venue\, 264 Cty Rd I\, Balsam Lake\, WI\, 54810\, United States
END:VEVENT
BEGIN:VEVENT
DTSTART;TZID=America/Chicago:20260124T120000
DTEND;TZID=America/Chicago:20260124T150000
DTSTAMP:20260420T003115
CREATED:20251120T081326Z
LAST-MODIFIED:20260114T172532Z
UID:10004796-1769256000-1769266800@balsamlakelodge.com
SUMMARY:Wedding Tasting
DESCRIPTION:
URL:https://balsamlakelodge.com/events-2/wedding-tasting-3/
LOCATION:Balsam Lake Lodge Event Venue\, 264 Cty Rd I\, Balsam Lake\, WI\, 54810\, United States
END:VEVENT
BEGIN:VEVENT
DTSTART;TZID=America/Chicago:20260125T080000
DTEND;TZID=America/Chicago:20260125T113000
DTSTAMP:20260420T003115
CREATED:20250407T141743Z
LAST-MODIFIED:20250407T141745Z
UID:10001410-1769328000-1769340600@balsamlakelodge.com
SUMMARY:Breakfast & Bloody Mary Bar
DESCRIPTION:
URL:https://balsamlakelodge.com/events-2/breakfast-bloody-mary-bar-2-2/2026-01-25/
LOCATION:Balsam Lake Lodge Event Venue\, 264 Cty Rd I\, Balsam Lake\, WI\, 54810\, United States
END:VEVENT
BEGIN:VEVENT
DTSTART;TZID=America/Chicago:20260126T180000
DTEND;TZID=America/Chicago:20260126T200000
DTSTAMP:20260420T003115
CREATED:20250311T172607Z
LAST-MODIFIED:20250311T172607Z
UID:10004430-1769450400-1769457600@balsamlakelodge.com
SUMMARY:Monday Night Bingo
DESCRIPTION:
URL:https://balsamlakelodge.com/events-2/monday-night-bingo/2026-01-26/
LOCATION:Balsam Lake Lodge Event Venue\, 264 Cty Rd I\, Balsam Lake\, WI\, 54810\, United States
CATEGORIES:Bingo
END:VEVENT
BEGIN:VEVENT
DTSTART;TZID=America/Chicago:20260129T183000
DTEND;TZID=America/Chicago:20260129T193000
DTSTAMP:20260420T003115
CREATED:20251209T085612Z
LAST-MODIFIED:20251209T085612Z
UID:10004822-1769711400-1769715000@balsamlakelodge.com
SUMMARY:Eagle Brook Church Viewing Service
DESCRIPTION:
URL:https://balsamlakelodge.com/events-2/eagle-brook-church-viewing-service/2026-01-29/
LOCATION:Balsam Lake Lodge Event Venue\, 264 Cty Rd I\, Balsam Lake\, WI\, 54810\, United States
END:VEVENT
BEGIN:VEVENT
DTSTART;TZID=America/Chicago:20260130T190000
DTEND;TZID=America/Chicago:20260130T220000
DTSTAMP:20260420T003115
CREATED:20251120T081522Z
LAST-MODIFIED:20251120T081522Z
UID:10004797-1769799600-1769810400@balsamlakelodge.com
SUMMARY:Live Music Friday - Anglo and Collins
DESCRIPTION:
URL:https://balsamlakelodge.com/events-2/live-music-friday-anglo-and-collins/
LOCATION:Balsam Lake Lodge Event Venue\, 264 Cty Rd I\, Balsam Lake\, WI\, 54810\, United States
CATEGORIES:Music
END:VEVENT
BEGIN:VEVENT
DTSTART;TZID=America/Chicago:20260131T080000
DTEND;TZID=America/Chicago:20260131T113000
DTSTAMP:20260420T003115
CREATED:20250407T141743Z
LAST-MODIFIED:20250407T141745Z
UID:10001411-1769846400-1769859000@balsamlakelodge.com
SUMMARY:Breakfast & Bloody Mary Bar
DESCRIPTION:
URL:https://balsamlakelodge.com/events-2/breakfast-bloody-mary-bar-2-2/2026-01-31/
LOCATION:Balsam Lake Lodge Event Venue\, 264 Cty Rd I\, Balsam Lake\, WI\, 54810\, United States
END:VEVENT
BEGIN:VEVENT
DTSTART;TZID=America/Chicago:20260201T080000
DTEND;TZID=America/Chicago:20260201T113000
DTSTAMP:20260420T003115
CREATED:20250407T141743Z
LAST-MODIFIED:20250407T141745Z
UID:10001412-1769932800-1769945400@balsamlakelodge.com
SUMMARY:Breakfast & Bloody Mary Bar
DESCRIPTION:
URL:https://balsamlakelodge.com/events-2/breakfast-bloody-mary-bar-2-2/2026-02-01/
LOCATION:Balsam Lake Lodge Event Venue\, 264 Cty Rd I\, Balsam Lake\, WI\, 54810\, United States
END:VEVENT
BEGIN:VEVENT
DTSTART;TZID=America/Chicago:20260202T180000
DTEND;TZID=America/Chicago:20260202T200000
DTSTAMP:20260420T003115
CREATED:20250311T172607Z
LAST-MODIFIED:20250311T172607Z
UID:10004431-1770055200-1770062400@balsamlakelodge.com
SUMMARY:Monday Night Bingo
DESCRIPTION:
URL:https://balsamlakelodge.com/events-2/monday-night-bingo/2026-02-02/
LOCATION:Balsam Lake Lodge Event Venue\, 264 Cty Rd I\, Balsam Lake\, WI\, 54810\, United States
CATEGORIES:Bingo
END:VEVENT
END:VCALENDAR