BEGIN:VCALENDAR
VERSION:2.0
PRODID:-//Balsam Lake Lodge - ECPv6.15.20//NONSGML v1.0//EN
CALSCALE:GREGORIAN
METHOD:PUBLISH
X-WR-CALNAME:Balsam Lake Lodge
X-ORIGINAL-URL:https://balsamlakelodge.com
X-WR-CALDESC:Events for Balsam Lake Lodge
REFRESH-INTERVAL;VALUE=DURATION:PT1H
X-Robots-Tag:noindex
X-PUBLISHED-TTL:PT1H
BEGIN:VTIMEZONE
TZID:America/Chicago
BEGIN:DAYLIGHT
TZOFFSETFROM:-0600
TZOFFSETTO:-0500
TZNAME:CDT
DTSTART:20240310T080000
END:DAYLIGHT
BEGIN:STANDARD
TZOFFSETFROM:-0500
TZOFFSETTO:-0600
TZNAME:CST
DTSTART:20241103T070000
END:STANDARD
BEGIN:DAYLIGHT
TZOFFSETFROM:-0600
TZOFFSETTO:-0500
TZNAME:CDT
DTSTART:20250309T080000
END:DAYLIGHT
BEGIN:STANDARD
TZOFFSETFROM:-0500
TZOFFSETTO:-0600
TZNAME:CST
DTSTART:20251102T070000
END:STANDARD
BEGIN:DAYLIGHT
TZOFFSETFROM:-0600
TZOFFSETTO:-0500
TZNAME:CDT
DTSTART:20260308T080000
END:DAYLIGHT
BEGIN:STANDARD
TZOFFSETFROM:-0500
TZOFFSETTO:-0600
TZNAME:CST
DTSTART:20261101T070000
END:STANDARD
BEGIN:DAYLIGHT
TZOFFSETFROM:-0600
TZOFFSETTO:-0500
TZNAME:CDT
DTSTART:20270314T080000
END:DAYLIGHT
BEGIN:STANDARD
TZOFFSETFROM:-0500
TZOFFSETTO:-0600
TZNAME:CST
DTSTART:20271107T070000
END:STANDARD
END:VTIMEZONE
BEGIN:VEVENT
DTSTART;TZID=America/Chicago:20251129T120000
DTEND;TZID=America/Chicago:20251129T170000
DTSTAMP:20260419T234827
CREATED:20250923T195627Z
LAST-MODIFIED:20250923T195627Z
UID:10004771-1764417600-1764435600@balsamlakelodge.com
SUMMARY:Holiday Bazaar
DESCRIPTION:
URL:https://balsamlakelodge.com/events-2/holiday-bazaar/
LOCATION:Balsam Lake Lodge Event Venue\, 264 Cty Rd I\, Balsam Lake\, WI\, 54810\, United States
CATEGORIES:Special Event
END:VEVENT
BEGIN:VEVENT
DTSTART;TZID=America/Chicago:20251129T120000
DTEND;TZID=America/Chicago:20251129T170000
DTSTAMP:20260419T234827
CREATED:20250923T195727Z
LAST-MODIFIED:20250923T195727Z
UID:10004772-1764417600-1764435600@balsamlakelodge.com
SUMMARY:Cole Thomas Live
DESCRIPTION:
URL:https://balsamlakelodge.com/events-2/cole-thomas-live/
LOCATION:Balsam Lake Lodge Event Venue\, 264 Cty Rd I\, Balsam Lake\, WI\, 54810\, United States
CATEGORIES:Music
END:VEVENT
BEGIN:VEVENT
DTSTART;TZID=America/Chicago:20251129T190000
DTEND;TZID=America/Chicago:20251129T220000
DTSTAMP:20260419T234827
CREATED:20251002T082250Z
LAST-MODIFIED:20251002T082302Z
UID:10004773-1764442800-1764453600@balsamlakelodge.com
SUMMARY:Live Music Fridays - Doug Wright
DESCRIPTION:
URL:https://balsamlakelodge.com/events-2/live-music-fridays-doug-wright/
LOCATION:Balsam Lake Lodge Event Venue\, 264 Cty Rd I\, Balsam Lake\, WI\, 54810\, United States
CATEGORIES:Music
END:VEVENT
BEGIN:VEVENT
DTSTART;TZID=America/Chicago:20251130T080000
DTEND;TZID=America/Chicago:20251130T113000
DTSTAMP:20260419T234827
CREATED:20250407T141743Z
LAST-MODIFIED:20250407T141745Z
UID:10001394-1764489600-1764502200@balsamlakelodge.com
SUMMARY:Breakfast & Bloody Mary Bar
DESCRIPTION:
URL:https://balsamlakelodge.com/events-2/breakfast-bloody-mary-bar-2-2/2025-11-30/
LOCATION:Balsam Lake Lodge Event Venue\, 264 Cty Rd I\, Balsam Lake\, WI\, 54810\, United States
END:VEVENT
BEGIN:VEVENT
DTSTART;TZID=America/Chicago:20251201T180000
DTEND;TZID=America/Chicago:20251201T200000
DTSTAMP:20260419T234827
CREATED:20250311T172607Z
LAST-MODIFIED:20250311T172607Z
UID:10004422-1764612000-1764619200@balsamlakelodge.com
SUMMARY:Monday Night Bingo
DESCRIPTION:
URL:https://balsamlakelodge.com/events-2/monday-night-bingo/2025-12-01/
LOCATION:Balsam Lake Lodge Event Venue\, 264 Cty Rd I\, Balsam Lake\, WI\, 54810\, United States
CATEGORIES:Bingo
END:VEVENT
BEGIN:VEVENT
DTSTART;TZID=America/Chicago:20251205T190000
DTEND;TZID=America/Chicago:20251205T220000
DTSTAMP:20260419T234827
CREATED:20251002T082554Z
LAST-MODIFIED:20251002T082716Z
UID:10004774-1764961200-1764972000@balsamlakelodge.com
SUMMARY:Live Music Fridays - Allison Dyg
DESCRIPTION:
URL:https://balsamlakelodge.com/events-2/live-music-fridays-allison-dyg-2/
LOCATION:Balsam Lake Lodge Event Venue\, 264 Cty Rd I\, Balsam Lake\, WI\, 54810\, United States
CATEGORIES:Music
END:VEVENT
BEGIN:VEVENT
DTSTART;TZID=America/Chicago:20251206T080000
DTEND;TZID=America/Chicago:20251206T113000
DTSTAMP:20260419T234827
CREATED:20250407T141743Z
LAST-MODIFIED:20250407T141745Z
UID:10001395-1765008000-1765020600@balsamlakelodge.com
SUMMARY:Breakfast & Bloody Mary Bar
DESCRIPTION:
URL:https://balsamlakelodge.com/events-2/breakfast-bloody-mary-bar-2-2/2025-12-06/
LOCATION:Balsam Lake Lodge Event Venue\, 264 Cty Rd I\, Balsam Lake\, WI\, 54810\, United States
END:VEVENT
BEGIN:VEVENT
DTSTART;TZID=America/Chicago:20251207T080000
DTEND;TZID=America/Chicago:20251207T113000
DTSTAMP:20260419T234827
CREATED:20250407T141743Z
LAST-MODIFIED:20250407T141745Z
UID:10001396-1765094400-1765107000@balsamlakelodge.com
SUMMARY:Breakfast & Bloody Mary Bar
DESCRIPTION:
URL:https://balsamlakelodge.com/events-2/breakfast-bloody-mary-bar-2-2/2025-12-07/
LOCATION:Balsam Lake Lodge Event Venue\, 264 Cty Rd I\, Balsam Lake\, WI\, 54810\, United States
END:VEVENT
BEGIN:VEVENT
DTSTART;TZID=America/Chicago:20251208T180000
DTEND;TZID=America/Chicago:20251208T200000
DTSTAMP:20260419T234828
CREATED:20250311T172607Z
LAST-MODIFIED:20250311T172607Z
UID:10004423-1765216800-1765224000@balsamlakelodge.com
SUMMARY:Monday Night Bingo
DESCRIPTION:
URL:https://balsamlakelodge.com/events-2/monday-night-bingo/2025-12-08/
LOCATION:Balsam Lake Lodge Event Venue\, 264 Cty Rd I\, Balsam Lake\, WI\, 54810\, United States
CATEGORIES:Bingo
END:VEVENT
BEGIN:VEVENT
DTSTART;TZID=America/Chicago:20251211T183000
DTEND;TZID=America/Chicago:20251211T193000
DTSTAMP:20260419T234828
CREATED:20251209T085612Z
LAST-MODIFIED:20251209T085612Z
UID:10004815-1765477800-1765481400@balsamlakelodge.com
SUMMARY:Eagle Brook Church Viewing Service
DESCRIPTION:
URL:https://balsamlakelodge.com/events-2/eagle-brook-church-viewing-service/2025-12-11/
LOCATION:Balsam Lake Lodge Event Venue\, 264 Cty Rd I\, Balsam Lake\, WI\, 54810\, United States
END:VEVENT
BEGIN:VEVENT
DTSTART;TZID=America/Chicago:20251212T190000
DTEND;TZID=America/Chicago:20251212T220000
DTSTAMP:20260419T234828
CREATED:20251002T082650Z
LAST-MODIFIED:20251002T082700Z
UID:10004775-1765566000-1765576800@balsamlakelodge.com
SUMMARY:Live Music Fridays -  Dave Snyder
DESCRIPTION:
URL:https://balsamlakelodge.com/events-2/live-music-fridays-dave-snyder/
LOCATION:Balsam Lake Lodge Event Venue\, 264 Cty Rd I\, Balsam Lake\, WI\, 54810\, United States
CATEGORIES:Music
END:VEVENT
BEGIN:VEVENT
DTSTART;TZID=America/Chicago:20251213T080000
DTEND;TZID=America/Chicago:20251213T113000
DTSTAMP:20260419T234828
CREATED:20250407T141743Z
LAST-MODIFIED:20250407T141745Z
UID:10001397-1765612800-1765625400@balsamlakelodge.com
SUMMARY:Breakfast & Bloody Mary Bar
DESCRIPTION:
URL:https://balsamlakelodge.com/events-2/breakfast-bloody-mary-bar-2-2/2025-12-13/
LOCATION:Balsam Lake Lodge Event Venue\, 264 Cty Rd I\, Balsam Lake\, WI\, 54810\, United States
END:VEVENT
BEGIN:VEVENT
DTSTART;TZID=America/Chicago:20251213T080000
DTEND;TZID=America/Chicago:20251213T120000
DTSTAMP:20260419T234828
CREATED:20251002T082833Z
LAST-MODIFIED:20251002T082833Z
UID:10004776-1765612800-1765627200@balsamlakelodge.com
SUMMARY:Breakfast with Santa
DESCRIPTION:
URL:https://balsamlakelodge.com/events-2/breakfast-with-santa-2/
LOCATION:Balsam Lake Lodge Event Venue\, 264 Cty Rd I\, Balsam Lake\, WI\, 54810\, United States
END:VEVENT
BEGIN:VEVENT
DTSTART;TZID=America/Chicago:20251213T130000
DTEND;TZID=America/Chicago:20251213T150000
DTSTAMP:20260419T234828
CREATED:20251008T034629Z
LAST-MODIFIED:20251008T034629Z
UID:10004785-1765630800-1765638000@balsamlakelodge.com
SUMMARY:Holiday Paint & Sip
DESCRIPTION:
URL:https://balsamlakelodge.com/events-2/holiday-paint-sip/
LOCATION:Balsam Lake Lodge Event Venue\, 264 Cty Rd I\, Balsam Lake\, WI\, 54810\, United States
END:VEVENT
BEGIN:VEVENT
DTSTART;TZID=America/Chicago:20251214T080000
DTEND;TZID=America/Chicago:20251214T113000
DTSTAMP:20260419T234828
CREATED:20250407T141743Z
LAST-MODIFIED:20250407T141745Z
UID:10001398-1765699200-1765711800@balsamlakelodge.com
SUMMARY:Breakfast & Bloody Mary Bar
DESCRIPTION:
URL:https://balsamlakelodge.com/events-2/breakfast-bloody-mary-bar-2-2/2025-12-14/
LOCATION:Balsam Lake Lodge Event Venue\, 264 Cty Rd I\, Balsam Lake\, WI\, 54810\, United States
END:VEVENT
BEGIN:VEVENT
DTSTART;TZID=America/Chicago:20251215T180000
DTEND;TZID=America/Chicago:20251215T200000
DTSTAMP:20260419T234828
CREATED:20250311T172607Z
LAST-MODIFIED:20250311T172607Z
UID:10004424-1765821600-1765828800@balsamlakelodge.com
SUMMARY:Monday Night Bingo
DESCRIPTION:
URL:https://balsamlakelodge.com/events-2/monday-night-bingo/2025-12-15/
LOCATION:Balsam Lake Lodge Event Venue\, 264 Cty Rd I\, Balsam Lake\, WI\, 54810\, United States
CATEGORIES:Bingo
END:VEVENT
BEGIN:VEVENT
DTSTART;TZID=America/Chicago:20251218T183000
DTEND;TZID=America/Chicago:20251218T193000
DTSTAMP:20260419T234828
CREATED:20251209T085612Z
LAST-MODIFIED:20251209T085612Z
UID:10004816-1766082600-1766086200@balsamlakelodge.com
SUMMARY:Eagle Brook Church Viewing Service
DESCRIPTION:
URL:https://balsamlakelodge.com/events-2/eagle-brook-church-viewing-service/2025-12-18/
LOCATION:Balsam Lake Lodge Event Venue\, 264 Cty Rd I\, Balsam Lake\, WI\, 54810\, United States
END:VEVENT
BEGIN:VEVENT
DTSTART;TZID=America/Chicago:20251219T190000
DTEND;TZID=America/Chicago:20251219T220000
DTSTAMP:20260419T234828
CREATED:20251002T082950Z
LAST-MODIFIED:20251002T082950Z
UID:10004777-1766170800-1766181600@balsamlakelodge.com
SUMMARY:Live Music Fridays -  Matt Glenna
DESCRIPTION:
URL:https://balsamlakelodge.com/events-2/live-music-fridays-matt-glenna-3/
LOCATION:Balsam Lake Lodge Event Venue\, 264 Cty Rd I\, Balsam Lake\, WI\, 54810\, United States
CATEGORIES:Music
END:VEVENT
BEGIN:VEVENT
DTSTART;TZID=America/Chicago:20251220T080000
DTEND;TZID=America/Chicago:20251220T113000
DTSTAMP:20260419T234828
CREATED:20250407T141743Z
LAST-MODIFIED:20250407T141745Z
UID:10001399-1766217600-1766230200@balsamlakelodge.com
SUMMARY:Breakfast & Bloody Mary Bar
DESCRIPTION:
URL:https://balsamlakelodge.com/events-2/breakfast-bloody-mary-bar-2-2/2025-12-20/
LOCATION:Balsam Lake Lodge Event Venue\, 264 Cty Rd I\, Balsam Lake\, WI\, 54810\, United States
END:VEVENT
BEGIN:VEVENT
DTSTART;TZID=America/Chicago:20251220T080000
DTEND;TZID=America/Chicago:20251220T120000
DTSTAMP:20260419T234828
CREATED:20251002T083054Z
LAST-MODIFIED:20251002T083054Z
UID:10004778-1766217600-1766232000@balsamlakelodge.com
SUMMARY:Breakfast with Santa
DESCRIPTION:
URL:https://balsamlakelodge.com/events-2/breakfast-with-santa-3/
LOCATION:Balsam Lake Lodge Event Venue\, 264 Cty Rd I\, Balsam Lake\, WI\, 54810\, United States
END:VEVENT
BEGIN:VEVENT
DTSTART;TZID=America/Chicago:20251221T080000
DTEND;TZID=America/Chicago:20251221T113000
DTSTAMP:20260419T234828
CREATED:20250407T141743Z
LAST-MODIFIED:20250407T141745Z
UID:10001400-1766304000-1766316600@balsamlakelodge.com
SUMMARY:Breakfast & Bloody Mary Bar
DESCRIPTION:
URL:https://balsamlakelodge.com/events-2/breakfast-bloody-mary-bar-2-2/2025-12-21/
LOCATION:Balsam Lake Lodge Event Venue\, 264 Cty Rd I\, Balsam Lake\, WI\, 54810\, United States
END:VEVENT
BEGIN:VEVENT
DTSTART;TZID=America/Chicago:20251221T120000
DTEND;TZID=America/Chicago:20251221T120000
DTSTAMP:20260419T234828
CREATED:20251008T034728Z
LAST-MODIFIED:20251008T034728Z
UID:10004786-1766318400-1766318400@balsamlakelodge.com
SUMMARY:Christmas Pre-Orders Due
DESCRIPTION:
URL:https://balsamlakelodge.com/events-2/christmas-pre-orders-due/
LOCATION:Balsam Lake Lodge Event Venue\, 264 Cty Rd I\, Balsam Lake\, WI\, 54810\, United States
END:VEVENT
BEGIN:VEVENT
DTSTART;VALUE=DATE:20251222
DTEND;VALUE=DATE:20251223
DTSTAMP:20260419T234828
CREATED:20251002T083327Z
LAST-MODIFIED:20251002T083327Z
UID:10004779-1766361600-1766447999@balsamlakelodge.com
SUMMARY:Ugly Christmas Sweater Bingo
DESCRIPTION:
URL:https://balsamlakelodge.com/events-2/ugly-christmas-sweater-bingo/
LOCATION:Balsam Lake Lodge Event Venue\, 264 Cty Rd I\, Balsam Lake\, WI\, 54810\, United States
END:VEVENT
BEGIN:VEVENT
DTSTART;TZID=America/Chicago:20251222T180000
DTEND;TZID=America/Chicago:20251222T200000
DTSTAMP:20260419T234828
CREATED:20250311T172607Z
LAST-MODIFIED:20250311T172607Z
UID:10004425-1766426400-1766433600@balsamlakelodge.com
SUMMARY:Monday Night Bingo
DESCRIPTION:
URL:https://balsamlakelodge.com/events-2/monday-night-bingo/2025-12-22/
LOCATION:Balsam Lake Lodge Event Venue\, 264 Cty Rd I\, Balsam Lake\, WI\, 54810\, United States
CATEGORIES:Bingo
END:VEVENT
BEGIN:VEVENT
DTSTART;TZID=America/Chicago:20251225T183000
DTEND;TZID=America/Chicago:20251225T193000
DTSTAMP:20260419T234828
CREATED:20251209T085612Z
LAST-MODIFIED:20251209T085612Z
UID:10004817-1766687400-1766691000@balsamlakelodge.com
SUMMARY:Eagle Brook Church Viewing Service
DESCRIPTION:
URL:https://balsamlakelodge.com/events-2/eagle-brook-church-viewing-service/2025-12-25/
LOCATION:Balsam Lake Lodge Event Venue\, 264 Cty Rd I\, Balsam Lake\, WI\, 54810\, United States
END:VEVENT
BEGIN:VEVENT
DTSTART;VALUE=DATE:20251226
DTEND;VALUE=DATE:20260102
DTSTAMP:20260419T234828
CREATED:20251002T083552Z
LAST-MODIFIED:20251002T083552Z
UID:10004781-1766707200-1767311999@balsamlakelodge.com
SUMMARY:New Years Eve Menu
DESCRIPTION:
URL:https://balsamlakelodge.com/events-2/new-years-eve-menu/
LOCATION:Balsam Lake Lodge Event Venue\, 264 Cty Rd I\, Balsam Lake\, WI\, 54810\, United States
END:VEVENT
BEGIN:VEVENT
DTSTART;TZID=America/Chicago:20251226T190000
DTEND;TZID=America/Chicago:20251226T220000
DTSTAMP:20260419T234828
CREATED:20251002T083435Z
LAST-MODIFIED:20251002T083435Z
UID:10004780-1766775600-1766786400@balsamlakelodge.com
SUMMARY:Live Music Fridays - Doug Wright
DESCRIPTION:
URL:https://balsamlakelodge.com/events-2/live-music-fridays-doug-wright-2/
LOCATION:Balsam Lake Lodge Event Venue\, 264 Cty Rd I\, Balsam Lake\, WI\, 54810\, United States
CATEGORIES:Music
END:VEVENT
BEGIN:VEVENT
DTSTART;TZID=America/Chicago:20251227T080000
DTEND;TZID=America/Chicago:20251227T113000
DTSTAMP:20260419T234828
CREATED:20250407T141743Z
LAST-MODIFIED:20250407T141745Z
UID:10001401-1766822400-1766835000@balsamlakelodge.com
SUMMARY:Breakfast & Bloody Mary Bar
DESCRIPTION:
URL:https://balsamlakelodge.com/events-2/breakfast-bloody-mary-bar-2-2/2025-12-27/
LOCATION:Balsam Lake Lodge Event Venue\, 264 Cty Rd I\, Balsam Lake\, WI\, 54810\, United States
END:VEVENT
BEGIN:VEVENT
DTSTART;TZID=America/Chicago:20251227T180000
DTEND;TZID=America/Chicago:20251227T200000
DTSTAMP:20260419T234828
CREATED:20251026T113408Z
LAST-MODIFIED:20251026T113605Z
UID:10004788-1766858400-1766865600@balsamlakelodge.com
SUMMARY:Family Feud Event
DESCRIPTION:
URL:https://balsamlakelodge.com/events-2/family-feud-event/
LOCATION:Balsam Lake Lodge Event Venue\, 264 Cty Rd I\, Balsam Lake\, WI\, 54810\, United States
END:VEVENT
BEGIN:VEVENT
DTSTART;TZID=America/Chicago:20251228T080000
DTEND;TZID=America/Chicago:20251228T113000
DTSTAMP:20260419T234828
CREATED:20250407T141743Z
LAST-MODIFIED:20250407T141745Z
UID:10001402-1766908800-1766921400@balsamlakelodge.com
SUMMARY:Breakfast & Bloody Mary Bar
DESCRIPTION:
URL:https://balsamlakelodge.com/events-2/breakfast-bloody-mary-bar-2-2/2025-12-28/
LOCATION:Balsam Lake Lodge Event Venue\, 264 Cty Rd I\, Balsam Lake\, WI\, 54810\, United States
END:VEVENT
END:VCALENDAR