BEGIN:VCALENDAR
VERSION:2.0
PRODID:-//Balsam Lake Lodge - ECPv6.15.20//NONSGML v1.0//EN
CALSCALE:GREGORIAN
METHOD:PUBLISH
X-WR-CALNAME:Balsam Lake Lodge
X-ORIGINAL-URL:https://balsamlakelodge.com
X-WR-CALDESC:Events for Balsam Lake Lodge
REFRESH-INTERVAL;VALUE=DURATION:PT1H
X-Robots-Tag:noindex
X-PUBLISHED-TTL:PT1H
BEGIN:VTIMEZONE
TZID:America/Chicago
BEGIN:DAYLIGHT
TZOFFSETFROM:-0600
TZOFFSETTO:-0500
TZNAME:CDT
DTSTART:20250309T080000
END:DAYLIGHT
BEGIN:STANDARD
TZOFFSETFROM:-0500
TZOFFSETTO:-0600
TZNAME:CST
DTSTART:20251102T070000
END:STANDARD
BEGIN:DAYLIGHT
TZOFFSETFROM:-0600
TZOFFSETTO:-0500
TZNAME:CDT
DTSTART:20260308T080000
END:DAYLIGHT
BEGIN:STANDARD
TZOFFSETFROM:-0500
TZOFFSETTO:-0600
TZNAME:CST
DTSTART:20261101T070000
END:STANDARD
BEGIN:DAYLIGHT
TZOFFSETFROM:-0600
TZOFFSETTO:-0500
TZNAME:CDT
DTSTART:20270314T080000
END:DAYLIGHT
BEGIN:STANDARD
TZOFFSETFROM:-0500
TZOFFSETTO:-0600
TZNAME:CST
DTSTART:20271107T070000
END:STANDARD
END:VTIMEZONE
BEGIN:VEVENT
DTSTART;TZID=America/Chicago:20260308T080000
DTEND;TZID=America/Chicago:20260308T113000
DTSTAMP:20260419T103530
CREATED:20250407T141743Z
LAST-MODIFIED:20250407T141745Z
UID:10001422-1772956800-1772969400@balsamlakelodge.com
SUMMARY:Breakfast & Bloody Mary Bar
DESCRIPTION:
URL:https://balsamlakelodge.com/events-2/breakfast-bloody-mary-bar-2-2/2026-03-08/
LOCATION:Balsam Lake Lodge Event Venue\, 264 Cty Rd I\, Balsam Lake\, WI\, 54810\, United States
END:VEVENT
BEGIN:VEVENT
DTSTART;TZID=America/Chicago:20260309T180000
DTEND;TZID=America/Chicago:20260309T200000
DTSTAMP:20260419T103530
CREATED:20250311T172607Z
LAST-MODIFIED:20250311T172607Z
UID:10004436-1773079200-1773086400@balsamlakelodge.com
SUMMARY:Monday Night Bingo
DESCRIPTION:
URL:https://balsamlakelodge.com/events-2/monday-night-bingo/2026-03-09/
LOCATION:Balsam Lake Lodge Event Venue\, 264 Cty Rd I\, Balsam Lake\, WI\, 54810\, United States
CATEGORIES:Bingo
END:VEVENT
BEGIN:VEVENT
DTSTART;TZID=America/Chicago:20260312T183000
DTEND;TZID=America/Chicago:20260312T193000
DTSTAMP:20260419T103530
CREATED:20251209T085612Z
LAST-MODIFIED:20251209T085612Z
UID:10004828-1773340200-1773343800@balsamlakelodge.com
SUMMARY:Eagle Brook Church Viewing Service
DESCRIPTION:
URL:https://balsamlakelodge.com/events-2/eagle-brook-church-viewing-service/2026-03-12/
LOCATION:Balsam Lake Lodge Event Venue\, 264 Cty Rd I\, Balsam Lake\, WI\, 54810\, United States
END:VEVENT
BEGIN:VEVENT
DTSTART;TZID=America/Chicago:20260314T080000
DTEND;TZID=America/Chicago:20260314T113000
DTSTAMP:20260419T103530
CREATED:20250407T141743Z
LAST-MODIFIED:20250407T141745Z
UID:10001423-1773475200-1773487800@balsamlakelodge.com
SUMMARY:Breakfast & Bloody Mary Bar
DESCRIPTION:
URL:https://balsamlakelodge.com/events-2/breakfast-bloody-mary-bar-2-2/2026-03-14/
LOCATION:Balsam Lake Lodge Event Venue\, 264 Cty Rd I\, Balsam Lake\, WI\, 54810\, United States
END:VEVENT
BEGIN:VEVENT
DTSTART;TZID=America/Chicago:20260314T130000
DTEND;TZID=America/Chicago:20260314T160000
DTSTAMP:20260419T103530
CREATED:20260204T091607Z
LAST-MODIFIED:20260205T120657Z
UID:10005089-1773493200-1773504000@balsamlakelodge.com
SUMMARY:Gun & Purse Bingo
DESCRIPTION:8 Guns | 8 Purses\nPre-Sale book $100 for all 8 rounds with option to purchase another book for $50 the day of the event. \nBonus cards for rounds will vary between $10-$25 depending on the gun & purse for that round. \nIf you would like to pre-order\, order online or in person at Balsam Lake Lodge. \nPre-Sale ends March 1st. Books will be $150 after. \nLive Music with Austin Hamack 1-4pm | Food & Drink Specials | 50/50 Raffle \n\nBook Your Gun & Purse Bingo Event With Balsam Lake Lodge & Restaurant on Resy
URL:https://balsamlakelodge.com/events-2/gun-purse-bingo/
LOCATION:Balsam Lake Lodge Event Venue\, 264 Cty Rd I\, Balsam Lake\, WI\, 54810\, United States
END:VEVENT
BEGIN:VEVENT
DTSTART;TZID=America/Chicago:20260314T190000
DTEND;TZID=America/Chicago:20260314T220000
DTSTAMP:20260419T103530
CREATED:20260114T173607Z
LAST-MODIFIED:20260114T173607Z
UID:10005078-1773514800-1773525600@balsamlakelodge.com
SUMMARY:St. Patty's Day Bash with Carbon Red
DESCRIPTION:
URL:https://balsamlakelodge.com/events-2/st-pattys-day-bash-with-carbon-red/
LOCATION:Balsam Lake Lodge Event Venue\, 264 Cty Rd I\, Balsam Lake\, WI\, 54810\, United States
END:VEVENT
END:VCALENDAR